From mboxrd@z Thu Jan 1 00:00:00 1970 Return-Path: Received: from mails.dpdk.org (mails.dpdk.org [217.70.189.124]) by inbox.dpdk.org (Postfix) with ESMTP id 49B4248B16 for ; Sat, 15 Nov 2025 08:52:08 +0100 (CET) Received: from mails.dpdk.org (localhost [127.0.0.1]) by mails.dpdk.org (Postfix) with ESMTP id 41472400D6; Sat, 15 Nov 2025 08:52:08 +0100 (CET) Received: from mail-pj1-f98.google.com (mail-pj1-f98.google.com [209.85.216.98]) by mails.dpdk.org (Postfix) with ESMTP id 0EFC7400D6 for ; Sat, 15 Nov 2025 08:52:07 +0100 (CET) Received: by mail-pj1-f98.google.com with SMTP id 98e67ed59e1d1-343514c7854so2423359a91.1 for ; Fri, 14 Nov 2025 23:52:06 -0800 (PST) DKIM-Signature: v=1; a=rsa-sha256; c=relaxed/relaxed; d=iol.unh.edu; s=unh-iol; t=1763193126; x=1763797926; darn=dpdk.org; h=references:in-reply-to:cc:to:from:subject:message-id:date:from:to :cc:subject:date:message-id:reply-to; bh=JmMr7ZSct4s++hTk1+HF7FqrFOIau2IUnYN1nuuZQ6M=; b=AYrX+mZ/L/37c7fHRo9GN+iBxI5maHKngd8uvWkd0B4eqwBRomXpWgBwGr5jwmGPnI ZUkusw4Y/jP75770speQeWZhOVprPD8U5igIC390dqjHCzlPp13GScugiIKJZnS0vDC7 NRypvNk8IFhUSNhWzrDNKs9OAb6maXA/uU7Kk= X-Google-DKIM-Signature: v=1; a=rsa-sha256; c=relaxed/relaxed; d=1e100.net; s=20230601; t=1763193126; x=1763797926; h=references:in-reply-to:cc:to:from:subject:message-id:date:x-gm-gg :x-gm-message-state:from:to:cc:subject:date:message-id:reply-to; bh=JmMr7ZSct4s++hTk1+HF7FqrFOIau2IUnYN1nuuZQ6M=; b=bgW9puVeTAcDffeGdCvzbFxgCVBc/UAG75N8hYGMIOI3HAlq/PC7AnUMs4hq2phQt5 2flEei7L7pipU4o6MP2t8x0wpAw+nLR46nNT2FcgCzZAAiUmIJDW5jhgJhORYmA7bXty 9S1azDhdITqOeWVymhudpzZMDUsTlWLyh0GJH52nThv+3/6PzAW/c8YxpQBCSYa/pK14 qymPeAE0qGPPkVYud3S8lYDT2zbNm9WckkWjwrzAeCayoM5zNZm6Sr9ieWrrhmjALlxb KUVm8+5lj2xSU2iAM2BtgQ58MFNqpTWzpKC5KoNZaod2JSd8LvBkIgK4a91U8TLMlUY2 sBAA== X-Gm-Message-State: AOJu0YwmDYJXb2Qmmku95HMMSPjkr+L2d7hlWH9oJLdMHrMWjg/ebpDM S1UcXk5KQIEg6UkyzKKaF/Oy6T1LNBQwy/ekc9+ixKIHihlyQh5yFVAiFeCqGNSVCQLL1N+/2OS ysALcTwFG6QJNg1zVOpfUkGZ5I2034/GAfWY+v+y20Iyc X-Gm-Gg: ASbGncvquqCRCGmlvHHCXyfmjs3brLXLrlAEmg/LfWH1dUE2kWJ0pYAFHczYJESpxkm R07GgTRQUz1rfIOYyJH8FKOlC90eJMKS6IEbgcHiKSiy48DTiIR8bwqgl00qqmjvaLKgPTitTzJ p2yAog4C4PAx7wVXj5gRGW54zn/Rd3MhhCHVD9t1itiJrNpG8qfpKttgw6dUuQAZJRWqJReHh3j ywgZwIF8rf3og2lzBTGuKdn/7KzPwDNymhX4IaN4Wn2oq1A3E82vNQ52rn5UQ/5BmgRwUnSKgQt SAzQCqhsyo4yU56lPW9FihpsTOy/xeQSf3q/ibr4Ph+lzIKe7mJMdu/fASQHtmvDFZAR4qm6sKG KKiegj0a7Rf8rXOvJ9MeolvLOp/2vO5E= X-Google-Smtp-Source: AGHT+IG3itU9o7L3fPI0BKuOF3HbCe4A4DNziRsE4PJ+EYjJHdO0/HlU8pgUg8Z2SATsN85Nowh630e1QyF4 X-Received: by 2002:a17:90b:3b48:b0:343:e692:f8d7 with SMTP id 98e67ed59e1d1-343f9177d7dmr6707701a91.11.1763193126148; Fri, 14 Nov 2025 23:52:06 -0800 (PST) Received: from postal.iol.unh.edu (postal.iol.unh.edu. [132.177.123.84]) by smtp-relay.gmail.com with ESMTPS id 98e67ed59e1d1-343ed4c95d5sm941914a91.2.2025.11.14.23.52.06 (version=TLS1_2 cipher=ECDHE-ECDSA-AES128-GCM-SHA256 bits=128/128); Fri, 14 Nov 2025 23:52:06 -0800 (PST) X-Relaying-Domain: iol.unh.edu Date: Fri, 14 Nov 2025 23:52:06 -0800 (PST) Message-ID: <69183126.170a0220.1a1beb.ec40SMTPIN_ADDED_MISSING@mx.google.com> Received: from [172.21.0.2] (unknown [172.18.0.240]) by postal.iol.unh.edu (Postfix) with ESMTP id 659816051830; Sat, 15 Nov 2025 02:52:05 -0500 (EST) Subject: |SUCCESS| pw158755 [PATCH] [v1] net/axgbe: fix the build warninig fo From: dpdklab@iol.unh.edu To: Test Report Cc: dpdk-test-reports@iol.unh.edu, Stephen Hemminger In-Reply-To: <20251113113055.371-1-VenkatKumar.Ande@amd.com> References: <20251113113055.371-1-VenkatKumar.Ande@amd.com> Content-Type: text/plain X-BeenThere: test-report@dpdk.org X-Mailman-Version: 2.1.29 Precedence: list List-Id: automatic DPDK test reports List-Unsubscribe: , List-Archive: List-Post: List-Help: List-Subscribe: , Errors-To: test-report-bounces@dpdk.org Test-Label: iol-compile-amd64-testing Test-Status: SUCCESS http://dpdk.org/patch/158755 _Testing PASS_ Submitter: Venkat Kumar Ande Date: Thursday, November 13 2025 11:30:55 DPDK git baseline: Repo:dpdk-next-net Branch: master CommitID:29807269854f9bfc72f1323273de8e23adc724d4 158755 --> testing pass Upstream job id: Windows-Compile-DPDK-Native#32367 Test environment and result as below: +-------------------------------+--------------------+------------------+-------------------+-------------------------+ | Environment | dpdk_meson_compile | dpdk_compile_ovs | dpdk_msvc_compile | dpdk_llvm_clang_compile | +===============================+====================+==================+===================+=========================+ | Ubuntu 20.04 | PASS | SKIPPED | SKIPPED | SKIPPED | +-------------------------------+--------------------+------------------+-------------------+-------------------------+ | FreeBSD 14.2 | PASS | SKIPPED | SKIPPED | SKIPPED | +-------------------------------+--------------------+------------------+-------------------+-------------------------+ | CentOS Stream 10 | PASS | SKIPPED | SKIPPED | SKIPPED | +-------------------------------+--------------------+------------------+-------------------+-------------------------+ | CentOS Stream 9 | PASS | SKIPPED | SKIPPED | SKIPPED | +-------------------------------+--------------------+------------------+-------------------+-------------------------+ | Debian GNU/Linux 12 | PASS | SKIPPED | SKIPPED | SKIPPED | +-------------------------------+--------------------+------------------+-------------------+-------------------------+ | Fedora Linux 42 | PASS | PASS | SKIPPED | SKIPPED | +-------------------------------+--------------------+------------------+-------------------+-------------------------+ | openSUSE Leap 15.6 | PASS | SKIPPED | SKIPPED | SKIPPED | +-------------------------------+--------------------+------------------+-------------------+-------------------------+ | Red Hat Enterprise Linux 8.10 | PASS | SKIPPED | SKIPPED | SKIPPED | +-------------------------------+--------------------+------------------+-------------------+-------------------------+ | Red Hat Enterprise Linux 9.5 | PASS | SKIPPED | SKIPPED | SKIPPED | +-------------------------------+--------------------+------------------+-------------------+-------------------------+ | Ubuntu 22.04 | PASS | SKIPPED | SKIPPED | SKIPPED | +-------------------------------+--------------------+------------------+-------------------+-------------------------+ | Ubuntu 24.04 | PASS | PASS | SKIPPED | SKIPPED | +-------------------------------+--------------------+------------------+-------------------+-------------------------+ | Alpine Linux 3.22.0 | PASS | SKIPPED | SKIPPED | SKIPPED | +-------------------------------+--------------------+------------------+-------------------+-------------------------+ | Windows Server 2022 | SKIPPED | SKIPPED | PASS | PASS | +-------------------------------+--------------------+------------------+-------------------+-------------------------+ Ubuntu 20.04 Kernel: 4.19 Compiler: gcc gcc (Ubuntu 9.4.0-1ubuntu1~20.04.2) 9.4.0 FreeBSD 14.2 Kernel: 14.2-RELEASE Compiler: clang 18.1.6 CentOS Stream 10 Kernel: 5.15 Compiler: gcc gcc (GCC) 14.2.1 20250110 (Red Hat 14.2.1-8) CentOS Stream 9 Kernel: 5.15 Compiler: gcc gcc (GCC) 11.5.0 20240719 (Red Hat 11.5.0-11) Debian GNU/Linux 12 Kernel: 5.15 Compiler: gcc gcc (Debian 12.2.0-14+deb12u1) 12.2.0 Fedora Linux 42 Kernel: 5.15 Compiler: clang gcc (GCC) 15.2.1 20250808 (Red Hat 15.2.1-1) openSUSE Leap 15.6 Kernel: 5.15 Compiler: gcc gcc (SUSE Linux) 7.5.0 Red Hat Enterprise Linux 8.10 Kernel: 5.15 Compiler: gcc gcc (GCC) 8.5.0 20210514 (Red Hat 8.5.0-22) Red Hat Enterprise Linux 9.5 Kernel: 5.15 Compiler: gcc gcc (GCC) 11.5.0 20240719 (Red Hat 11.5.0-2) Ubuntu 22.04 Kernel: 5.15 Compiler: gcc gcc (Ubuntu 11.4.0-1ubuntu1~22.04) 11.4.0 Ubuntu 24.04 Kernel: 5.15 Compiler: gcc gcc (Ubuntu 13.3.0-6ubuntu2~24.04) 13.3.0 Alpine Linux 3.22.0 Kernel: 5.15 Compiler: gcc gcc (Alpine 14.2.0) 14.2.0 Windows Server 2022 Kernel: 10.0.20348.2031 Compiler: clang 15.0.7, gcc 14.1.0 (MinGW), and MSVC VS 19.39.33521 To view detailed results, visit: https://lab.dpdk.org/results/dashboard/patchsets/34572/ UNH-IOL DPDK Community Lab To manage your email subscriptions, visit: https://lab.dpdk.org/results/dashboard/preferences/subscriptions/