From mboxrd@z Thu Jan 1 00:00:00 1970 Return-Path: Received: from mails.dpdk.org (mails.dpdk.org [217.70.189.124]) by inbox.dpdk.org (Postfix) with ESMTP id E404648B16 for ; Sat, 15 Nov 2025 08:58:46 +0100 (CET) Received: from mails.dpdk.org (localhost [127.0.0.1]) by mails.dpdk.org (Postfix) with ESMTP id DC14A400D6; Sat, 15 Nov 2025 08:58:46 +0100 (CET) Received: from mail-oa1-f100.google.com (mail-oa1-f100.google.com [209.85.160.100]) by mails.dpdk.org (Postfix) with ESMTP id 368F3400D6 for ; Sat, 15 Nov 2025 08:58:45 +0100 (CET) Received: by mail-oa1-f100.google.com with SMTP id 586e51a60fabf-3d56d0cb3dbso1599415fac.3 for ; Fri, 14 Nov 2025 23:58:45 -0800 (PST) DKIM-Signature: v=1; a=rsa-sha256; c=relaxed/relaxed; d=iol.unh.edu; s=unh-iol; t=1763193524; x=1763798324; darn=dpdk.org; h=references:in-reply-to:cc:to:from:subject:message-id:date:from:to :cc:subject:date:message-id:reply-to; bh=WnOQ2SaZnuUfBWTXOufNDC24n++WMtrgmDxcl4lG0Lk=; b=gz/cRlgjdTedS6pFeHzSAEcmyyM5DUPWiyGvAbORg6KLsfRDz1CSQ7i4mpS/yZtwyP 9Xl+XHqZ3eekcu61j8P1+SZUfqMCc+P5eJ3G5EBxVG7n9lwZCRm/4B+AzdugknLId7eE CqyEyXEO5VlBiWqAxOF8XAD/9ZpT4Q152MIlM= X-Google-DKIM-Signature: v=1; a=rsa-sha256; c=relaxed/relaxed; d=1e100.net; s=20230601; t=1763193524; x=1763798324; h=references:in-reply-to:cc:to:from:subject:message-id:date:x-gm-gg :x-gm-message-state:from:to:cc:subject:date:message-id:reply-to; bh=WnOQ2SaZnuUfBWTXOufNDC24n++WMtrgmDxcl4lG0Lk=; b=tj79aGp10AaAoEgK6HTGTiBBclZ7s4/Wgv8/8bIqNYjWwX7ZzPfYT7V3x307jf1x+d ZThq1doeNDRMMaaEvzozX2opkj4haQ202eTsmUzY2sUp7wIAok7AaOX3fXHnCtpuXBhe t+NTFCSNrAgcssAZ06XBKtzpox31shfkL0XiolN703KvavaMdNLUt2hTNg15NbIzOqVE L6wflOHoliWa9K0Az5bI0MHxrvBoPZoMQpicAkTmcbV7ksjIfKsie5trTLOp3sE7v+Qt nL8/Zd5T+lhIIszeou9JsOO2e3RQ+Xqh2YmkOj3A+WtwPTqtyOKTCntMpFJz1fDBYKrs pDOw== X-Gm-Message-State: AOJu0YxFxt86L4plsYZ4sefnPEPP8tvSSUBK3YZ96IRp38FZ30XvZQIL W505gp3MwBilx/udmfJYq2iejFZa7vtDkxQwK73jwtumLJHYsOeOR44nBZgDEiMzGFh+Fcm/JwT RaYr+9zzGunGf43SSTwNT7v42FEtf5aiCQb88HuEf/Bz1 X-Gm-Gg: ASbGnctbBWUYfovRGbBdkc3wpsBr/V0sv8kM2KeiNmDxD+f0LrXvgT08o+/D6iJpfye huE8bAqtd6MghTvLNvSoLB0O6/U6SzRLTPOVX+aEw1uEzzn4pJxnXVzfh80lsOcv52yS5zQzV3r /idLaEC51vVPemYHDF9uVvAQWX70d7vCIsWMDloIBBlmKXJIjGOhYeOJ6zy20pOiDck/QWy0S5l ouK0CoJqyNBreT8dS0x1iIpqM3Zloo7uzmIv06Bv21NTbhe4l63leVhRoduHuj/t47Ro1GDdAiM o4EZXV8l4Q7ij/vgshCGyz+QmbUTFjhLVJkUOrdX5BRKng5pkdinWA6Rd75CDxZGwrXKEkHnFSY lOzKmom6kSDCycwOh9pZug0DXDPnNhbQ= X-Google-Smtp-Source: AGHT+IFrr3SCf6eWA4w4803aEbDuueluiCZR77SjCo65WM4Bs5BSnoy5mRs7YhwuA/R4ok5K3xPRmWI5PI8w X-Received: by 2002:a05:6870:2b18:b0:3e0:7967:2ef6 with SMTP id 586e51a60fabf-3e86919510fmr2774806fac.50.1763193524236; Fri, 14 Nov 2025 23:58:44 -0800 (PST) Received: from postal.iol.unh.edu (postal.iol.unh.edu. [132.177.123.84]) by smtp-relay.gmail.com with ESMTPS id 586e51a60fabf-3e8522207d3sm671237fac.12.2025.11.14.23.58.44 (version=TLS1_2 cipher=ECDHE-ECDSA-AES128-GCM-SHA256 bits=128/128); Fri, 14 Nov 2025 23:58:44 -0800 (PST) X-Relaying-Domain: iol.unh.edu Date: Fri, 14 Nov 2025 23:58:44 -0800 (PST) Message-ID: <691832b4.050a0220.dc9cb.0ea0SMTPIN_ADDED_MISSING@mx.google.com> Received: from [172.21.0.6] (unknown [172.18.0.240]) by postal.iol.unh.edu (Postfix) with ESMTP id B9D2C6051830; Sat, 15 Nov 2025 02:58:43 -0500 (EST) Subject: |SUCCESS| pw158815 [PATCH] net/qede: remove unused file From: dpdklab@iol.unh.edu To: Test Report Cc: dpdk-test-reports@iol.unh.edu In-Reply-To: <20251114180251.1233757-1-stephen@networkplumber.org> References: <20251114180251.1233757-1-stephen@networkplumber.org> Content-Type: text/plain X-BeenThere: test-report@dpdk.org X-Mailman-Version: 2.1.29 Precedence: list List-Id: automatic DPDK test reports List-Unsubscribe: , List-Archive: List-Post: List-Help: List-Subscribe: , Errors-To: test-report-bounces@dpdk.org Test-Label: iol-compile-amd64-testing Test-Status: SUCCESS http://dpdk.org/patch/158815 _Testing PASS_ Submitter: Stephen Hemminger Date: Friday, November 14 2025 18:02:51 DPDK git baseline: Repo:dpdk-next-net-mrvl Branch: master CommitID:db4c93a4c6e088346c7e6d7e744178295b568461 158815 --> testing pass Upstream job id: Generic-DPDK-Compile-Meson#444663 Test environment and result as below: +-------------------------------+--------------------+-------------------+------------------+ | Environment | dpdk_meson_compile | dpdk_msvc_compile | dpdk_compile_ovs | +===============================+====================+===================+==================+ | Ubuntu 20.04 | PASS | SKIPPED | SKIPPED | +-------------------------------+--------------------+-------------------+------------------+ | FreeBSD 14.2 | PASS | SKIPPED | SKIPPED | +-------------------------------+--------------------+-------------------+------------------+ | Red Hat Enterprise Linux 8.10 | PASS | SKIPPED | SKIPPED | +-------------------------------+--------------------+-------------------+------------------+ | CentOS Stream 9 | PASS | SKIPPED | SKIPPED | +-------------------------------+--------------------+-------------------+------------------+ | Debian GNU/Linux 12 | PASS | SKIPPED | SKIPPED | +-------------------------------+--------------------+-------------------+------------------+ | CentOS Stream 10 | PASS | SKIPPED | SKIPPED | +-------------------------------+--------------------+-------------------+------------------+ | Fedora Linux 42 | PASS | SKIPPED | PASS | +-------------------------------+--------------------+-------------------+------------------+ | openSUSE Leap 15.6 | PASS | SKIPPED | SKIPPED | +-------------------------------+--------------------+-------------------+------------------+ | Red Hat Enterprise Linux 9.5 | PASS | SKIPPED | SKIPPED | +-------------------------------+--------------------+-------------------+------------------+ | Ubuntu 24.04 | PASS | SKIPPED | PASS | +-------------------------------+--------------------+-------------------+------------------+ | Ubuntu 22.04 | PASS | SKIPPED | SKIPPED | +-------------------------------+--------------------+-------------------+------------------+ | Alpine Linux 3.22.0 | PASS | SKIPPED | SKIPPED | +-------------------------------+--------------------+-------------------+------------------+ | Windows Server 2022 | SKIPPED | PASS | SKIPPED | +-------------------------------+--------------------+-------------------+------------------+ Ubuntu 20.04 Kernel: 4.19 Compiler: gcc gcc (Ubuntu 9.4.0-1ubuntu1~20.04.2) 9.4.0 FreeBSD 14.2 Kernel: 14.2-RELEASE Compiler: clang 18.1.6 Red Hat Enterprise Linux 8.10 Kernel: 5.15 Compiler: gcc gcc (GCC) 8.5.0 20210514 (Red Hat 8.5.0-22) CentOS Stream 9 Kernel: 5.15 Compiler: gcc gcc (GCC) 11.5.0 20240719 (Red Hat 11.5.0-11) Debian GNU/Linux 12 Kernel: 5.15 Compiler: gcc gcc (Debian 12.2.0-14+deb12u1) 12.2.0 CentOS Stream 10 Kernel: 5.15 Compiler: gcc gcc (GCC) 14.2.1 20250110 (Red Hat 14.2.1-8) Fedora Linux 42 Kernel: 5.15 Compiler: gcc gcc (GCC) 15.2.1 20250808 (Red Hat 15.2.1-1) openSUSE Leap 15.6 Kernel: 5.15 Compiler: gcc gcc (SUSE Linux) 7.5.0 Red Hat Enterprise Linux 9.5 Kernel: 5.15 Compiler: gcc gcc (GCC) 11.5.0 20240719 (Red Hat 11.5.0-2) Ubuntu 24.04 Kernel: 5.15 Compiler: gcc gcc (Ubuntu 13.3.0-6ubuntu2~24.04) 13.3.0 Ubuntu 22.04 Kernel: 5.15 Compiler: gcc gcc (Ubuntu 11.4.0-1ubuntu1~22.04) 11.4.0 Alpine Linux 3.22.0 Kernel: 5.15 Compiler: gcc gcc (Alpine 14.2.0) 14.2.0 Windows Server 2022 Kernel: 10.0.20348.2031 Compiler: clang 15.0.7, gcc 14.1.0 (MinGW), and MSVC VS 19.39.33521 To view detailed results, visit: https://lab.dpdk.org/results/dashboard/patchsets/34597/ UNH-IOL DPDK Community Lab To manage your email subscriptions, visit: https://lab.dpdk.org/results/dashboard/preferences/subscriptions/