From mboxrd@z Thu Jan 1 00:00:00 1970 Return-Path: Received: from mails.dpdk.org (mails.dpdk.org [217.70.189.124]) by inbox.dpdk.org (Postfix) with ESMTP id 0A7BE48B16 for ; Sat, 15 Nov 2025 08:59:22 +0100 (CET) Received: from mails.dpdk.org (localhost [127.0.0.1]) by mails.dpdk.org (Postfix) with ESMTP id 0557B400D6; Sat, 15 Nov 2025 08:59:22 +0100 (CET) Received: from mail-pl1-f228.google.com (mail-pl1-f228.google.com [209.85.214.228]) by mails.dpdk.org (Postfix) with ESMTP id 1E5EC400D6 for ; Sat, 15 Nov 2025 08:59:21 +0100 (CET) Received: by mail-pl1-f228.google.com with SMTP id d9443c01a7336-29555b384acso28913975ad.1 for ; Fri, 14 Nov 2025 23:59:21 -0800 (PST) DKIM-Signature: v=1; a=rsa-sha256; c=relaxed/relaxed; d=iol.unh.edu; s=unh-iol; t=1763193560; x=1763798360; darn=dpdk.org; h=references:in-reply-to:cc:to:from:subject:message-id:date:from:to :cc:subject:date:message-id:reply-to; bh=ZhTfuVT96TuSuer5Lka97MLt4EDwNkCwh54OIYSqOas=; b=AjnniY5uFZSSLL/gFEPMoH7tYn5z2+GjaV9xbVQ58nMDR4ehGauapOa72ll6FtupB+ sYN2UvrVYtv+7Juvzr11o2y8riaLT9sMzi7VDY4PzNltdvh/Tae1eY4P4t5NxxEPEAsR YSElhwybkYgKqnJPF9qLg8cHIzg9YkT9eXzHE= X-Google-DKIM-Signature: v=1; a=rsa-sha256; c=relaxed/relaxed; d=1e100.net; s=20230601; t=1763193560; x=1763798360; h=references:in-reply-to:cc:to:from:subject:message-id:date:x-gm-gg :x-gm-message-state:from:to:cc:subject:date:message-id:reply-to; bh=ZhTfuVT96TuSuer5Lka97MLt4EDwNkCwh54OIYSqOas=; b=b0A1QSit0wajzbe5Ies54J+1FcwNW/GZvuKMCSW49YR4CSBwTL1Zp/HaX8I/xYUI7R uwYWsufCaZlliu74UArD6bxENl+bua/WtqQEn9nx56gcH879++BOCnqnXs6SmlfrUu6k fHi8JNNFlSWj9jMCX13lgB9OZ46TIGl7Wrot9DReas38JR+d6Xx5Bxu1FElHEubverac 6aSeVSOX9PcOuuKEn8+y9O+R9yLBr7NBVfLOtfceIXs6j4jt1VhQiVggZ0puSWlAQ/zz LNLU8C69eGs9d5XfaJriYN6qkrHl1UWGpXNCISKEZscHtjsc1SCWPOfEMR0f22D+/hR/ 4anQ== X-Gm-Message-State: AOJu0YxV0c/HXBKE3LpS2osdbXg9kV7V5d28OAjvDJEqxzMk8Qtigv3z gkh/EaUG+qL+GAiHjT3J3L4p5L4eXqzuTia8DWMklkICD9eKthGgJb1eDGGMHkmueUNyJXAc7Gv 3or7XlTI3K2ZeAZ/XivjbsCStAfsDpiyr8lpQ03SC4PMMHOIXLTBRBeFpgVey X-Gm-Gg: ASbGnctcULqkHfir56e6/ZMIHOb4s250FX+HzPfWc3Ymuoj6vuIHccOZZTT3WhAkO5t E7uiNYQ7R/+Kxk/BXZPzBs3L8UmAdUabyH+WQ/c2bYrTcj5VHRn3B2JM9KvqZlTCg92nbd/wB06 mxTGT8IfmqCa79PXWp9mUNZ0CErQCUcoKmj4RLNL6ZryKaTBVvkor26uplfcXzsqmlQgcyzZHE7 bY/B0PA4Q+qPvmu+DuPlt7j0PohMpRewjG+kn/3v+ziGhRAAx8gkoZGtiriBiwfD1SCDua670Fd PxnnYw+8e61plKE3UgVrijFJXDguHuGowTYGeVxivfSiBMQXiHo/Mf+CzLgH+hs9HVwv9R/E+mx AA4H3cnQu X-Google-Smtp-Source: AGHT+IE82AvG1uAnyEh/U9U70c/lkh4yTi92zzc05W/x3D4hVoCGisWmjy3JGWad3GoyRUyrPYF7M+pLNeFr X-Received: by 2002:a17:902:e807:b0:295:5668:2f27 with SMTP id d9443c01a7336-2986a6b8779mr52443435ad.9.1763193560254; Fri, 14 Nov 2025 23:59:20 -0800 (PST) Received: from postal.iol.unh.edu (postal.iol.unh.edu. [2606:4100:3880:1234::84]) by smtp-relay.gmail.com with ESMTPS id d9443c01a7336-2985c254302sm7912995ad.29.2025.11.14.23.59.20 (version=TLS1_2 cipher=ECDHE-ECDSA-AES128-GCM-SHA256 bits=128/128); Fri, 14 Nov 2025 23:59:20 -0800 (PST) X-Relaying-Domain: iol.unh.edu Date: Fri, 14 Nov 2025 23:59:20 -0800 (PST) Message-ID: <691832d8.170a0220.2f225c.7d94SMTPIN_ADDED_MISSING@mx.google.com> Received: from [172.21.0.6] (unknown [172.18.0.240]) by postal.iol.unh.edu (Postfix) with ESMTP id A37536051830; Sat, 15 Nov 2025 02:59:19 -0500 (EST) Subject: |SUCCESS| pw158815 [PATCH] net/qede: remove unused file From: dpdklab@iol.unh.edu To: Test Report Cc: dpdk-test-reports@iol.unh.edu In-Reply-To: <20251114180251.1233757-1-stephen@networkplumber.org> References: <20251114180251.1233757-1-stephen@networkplumber.org> Content-Type: text/plain X-BeenThere: test-report@dpdk.org X-Mailman-Version: 2.1.29 Precedence: list List-Id: automatic DPDK test reports List-Unsubscribe: , List-Archive: List-Post: List-Help: List-Subscribe: , Errors-To: test-report-bounces@dpdk.org Test-Label: iol-compile-amd64-testing Test-Status: SUCCESS http://dpdk.org/patch/158815 _Testing PASS_ Submitter: Stephen Hemminger Date: Friday, November 14 2025 18:02:51 DPDK git baseline: Repo:dpdk-next-net-mrvl Branch: master CommitID:db4c93a4c6e088346c7e6d7e744178295b568461 158815 --> testing pass Upstream job id: Generic-DPDK-Compile-Meson#444654 Test environment and result as below: +-------------------------------+--------------------+-------------------+------------------+ | Environment | dpdk_meson_compile | dpdk_msvc_compile | dpdk_compile_ovs | +===============================+====================+===================+==================+ | Ubuntu 20.04 | PASS | SKIPPED | SKIPPED | +-------------------------------+--------------------+-------------------+------------------+ | FreeBSD 14.2 | PASS | SKIPPED | SKIPPED | +-------------------------------+--------------------+-------------------+------------------+ | Red Hat Enterprise Linux 8.10 | PASS | SKIPPED | SKIPPED | +-------------------------------+--------------------+-------------------+------------------+ | CentOS Stream 9 | PASS | SKIPPED | SKIPPED | +-------------------------------+--------------------+-------------------+------------------+ | Debian GNU/Linux 12 | PASS | SKIPPED | SKIPPED | +-------------------------------+--------------------+-------------------+------------------+ | CentOS Stream 10 | PASS | SKIPPED | SKIPPED | +-------------------------------+--------------------+-------------------+------------------+ | Fedora Linux 42 | PASS | SKIPPED | PASS | +-------------------------------+--------------------+-------------------+------------------+ | openSUSE Leap 15.6 | PASS | SKIPPED | SKIPPED | +-------------------------------+--------------------+-------------------+------------------+ | Red Hat Enterprise Linux 9.5 | PASS | SKIPPED | SKIPPED | +-------------------------------+--------------------+-------------------+------------------+ | Ubuntu 24.04 | PASS | SKIPPED | PASS | +-------------------------------+--------------------+-------------------+------------------+ | Ubuntu 22.04 | PASS | SKIPPED | SKIPPED | +-------------------------------+--------------------+-------------------+------------------+ | Alpine Linux 3.22.0 | PASS | SKIPPED | SKIPPED | +-------------------------------+--------------------+-------------------+------------------+ | Windows Server 2022 | SKIPPED | PASS | SKIPPED | +-------------------------------+--------------------+-------------------+------------------+ Ubuntu 20.04 Kernel: 4.19 Compiler: gcc gcc (Ubuntu 9.4.0-1ubuntu1~20.04.2) 9.4.0 FreeBSD 14.2 Kernel: 14.2-RELEASE Compiler: clang 18.1.6 Red Hat Enterprise Linux 8.10 Kernel: 5.15 Compiler: gcc gcc (GCC) 8.5.0 20210514 (Red Hat 8.5.0-22) CentOS Stream 9 Kernel: 5.15 Compiler: gcc gcc (GCC) 11.5.0 20240719 (Red Hat 11.5.0-11) Debian GNU/Linux 12 Kernel: 5.15 Compiler: gcc gcc (Debian 12.2.0-14+deb12u1) 12.2.0 CentOS Stream 10 Kernel: 5.15 Compiler: gcc gcc (GCC) 14.2.1 20250110 (Red Hat 14.2.1-8) Fedora Linux 42 Kernel: 5.15 Compiler: gcc gcc (GCC) 15.2.1 20250808 (Red Hat 15.2.1-1) openSUSE Leap 15.6 Kernel: 5.15 Compiler: gcc gcc (SUSE Linux) 7.5.0 Red Hat Enterprise Linux 9.5 Kernel: 5.15 Compiler: gcc gcc (GCC) 11.5.0 20240719 (Red Hat 11.5.0-2) Ubuntu 24.04 Kernel: 5.15 Compiler: gcc gcc (Ubuntu 13.3.0-6ubuntu2~24.04) 13.3.0 Ubuntu 22.04 Kernel: 5.15 Compiler: gcc gcc (Ubuntu 11.4.0-1ubuntu1~22.04) 11.4.0 Alpine Linux 3.22.0 Kernel: 5.15 Compiler: gcc gcc (Alpine 14.2.0) 14.2.0 Windows Server 2022 Kernel: 10.0.20348.2031 Compiler: clang 15.0.7, gcc 14.1.0 (MinGW), and MSVC VS 19.39.33521 To view detailed results, visit: https://lab.dpdk.org/results/dashboard/patchsets/34597/ UNH-IOL DPDK Community Lab To manage your email subscriptions, visit: https://lab.dpdk.org/results/dashboard/preferences/subscriptions/