From mboxrd@z Thu Jan 1 00:00:00 1970 Return-Path: Received: from mails.dpdk.org (mails.dpdk.org [217.70.189.124]) by inbox.dpdk.org (Postfix) with ESMTP id 221CA48B16 for ; Sat, 15 Nov 2025 08:59:45 +0100 (CET) Received: from mails.dpdk.org (localhost [127.0.0.1]) by mails.dpdk.org (Postfix) with ESMTP id 1DD76400D6; Sat, 15 Nov 2025 08:59:45 +0100 (CET) Received: from mail-io1-f98.google.com (mail-io1-f98.google.com [209.85.166.98]) by mails.dpdk.org (Postfix) with ESMTP id 42364400D6 for ; Sat, 15 Nov 2025 08:59:44 +0100 (CET) Received: by mail-io1-f98.google.com with SMTP id ca18e2360f4ac-948f8fa9451so2103439f.3 for ; Fri, 14 Nov 2025 23:59:44 -0800 (PST) DKIM-Signature: v=1; a=rsa-sha256; c=relaxed/relaxed; d=iol.unh.edu; s=unh-iol; t=1763193583; x=1763798383; darn=dpdk.org; h=references:in-reply-to:cc:to:from:subject:message-id:date:from:to :cc:subject:date:message-id:reply-to; bh=HYuAChWCaR4EBgfBB5afbjy/o0YDQRkVJSo8es4JFzk=; b=JK3OOOFyXAv511rsqT6w81NLzpyV5zK1Zd9yA1/gIHQ86t/rzhw3cZFArS+TrDakhK /1NdXg6L/f6k1/8O+mlNwPrkg6Go8pvQKnLjJsemFc6cKfo/H7NSfZXDmIT7oySObfa5 5UFcch5d2mZtDOpIlptWO3V+bAt9V4TvWOs78= X-Google-DKIM-Signature: v=1; a=rsa-sha256; c=relaxed/relaxed; d=1e100.net; s=20230601; t=1763193583; x=1763798383; h=references:in-reply-to:cc:to:from:subject:message-id:date:x-gm-gg :x-gm-message-state:from:to:cc:subject:date:message-id:reply-to; bh=HYuAChWCaR4EBgfBB5afbjy/o0YDQRkVJSo8es4JFzk=; b=sq4eEOAd9ktZAJUmpxrlf2Uo1K3pZJxxqDw8uTeQSMBX/fQKWyKOU588ds8DRXmjnF iKsD9S8JxK+TsIXIbN1mM7og7Y9kcCUt10eGX/s8Xa6WTrvDi4Hz4seXZAJ24+cO8edT DQi2CBDxtyNML4SOzibJIDyCcXQFfGWw+7pj07k9eoQG6EaRlfYlZPOfdi7ql6C84g8e EUWm8pv9UIE9voRLiXIVXpXzulfzhWWEcxkT1X79I2V9NXEO+hy882j+eQrQ3L7jqjpB o8+/a0FSY8gAN1xkz5rGX3XOA6WbkYB0HLtPlg28tq6Zlam2NDxJDmZ8L2IIne8qIz2o sIQg== X-Gm-Message-State: AOJu0YzHuzaus78IZ5pAdApLTengczUkHGisK3Ss9rVW1+5MN4gNfsEd JaiWYY4xeF/FEk+LmVinEDyohE4ACBCXNIN2fNrDBAhwhJU0JJsUYnCJtdDjOlszZZ9utdaoIte JJlEtqFTcAUGwrRuv6O+yyLwZ4S/lDzkUGhAWYeB9NyxicUn9Z0e4u9cvCSBX X-Gm-Gg: ASbGncvuKoWDaFR1vjXdL8Wi+TmxyAgJXA+oRqefRU4TbOMOXB031cWlyqJtjF3eQcp ExuBEA8YTo2GgsXP972SPMZ1BVEbps5THLviHv7A3iHPF9O+RFVLZomsZxnzSHiGQG/zMO/6P9J 8NPMKQseZ8DsLj44i9tFdWQYUKpNYccpDe+y5CgJdLecvTtsz+nTFtBT78d5UF2t7VTZSw9/W1H 9IDC0R5Rs6Qbq70NC3QCzZAdqBTQgGz2FvkWQtI1j8NWPualmiPeFj/cecEs4BLJyBun0oGV2RW /6kFHRm6jldFhH8WN3nVY/X7C8n8XZZV3E1d3LQCd+EVjKZllbdd5iXmg9EUntHWGe18rZ3U9Uh RCy61JSZg X-Google-Smtp-Source: AGHT+IGFH99SJXijWFaMomYoojSQNLr0MtFRFe7prZq25BWcS4P4swenu9mV4BjNh5ETjW8N99bVkNg4XFCq X-Received: by 2002:a05:6602:6405:b0:948:707f:1421 with SMTP id ca18e2360f4ac-948e0e0bfabmr708017239f.15.1763193583525; Fri, 14 Nov 2025 23:59:43 -0800 (PST) Received: from postal.iol.unh.edu (postal.iol.unh.edu. [2606:4100:3880:1234::84]) by smtp-relay.gmail.com with ESMTPS id 8926c6da1cb9f-5b7bd266587sm378823173.13.2025.11.14.23.59.43 (version=TLS1_2 cipher=ECDHE-ECDSA-AES128-GCM-SHA256 bits=128/128); Fri, 14 Nov 2025 23:59:43 -0800 (PST) X-Relaying-Domain: iol.unh.edu Date: Fri, 14 Nov 2025 23:59:43 -0800 (PST) Message-ID: <691832ef.050a0220.2a2e34.2e41SMTPIN_ADDED_MISSING@mx.google.com> Received: from [172.21.0.10] (unknown [172.18.0.240]) by postal.iol.unh.edu (Postfix) with ESMTP id 191ED6051830; Sat, 15 Nov 2025 02:59:43 -0500 (EST) Subject: |SUCCESS| pw158815 [PATCH] net/qede: remove unused file From: dpdklab@iol.unh.edu To: Test Report Cc: dpdk-test-reports@iol.unh.edu In-Reply-To: <20251114180251.1233757-1-stephen@networkplumber.org> References: <20251114180251.1233757-1-stephen@networkplumber.org> Content-Type: text/plain X-BeenThere: test-report@dpdk.org X-Mailman-Version: 2.1.29 Precedence: list List-Id: automatic DPDK test reports List-Unsubscribe: , List-Archive: List-Post: List-Help: List-Subscribe: , Errors-To: test-report-bounces@dpdk.org Test-Label: iol-compile-amd64-testing Test-Status: SUCCESS http://dpdk.org/patch/158815 _Testing PASS_ Submitter: Stephen Hemminger Date: Friday, November 14 2025 18:02:51 DPDK git baseline: Repo:dpdk-next-net-mrvl Branch: master CommitID:db4c93a4c6e088346c7e6d7e744178295b568461 158815 --> testing pass Upstream job id: Generic-DPDK-Compile-Meson#444665 Test environment and result as below: +-------------------------------+--------------------+-------------------+------------------+ | Environment | dpdk_meson_compile | dpdk_msvc_compile | dpdk_compile_ovs | +===============================+====================+===================+==================+ | Ubuntu 20.04 | PASS | SKIPPED | SKIPPED | +-------------------------------+--------------------+-------------------+------------------+ | FreeBSD 14.2 | PASS | SKIPPED | SKIPPED | +-------------------------------+--------------------+-------------------+------------------+ | Red Hat Enterprise Linux 8.10 | PASS | SKIPPED | SKIPPED | +-------------------------------+--------------------+-------------------+------------------+ | CentOS Stream 9 | PASS | SKIPPED | SKIPPED | +-------------------------------+--------------------+-------------------+------------------+ | Debian GNU/Linux 12 | PASS | SKIPPED | SKIPPED | +-------------------------------+--------------------+-------------------+------------------+ | CentOS Stream 10 | PASS | SKIPPED | SKIPPED | +-------------------------------+--------------------+-------------------+------------------+ | Fedora Linux 42 | PASS | SKIPPED | PASS | +-------------------------------+--------------------+-------------------+------------------+ | openSUSE Leap 15.6 | PASS | SKIPPED | SKIPPED | +-------------------------------+--------------------+-------------------+------------------+ | Red Hat Enterprise Linux 9.5 | PASS | SKIPPED | SKIPPED | +-------------------------------+--------------------+-------------------+------------------+ | Ubuntu 24.04 | PASS | SKIPPED | PASS | +-------------------------------+--------------------+-------------------+------------------+ | Ubuntu 22.04 | PASS | SKIPPED | SKIPPED | +-------------------------------+--------------------+-------------------+------------------+ | Alpine Linux 3.22.0 | PASS | SKIPPED | SKIPPED | +-------------------------------+--------------------+-------------------+------------------+ | Windows Server 2022 | SKIPPED | PASS | SKIPPED | +-------------------------------+--------------------+-------------------+------------------+ Ubuntu 20.04 Kernel: 4.19 Compiler: gcc gcc (Ubuntu 9.4.0-1ubuntu1~20.04.2) 9.4.0 FreeBSD 14.2 Kernel: 14.2-RELEASE Compiler: clang 18.1.6 Red Hat Enterprise Linux 8.10 Kernel: 5.15 Compiler: gcc gcc (GCC) 8.5.0 20210514 (Red Hat 8.5.0-22) CentOS Stream 9 Kernel: 5.15 Compiler: gcc gcc (GCC) 11.5.0 20240719 (Red Hat 11.5.0-11) Debian GNU/Linux 12 Kernel: 5.15 Compiler: gcc gcc (Debian 12.2.0-14+deb12u1) 12.2.0 CentOS Stream 10 Kernel: 5.15 Compiler: gcc gcc (GCC) 14.2.1 20250110 (Red Hat 14.2.1-8) Fedora Linux 42 Kernel: 5.15 Compiler: gcc gcc (GCC) 15.2.1 20250808 (Red Hat 15.2.1-1) openSUSE Leap 15.6 Kernel: 5.15 Compiler: gcc gcc (SUSE Linux) 7.5.0 Red Hat Enterprise Linux 9.5 Kernel: 5.15 Compiler: gcc gcc (GCC) 11.5.0 20240719 (Red Hat 11.5.0-2) Ubuntu 24.04 Kernel: 5.15 Compiler: gcc gcc (Ubuntu 13.3.0-6ubuntu2~24.04) 13.3.0 Ubuntu 22.04 Kernel: 5.15 Compiler: gcc gcc (Ubuntu 11.4.0-1ubuntu1~22.04) 11.4.0 Alpine Linux 3.22.0 Kernel: 5.15 Compiler: gcc gcc (Alpine 14.2.0) 14.2.0 Windows Server 2022 Kernel: 10.0.20348.2031 Compiler: clang 15.0.7, gcc 14.1.0 (MinGW), and MSVC VS 19.39.33521 To view detailed results, visit: https://lab.dpdk.org/results/dashboard/patchsets/34597/ UNH-IOL DPDK Community Lab To manage your email subscriptions, visit: https://lab.dpdk.org/results/dashboard/preferences/subscriptions/