From mboxrd@z Thu Jan 1 00:00:00 1970 Return-Path: Received: from mails.dpdk.org (mails.dpdk.org [217.70.189.124]) by inbox.dpdk.org (Postfix) with ESMTP id 46A4F48B16 for ; Sat, 15 Nov 2025 09:00:28 +0100 (CET) Received: from mails.dpdk.org (localhost [127.0.0.1]) by mails.dpdk.org (Postfix) with ESMTP id 40B6D400D6; Sat, 15 Nov 2025 09:00:28 +0100 (CET) Received: from mail-pj1-f97.google.com (mail-pj1-f97.google.com [209.85.216.97]) by mails.dpdk.org (Postfix) with ESMTP id 5491A400D6 for ; Sat, 15 Nov 2025 09:00:27 +0100 (CET) Received: by mail-pj1-f97.google.com with SMTP id 98e67ed59e1d1-343ff854297so2075495a91.1 for ; Sat, 15 Nov 2025 00:00:27 -0800 (PST) DKIM-Signature: v=1; a=rsa-sha256; c=relaxed/relaxed; d=iol.unh.edu; s=unh-iol; t=1763193626; x=1763798426; darn=dpdk.org; h=references:in-reply-to:cc:to:from:subject:message-id:date:from:to :cc:subject:date:message-id:reply-to; bh=QCbKGDJ3FehTRAzYFRP39/W2CI8M5lLaCkhAyNOG0ME=; b=CvcC/LzBRz9Fit61fYuEzrP+FNzd6MjCShqU4bZepYpHzpTNvMQu2JzOsahxqXxkwK zrrjiIeMlVV2jr4yxAu+9Yh1Bx1A14wzdpVoSahJ5LLu/Uur3zlme+iSAvx7ogro8JzA vCVGv+XhfPRGCfI60YPLfu0dBoYhdw37ZdqYI= X-Google-DKIM-Signature: v=1; a=rsa-sha256; c=relaxed/relaxed; d=1e100.net; s=20230601; t=1763193626; x=1763798426; h=references:in-reply-to:cc:to:from:subject:message-id:date:x-gm-gg :x-gm-message-state:from:to:cc:subject:date:message-id:reply-to; bh=QCbKGDJ3FehTRAzYFRP39/W2CI8M5lLaCkhAyNOG0ME=; b=gXPMMYdAU8GXSUCOXW0zx529zZogr7Q1b+d6+3BaVF7FMVU4j/yxWTmxiU2p60kYJO L/DHJLTi945FgylTPlWiTtGKxBbnWJ6TsT2f8u0bEJFLH0d3hSl9veTk6vsntXSHzswA tl8FzFu8t82qdPWFP4QyVJvAJT1GniqD0JqkDTff1Wn2cgikQZqriD2gEYeRrNQQzxpX lybvNG3VItSy5zHGv16tHbpmkyOut/GDnH1RYeyz+AEX3Pyvg42CIYfs166n+3jaUAJY 3Tc/p5+eAEVrfhXbLeFTSEFNWKzVyxXll08O0tr5H6kdQeCaYRM3ZRi9TCqCOf/KDlJA 7Nbw== X-Gm-Message-State: AOJu0Yy5clqwQ2QHlvd9b+TeVPn4lwt/zw9kBLpM+zT2xndDPh8WaEut gbNngf3b2byI4x9xJ8pQiqv07ekl2hP+v+YDn33aE/ucemkC4iYuQsS5BOkI7qv2Y8elrtVcf7F 2rdWWs4yNyjHs2KATgbw7veSedglfYQtNXlwtplE7Jn0K X-Gm-Gg: ASbGncsy5sVbxuxNE6DHNvpOeMf8ao9dgq859jKmM+dLQ795EV2NJjh26XFU67wEdVa 7mLXWom5t8MHULcQKDFyKYlQuDAGnPJgcC0384mVq/GQrAvCuub/8UNpDVFVjHzMmlfi+VuvejQ e/I/b9fElj2Bn/+IfXOYG4Do5z+iveonigC37fcrjTtwFvkFFXOQDc0hemMFTLXjuWGU/Eib2Pz mBaeDWo4Y6qWLb+uiU///m1N29AQQ2zwS2N1q3YkTHcQdTzphmXCStc8STNXl9n8aHNddWwQugf QVr/0Bos6qIsqIFpXBT5abFfgl2YeclVOn7e2JJXMpkHt1PE2Ymbf4Gz6+xfX0AWvfP6191O9kO Qf2wt1tlA81uOAnakZR8kTgV7WbLYIng= X-Google-Smtp-Source: AGHT+IHsXOrTxU5Ko92tOFwVY7hJZomqVgw4/PDmRe9wUdKw77Wqm8ObT37uhK1uS7ql/cpkeQ+mEKMBV7vg X-Received: by 2002:a17:90b:4c85:b0:32b:623d:ee91 with SMTP id 98e67ed59e1d1-343fa74b1cdmr6629451a91.27.1763193626383; Sat, 15 Nov 2025 00:00:26 -0800 (PST) Received: from postal.iol.unh.edu (postal.iol.unh.edu. [132.177.123.84]) by smtp-relay.gmail.com with ESMTPS id 98e67ed59e1d1-343ed5b06c4sm846598a91.8.2025.11.15.00.00.26 (version=TLS1_2 cipher=ECDHE-ECDSA-AES128-GCM-SHA256 bits=128/128); Sat, 15 Nov 2025 00:00:26 -0800 (PST) X-Relaying-Domain: iol.unh.edu Date: Sat, 15 Nov 2025 00:00:26 -0800 (PST) Message-ID: <6918331a.170a0220.1e1ddb.9663SMTPIN_ADDED_MISSING@mx.google.com> Received: from [172.21.0.16] (unknown [172.18.0.240]) by postal.iol.unh.edu (Postfix) with ESMTP id A09576051830; Sat, 15 Nov 2025 03:00:25 -0500 (EST) Subject: |SUCCESS| pw158816 [PATCH] net/e1000: add check for filter mask rang From: dpdklab@iol.unh.edu To: Test Report Cc: dpdk-test-reports@iol.unh.edu, Bruce Richardson In-Reply-To: <20251114182131.1296580-1-stephen@networkplumber.org> References: <20251114182131.1296580-1-stephen@networkplumber.org> Content-Type: text/plain X-BeenThere: test-report@dpdk.org X-Mailman-Version: 2.1.29 Precedence: list List-Id: automatic DPDK test reports List-Unsubscribe: , List-Archive: List-Post: List-Help: List-Subscribe: , Errors-To: test-report-bounces@dpdk.org Test-Label: iol-compile-amd64-testing Test-Status: SUCCESS http://dpdk.org/patch/158816 _Testing PASS_ Submitter: Stephen Hemminger Date: Friday, November 14 2025 18:21:31 DPDK git baseline: Repo:dpdk-next-net-intel Branch: master CommitID:e5357d609907d504f4705e4899f3dad43cb4b70f 158816 --> testing pass Upstream job id: Generic-DPDK-Compile-Meson#444703 Test environment and result as below: +-------------------------------+--------------------+-------------------+------------------+ | Environment | dpdk_meson_compile | dpdk_msvc_compile | dpdk_compile_ovs | +===============================+====================+===================+==================+ | Ubuntu 20.04 | PASS | SKIPPED | SKIPPED | +-------------------------------+--------------------+-------------------+------------------+ | FreeBSD 14.2 | PASS | SKIPPED | SKIPPED | +-------------------------------+--------------------+-------------------+------------------+ | CentOS Stream 10 | PASS | SKIPPED | SKIPPED | +-------------------------------+--------------------+-------------------+------------------+ | CentOS Stream 9 | PASS | SKIPPED | SKIPPED | +-------------------------------+--------------------+-------------------+------------------+ | Fedora Linux 42 | PASS | SKIPPED | PASS | +-------------------------------+--------------------+-------------------+------------------+ | Debian GNU/Linux 12 | PASS | SKIPPED | SKIPPED | +-------------------------------+--------------------+-------------------+------------------+ | openSUSE Leap 15.6 | PASS | SKIPPED | SKIPPED | +-------------------------------+--------------------+-------------------+------------------+ | Red Hat Enterprise Linux 8.10 | PASS | SKIPPED | SKIPPED | +-------------------------------+--------------------+-------------------+------------------+ | Red Hat Enterprise Linux 9.5 | PASS | SKIPPED | SKIPPED | +-------------------------------+--------------------+-------------------+------------------+ | Ubuntu 24.04 | PASS | SKIPPED | PASS | +-------------------------------+--------------------+-------------------+------------------+ | Ubuntu 22.04 | PASS | SKIPPED | SKIPPED | +-------------------------------+--------------------+-------------------+------------------+ | Alpine Linux 3.22.0 | PASS | SKIPPED | SKIPPED | +-------------------------------+--------------------+-------------------+------------------+ | Windows Server 2022 | SKIPPED | PASS | SKIPPED | +-------------------------------+--------------------+-------------------+------------------+ Ubuntu 20.04 Kernel: 4.19 Compiler: gcc gcc (Ubuntu 9.4.0-1ubuntu1~20.04.2) 9.4.0 FreeBSD 14.2 Kernel: 14.2-RELEASE Compiler: clang 18.1.6 CentOS Stream 10 Kernel: 5.15 Compiler: gcc gcc (GCC) 14.2.1 20250110 (Red Hat 14.2.1-8) CentOS Stream 9 Kernel: 5.15 Compiler: gcc gcc (GCC) 11.5.0 20240719 (Red Hat 11.5.0-11) Fedora Linux 42 Kernel: 5.15 Compiler: clang gcc (GCC) 15.2.1 20250808 (Red Hat 15.2.1-1) Debian GNU/Linux 12 Kernel: 5.15 Compiler: gcc gcc (Debian 12.2.0-14+deb12u1) 12.2.0 openSUSE Leap 15.6 Kernel: 5.15 Compiler: gcc gcc (SUSE Linux) 7.5.0 Red Hat Enterprise Linux 8.10 Kernel: 5.15 Compiler: gcc gcc (GCC) 8.5.0 20210514 (Red Hat 8.5.0-22) Red Hat Enterprise Linux 9.5 Kernel: 5.15 Compiler: gcc gcc (GCC) 11.5.0 20240719 (Red Hat 11.5.0-2) Ubuntu 24.04 Kernel: 5.15 Compiler: gcc gcc (Ubuntu 13.3.0-6ubuntu2~24.04) 13.3.0 Ubuntu 22.04 Kernel: 5.15 Compiler: gcc gcc (Ubuntu 11.4.0-1ubuntu1~22.04) 11.4.0 Alpine Linux 3.22.0 Kernel: 5.15 Compiler: gcc gcc (Alpine 14.2.0) 14.2.0 Windows Server 2022 Kernel: 10.0.20348.2031 Compiler: clang 15.0.7, gcc 14.1.0 (MinGW), and MSVC VS 19.39.33521 To view detailed results, visit: https://lab.dpdk.org/results/dashboard/patchsets/34598/ UNH-IOL DPDK Community Lab To manage your email subscriptions, visit: https://lab.dpdk.org/results/dashboard/preferences/subscriptions/