From mboxrd@z Thu Jan 1 00:00:00 1970 Return-Path: Received: from mails.dpdk.org (mails.dpdk.org [217.70.189.124]) by inbox.dpdk.org (Postfix) with ESMTP id 5761348B16 for ; Sat, 15 Nov 2025 09:00:41 +0100 (CET) Received: from mails.dpdk.org (localhost [127.0.0.1]) by mails.dpdk.org (Postfix) with ESMTP id 54AC4400D6; Sat, 15 Nov 2025 09:00:41 +0100 (CET) Received: from mail-pl1-f228.google.com (mail-pl1-f228.google.com [209.85.214.228]) by mails.dpdk.org (Postfix) with ESMTP id 521E2400D6 for ; Sat, 15 Nov 2025 09:00:40 +0100 (CET) Received: by mail-pl1-f228.google.com with SMTP id d9443c01a7336-297dc3e299bso27616325ad.1 for ; Sat, 15 Nov 2025 00:00:40 -0800 (PST) DKIM-Signature: v=1; a=rsa-sha256; c=relaxed/relaxed; d=iol.unh.edu; s=unh-iol; t=1763193639; x=1763798439; darn=dpdk.org; h=references:in-reply-to:cc:to:from:subject:message-id:date:from:to :cc:subject:date:message-id:reply-to; bh=MhKMmcNO+MLp7uR/Jer8NbUt2cFH7dbQmFvc9xxzUsk=; b=MazqwLa3KlV9cDqd1XYr8PnAydyd3zYjXRd6Nev+DJvwnSMkhywCN+OwyfPnga2IlW qgd8fQYJ8JZHlh8xV6Eo7OMq6ITjz29PJwrp/H66MUPnP7ksINWNan8GyPjwrMmUwpAH xPdvbHSziSyzsZeSRjeO0xoxdVXkMgM8FPBf0= X-Google-DKIM-Signature: v=1; a=rsa-sha256; c=relaxed/relaxed; d=1e100.net; s=20230601; t=1763193639; x=1763798439; h=references:in-reply-to:cc:to:from:subject:message-id:date:x-gm-gg :x-gm-message-state:from:to:cc:subject:date:message-id:reply-to; bh=MhKMmcNO+MLp7uR/Jer8NbUt2cFH7dbQmFvc9xxzUsk=; b=M3WxazsS05QktLwexLRoTZjR15fUp4GW4LEgzZkgr0eKazfmG14ZFHWqCKqasCBcaN tnVtACwZ0LopgAkw4BmR8/WrEO7Z0jePHgKvFPy3pllanMrXqwXHRbk7h09HrlAQoIm5 Xru/7CwD3NZ0Y3uUqxQXf1VMUo6RJJPKwK/jQTHlIS5hYht/pgz6kZdme8DM8bur7Vmi uKsXz50ebMC66b9H5PeBtGqdgPoQXnuUVldizLDAbFqy+iXTrRUsVIb6533JbNKhipAG 4lk+d6gTryuMxUdVwnTkw7//QKZ8qmm1QnZeR44Pyg1zvfpl+QwouysGY9DUJ4EE6M+s zk4w== X-Gm-Message-State: AOJu0Yzp3hhVBlg/a6wFBhiynZogwgQyfXnK29QKEKYO3B3MxCTFvKJ/ Gxt68qxZq7kFNMAyxife7QosozlEfpkBChwWReKfBYp7DSS8UApqMjF6eG0VKB3BQhjjTRlSrrC IgKouSgoaxNM9uvUiHlqD7sGwL7YFVvtPC/YhcFcHwP/b X-Gm-Gg: ASbGncsQzxj1apTWqlYsFg8RpL6qcdOLtAZ/g03dmOvtryGzezrEsweuhOO2Iy8GfVB aOhbVhJWmYiM9yYvh7b3OiLZed+nbZfJ9bqFqkYjn9C0WEmvTs+ELKHPd73mrupL5TN+IMbpwNr hLH/6GdgypfrsMozgZqc/utjKdei1j9PNfX7uvd/V/MgL6ZDi/1CIb8Sstyd4w8N2GuFSbm0Yd1 SlR+3B6gWIVfYMkhQLgZ2R+oMaTuGMVHiuPhfQU/n0SOWjE4/3mHK0Sqc0g53EzNtlNXkm8U5uK G7McS5AwKvN9dos1GDzzEiGjF0iiKueaeL/N/JI0JdsBmQHxYvyR8xHRy+yfb20pOpxaFTCfBpQ 2wFWlusrT4vs35zIZigMfBBBJHIq2FNY= X-Google-Smtp-Source: AGHT+IF+NeAE6NcyU+mzdg3BJYLs5ZC1+byMxY5XjVZxS2v3WT3CPRfI4HTyqikf3uDFvGlZUqo5sSIAblT2 X-Received: by 2002:a17:902:d48e:b0:295:570d:116e with SMTP id d9443c01a7336-2986a74a03amr65536195ad.41.1763193639412; Sat, 15 Nov 2025 00:00:39 -0800 (PST) Received: from postal.iol.unh.edu (postal.iol.unh.edu. [132.177.123.84]) by smtp-relay.gmail.com with ESMTPS id d9443c01a7336-2985c2a8b5dsm8315145ad.39.2025.11.15.00.00.39 (version=TLS1_2 cipher=ECDHE-ECDSA-AES128-GCM-SHA256 bits=128/128); Sat, 15 Nov 2025 00:00:39 -0800 (PST) X-Relaying-Domain: iol.unh.edu Date: Sat, 15 Nov 2025 00:00:39 -0800 (PST) Message-ID: <69183327.170a0220.13db6.40cbSMTPIN_ADDED_MISSING@mx.google.com> Received: from [172.21.0.6] (unknown [172.18.0.240]) by postal.iol.unh.edu (Postfix) with ESMTP id 9AE7B6051830; Sat, 15 Nov 2025 03:00:38 -0500 (EST) Subject: |SUCCESS| pw158815 [PATCH] net/qede: remove unused file From: dpdklab@iol.unh.edu To: Test Report Cc: dpdk-test-reports@iol.unh.edu In-Reply-To: <20251114180251.1233757-1-stephen@networkplumber.org> References: <20251114180251.1233757-1-stephen@networkplumber.org> Content-Type: text/plain X-BeenThere: test-report@dpdk.org X-Mailman-Version: 2.1.29 Precedence: list List-Id: automatic DPDK test reports List-Unsubscribe: , List-Archive: List-Post: List-Help: List-Subscribe: , Errors-To: test-report-bounces@dpdk.org Test-Label: iol-compile-amd64-testing Test-Status: SUCCESS http://dpdk.org/patch/158815 _Testing PASS_ Submitter: Stephen Hemminger Date: Friday, November 14 2025 18:02:51 DPDK git baseline: Repo:dpdk-next-net-mrvl Branch: master CommitID:db4c93a4c6e088346c7e6d7e744178295b568461 158815 --> testing pass Upstream job id: Generic-DPDK-Compile-Meson#444657 Test environment and result as below: +-------------------------------+--------------------+-------------------+------------------+ | Environment | dpdk_meson_compile | dpdk_msvc_compile | dpdk_compile_ovs | +===============================+====================+===================+==================+ | Ubuntu 20.04 | PASS | SKIPPED | SKIPPED | +-------------------------------+--------------------+-------------------+------------------+ | FreeBSD 14.2 | PASS | SKIPPED | SKIPPED | +-------------------------------+--------------------+-------------------+------------------+ | Red Hat Enterprise Linux 8.10 | PASS | SKIPPED | SKIPPED | +-------------------------------+--------------------+-------------------+------------------+ | CentOS Stream 9 | PASS | SKIPPED | SKIPPED | +-------------------------------+--------------------+-------------------+------------------+ | Debian GNU/Linux 12 | PASS | SKIPPED | SKIPPED | +-------------------------------+--------------------+-------------------+------------------+ | CentOS Stream 10 | PASS | SKIPPED | SKIPPED | +-------------------------------+--------------------+-------------------+------------------+ | Fedora Linux 42 | PASS | SKIPPED | PASS | +-------------------------------+--------------------+-------------------+------------------+ | openSUSE Leap 15.6 | PASS | SKIPPED | SKIPPED | +-------------------------------+--------------------+-------------------+------------------+ | Red Hat Enterprise Linux 9.5 | PASS | SKIPPED | SKIPPED | +-------------------------------+--------------------+-------------------+------------------+ | Ubuntu 24.04 | PASS | SKIPPED | PASS | +-------------------------------+--------------------+-------------------+------------------+ | Ubuntu 22.04 | PASS | SKIPPED | SKIPPED | +-------------------------------+--------------------+-------------------+------------------+ | Alpine Linux 3.22.0 | PASS | SKIPPED | SKIPPED | +-------------------------------+--------------------+-------------------+------------------+ | Windows Server 2022 | SKIPPED | PASS | SKIPPED | +-------------------------------+--------------------+-------------------+------------------+ Ubuntu 20.04 Kernel: 4.19 Compiler: gcc gcc (Ubuntu 9.4.0-1ubuntu1~20.04.2) 9.4.0 FreeBSD 14.2 Kernel: 14.2-RELEASE Compiler: clang 18.1.6 Red Hat Enterprise Linux 8.10 Kernel: 5.15 Compiler: gcc gcc (GCC) 8.5.0 20210514 (Red Hat 8.5.0-22) CentOS Stream 9 Kernel: 5.15 Compiler: gcc gcc (GCC) 11.5.0 20240719 (Red Hat 11.5.0-11) Debian GNU/Linux 12 Kernel: 5.15 Compiler: gcc gcc (Debian 12.2.0-14+deb12u1) 12.2.0 CentOS Stream 10 Kernel: 5.15 Compiler: gcc gcc (GCC) 14.2.1 20250110 (Red Hat 14.2.1-8) Fedora Linux 42 Kernel: 5.15 Compiler: gcc gcc (GCC) 15.2.1 20250808 (Red Hat 15.2.1-1) openSUSE Leap 15.6 Kernel: 5.15 Compiler: gcc gcc (SUSE Linux) 7.5.0 Red Hat Enterprise Linux 9.5 Kernel: 5.15 Compiler: gcc gcc (GCC) 11.5.0 20240719 (Red Hat 11.5.0-2) Ubuntu 24.04 Kernel: 5.15 Compiler: gcc gcc (Ubuntu 13.3.0-6ubuntu2~24.04) 13.3.0 Ubuntu 22.04 Kernel: 5.15 Compiler: gcc gcc (Ubuntu 11.4.0-1ubuntu1~22.04) 11.4.0 Alpine Linux 3.22.0 Kernel: 5.15 Compiler: gcc gcc (Alpine 14.2.0) 14.2.0 Windows Server 2022 Kernel: 10.0.20348.2031 Compiler: clang 15.0.7, gcc 14.1.0 (MinGW), and MSVC VS 19.39.33521 To view detailed results, visit: https://lab.dpdk.org/results/dashboard/patchsets/34597/ UNH-IOL DPDK Community Lab To manage your email subscriptions, visit: https://lab.dpdk.org/results/dashboard/preferences/subscriptions/