From mboxrd@z Thu Jan 1 00:00:00 1970 Return-Path: Received: from mails.dpdk.org (mails.dpdk.org [217.70.189.124]) by inbox.dpdk.org (Postfix) with ESMTP id 6463D48B16 for ; Sat, 15 Nov 2025 09:00:46 +0100 (CET) Received: from mails.dpdk.org (localhost [127.0.0.1]) by mails.dpdk.org (Postfix) with ESMTP id 60EF5400D6; Sat, 15 Nov 2025 09:00:46 +0100 (CET) Received: from mail-io1-f98.google.com (mail-io1-f98.google.com [209.85.166.98]) by mails.dpdk.org (Postfix) with ESMTP id E27D6400D6 for ; Sat, 15 Nov 2025 09:00:42 +0100 (CET) Received: by mail-io1-f98.google.com with SMTP id ca18e2360f4ac-948673fdc47so119684439f.3 for ; Sat, 15 Nov 2025 00:00:42 -0800 (PST) DKIM-Signature: v=1; a=rsa-sha256; c=relaxed/relaxed; d=iol.unh.edu; s=unh-iol; t=1763193642; x=1763798442; darn=dpdk.org; h=references:in-reply-to:cc:to:from:subject:message-id:date:from:to :cc:subject:date:message-id:reply-to; bh=dbWCe0d0j1Rka2Lv72AGCzKMsGGZ86+n0X6XnbGxQEA=; b=jkSLQdn0WiHHxCt1Zazlvy9i53mk7RCgdS/zQ7T3f3bQdYQk350RiYlunvc2b61Vzq fB640mqdxFXy71GVFid++j6/v27yTf8a9c5NH8ZJZNWjlk7etRm+nH7NhWjSeH4R61kd CkSFcG9JEjo1fRWqbqlxN09gkAlLecEAwMu0g= X-Google-DKIM-Signature: v=1; a=rsa-sha256; c=relaxed/relaxed; d=1e100.net; s=20230601; t=1763193642; x=1763798442; h=references:in-reply-to:cc:to:from:subject:message-id:date:x-gm-gg :x-gm-message-state:from:to:cc:subject:date:message-id:reply-to; bh=dbWCe0d0j1Rka2Lv72AGCzKMsGGZ86+n0X6XnbGxQEA=; b=Je0yVPMyc7QF9EnhAyLybWCSTmIs+FsB4jeFM58UmrtG4jvJh/lmgjn/Om7x3i6zEX HE0E6QeCY/6N5N5a+4gX4skLTAxeHEG4lW/onZBi35AsULtQd7rUm80k5jRoQxTJafbu NDy6pBpdMcKRYFb9Zy8SdAVdsUmJxq0sgN2Lm7jKkTy0pwayZ/WTN9JhDB/mWqopHbCV YJHi6NIe3vr2qf2AUsKi9qvJnuTMIAjyY8lSUDPmGbNjbPZF/yXpxb6tO4nd9Qgm3OqZ QYXcXI7hHwpUV+avBD9ZrBv5I4ZBePwmEUhX5Q4KRXsUnDlxMXOtQlR5WjzqR0qVPrD4 q7gw== X-Gm-Message-State: AOJu0YwrAakoST9lpE5zMgiSIqJNn9QBIwo4hfJAG/VPyvGXrob1C58S oICaLJVNcBXUgFVArd/zCp22AxIpsBl6lx3KZPN5iGM+TMug54fqqo1LLRkDHSkrNhpPz8Bg6oq ekKO18kNrO1rdho4jV5jLZgq5a2mmTZtWVSBNjN6YoHyB X-Gm-Gg: ASbGncutf96TD2/qy9m+gsAmHz9MSVwU9pu4Ll/BMbh/qHnVBx2ZXrzsFA+6H4H+rJC Qsz0aTaBkIHtP69ZkyKEpG7neL+RI3FhWVIidxgCeZpkjYeLDZu0JSfx+A6nmee7vZx2jarsRMM TbwIVluFeNL77iNdTehTVse7ReMvP43pRrNJmYUF796dtXPhFsUXBkWvt9l3cKVrBQjKyOPwUpI HohiedGqLALTvC8QCA7Mlh0gYXwZEA3SyN3opgHWBhydK+cwtjfU+d08lldVJmjq9VsQse364yE GHntRXTZysRDYEc7rioZSv+xn7rvvLeArAL5n5DYJ15ka/E8L47FNiFPO4l74jVL7gD5qNpR7ll thNQyC5WweBn6qur8thJ6zSSI4ZiJwso= X-Google-Smtp-Source: AGHT+IGZWyywDbdMAqLBEBdinfN28+hi+YMQUKWU8T8tdzfH71NQS+MtwWOBUvc5FYChQFNB6mdyldSM7uG/ X-Received: by 2002:a05:6638:4da5:b0:5b7:33d3:6f6c with SMTP id 8926c6da1cb9f-5b7c9dcf0a9mr1312789173.15.1763193642153; Sat, 15 Nov 2025 00:00:42 -0800 (PST) Received: from postal.iol.unh.edu (postal.iol.unh.edu. [132.177.123.84]) by smtp-relay.gmail.com with ESMTPS id 8926c6da1cb9f-5b7bd319dcbsm380297173.20.2025.11.15.00.00.42 (version=TLS1_2 cipher=ECDHE-ECDSA-AES128-GCM-SHA256 bits=128/128); Sat, 15 Nov 2025 00:00:42 -0800 (PST) X-Relaying-Domain: iol.unh.edu Date: Sat, 15 Nov 2025 00:00:42 -0800 (PST) Message-ID: <6918332a.050a0220.7580c.20b5SMTPIN_ADDED_MISSING@mx.google.com> Received: from [172.21.0.13] (unknown [172.18.0.240]) by postal.iol.unh.edu (Postfix) with ESMTP id C48086051830; Sat, 15 Nov 2025 03:00:41 -0500 (EST) Subject: |SUCCESS| pw158819 [PATCH] net/mlx5: improve error on completing tab From: dpdklab@iol.unh.edu To: Test Report Cc: dpdk-test-reports@iol.unh.edu In-Reply-To: <20251114192712.1637369-1-dsosnowski@nvidia.com> References: <20251114192712.1637369-1-dsosnowski@nvidia.com> Content-Type: text/plain X-BeenThere: test-report@dpdk.org X-Mailman-Version: 2.1.29 Precedence: list List-Id: automatic DPDK test reports List-Unsubscribe: , List-Archive: List-Post: List-Help: List-Subscribe: , Errors-To: test-report-bounces@dpdk.org Test-Label: iol-compile-amd64-testing Test-Status: SUCCESS http://dpdk.org/patch/158819 _Testing PASS_ Submitter: Dariusz Sosnowski Date: Friday, November 14 2025 19:27:12 DPDK git baseline: Repo:dpdk-next-net-mlx Branch: master CommitID:ae657d56b1f0ea979b3f611edf28d773efc2ddcf 158819 --> testing pass Upstream job id: Generic-DPDK-Compile-Meson#444712 Test environment and result as below: +-------------------------------+--------------------+-------------------------+-------------------+------------------+ | Environment | dpdk_meson_compile | dpdk_llvm_clang_compile | dpdk_msvc_compile | dpdk_compile_ovs | +===============================+====================+=========================+===================+==================+ | Ubuntu 20.04 | PASS | SKIPPED | SKIPPED | SKIPPED | +-------------------------------+--------------------+-------------------------+-------------------+------------------+ | FreeBSD 14.2 | PASS | SKIPPED | SKIPPED | SKIPPED | +-------------------------------+--------------------+-------------------------+-------------------+------------------+ | CentOS Stream 9 | PASS | SKIPPED | SKIPPED | SKIPPED | +-------------------------------+--------------------+-------------------------+-------------------+------------------+ | CentOS Stream 10 | PASS | SKIPPED | SKIPPED | SKIPPED | +-------------------------------+--------------------+-------------------------+-------------------+------------------+ | Debian GNU/Linux 12 | PASS | SKIPPED | SKIPPED | SKIPPED | +-------------------------------+--------------------+-------------------------+-------------------+------------------+ | Fedora Linux 42 | PASS | SKIPPED | SKIPPED | PASS | +-------------------------------+--------------------+-------------------------+-------------------+------------------+ | openSUSE Leap 15.6 | PASS | SKIPPED | SKIPPED | SKIPPED | +-------------------------------+--------------------+-------------------------+-------------------+------------------+ | Red Hat Enterprise Linux 8.10 | PASS | SKIPPED | SKIPPED | SKIPPED | +-------------------------------+--------------------+-------------------------+-------------------+------------------+ | Red Hat Enterprise Linux 9.5 | PASS | SKIPPED | SKIPPED | SKIPPED | +-------------------------------+--------------------+-------------------------+-------------------+------------------+ | Ubuntu 22.04 | PASS | SKIPPED | SKIPPED | SKIPPED | +-------------------------------+--------------------+-------------------------+-------------------+------------------+ | Ubuntu 24.04 | PASS | SKIPPED | SKIPPED | PASS | +-------------------------------+--------------------+-------------------------+-------------------+------------------+ | Alpine Linux 3.22.0 | PASS | SKIPPED | SKIPPED | SKIPPED | +-------------------------------+--------------------+-------------------------+-------------------+------------------+ | Windows Server 2022 | SKIPPED | PASS | PASS | SKIPPED | +-------------------------------+--------------------+-------------------------+-------------------+------------------+ Ubuntu 20.04 Kernel: 4.19 Compiler: gcc gcc (Ubuntu 9.4.0-1ubuntu1~20.04.2) 9.4.0 FreeBSD 14.2 Kernel: 14.2-RELEASE Compiler: clang 18.1.6 CentOS Stream 9 Kernel: 5.15 Compiler: gcc gcc (GCC) 11.5.0 20240719 (Red Hat 11.5.0-11) CentOS Stream 10 Kernel: 5.15 Compiler: gcc gcc (GCC) 14.2.1 20250110 (Red Hat 14.2.1-8) Debian GNU/Linux 12 Kernel: 5.15 Compiler: gcc gcc (Debian 12.2.0-14+deb12u1) 12.2.0 Fedora Linux 42 Kernel: 5.15 Compiler: clang gcc (GCC) 15.2.1 20250808 (Red Hat 15.2.1-1) openSUSE Leap 15.6 Kernel: 5.15 Compiler: gcc gcc (SUSE Linux) 7.5.0 Red Hat Enterprise Linux 8.10 Kernel: 5.15 Compiler: gcc gcc (GCC) 8.5.0 20210514 (Red Hat 8.5.0-22) Red Hat Enterprise Linux 9.5 Kernel: 5.15 Compiler: gcc gcc (GCC) 11.5.0 20240719 (Red Hat 11.5.0-2) Ubuntu 22.04 Kernel: 5.15 Compiler: gcc gcc (Ubuntu 11.4.0-1ubuntu1~22.04) 11.4.0 Ubuntu 24.04 Kernel: 5.15 Compiler: gcc gcc (Ubuntu 13.3.0-6ubuntu2~24.04) 13.3.0 Alpine Linux 3.22.0 Kernel: 5.15 Compiler: gcc gcc (Alpine 14.2.0) 14.2.0 Windows Server 2022 Kernel: 10.0.20348.2031 Compiler: clang 15.0.7, gcc 14.1.0 (MinGW), and MSVC VS 19.39.33521 To view detailed results, visit: https://lab.dpdk.org/results/dashboard/patchsets/34601/ UNH-IOL DPDK Community Lab To manage your email subscriptions, visit: https://lab.dpdk.org/results/dashboard/preferences/subscriptions/