From mboxrd@z Thu Jan 1 00:00:00 1970 Return-Path: Received: from mails.dpdk.org (mails.dpdk.org [217.70.189.124]) by inbox.dpdk.org (Postfix) with ESMTP id 71AA448B16 for ; Sat, 15 Nov 2025 09:00:50 +0100 (CET) Received: from mails.dpdk.org (localhost [127.0.0.1]) by mails.dpdk.org (Postfix) with ESMTP id 6E3A4400D6; Sat, 15 Nov 2025 09:00:50 +0100 (CET) Received: from mail-pl1-f227.google.com (mail-pl1-f227.google.com [209.85.214.227]) by mails.dpdk.org (Postfix) with ESMTP id DA72A400D6 for ; Sat, 15 Nov 2025 09:00:47 +0100 (CET) Received: by mail-pl1-f227.google.com with SMTP id d9443c01a7336-297dd95ffe4so23736275ad.3 for ; Sat, 15 Nov 2025 00:00:47 -0800 (PST) DKIM-Signature: v=1; a=rsa-sha256; c=relaxed/relaxed; d=iol.unh.edu; s=unh-iol; t=1763193647; x=1763798447; darn=dpdk.org; h=references:in-reply-to:cc:to:from:subject:message-id:date:from:to :cc:subject:date:message-id:reply-to; bh=cZAyMkSMvkzyS4hWVeo3EaNmNlo0iZzRzNxaGEmOGXs=; b=cxJAnH5f4kp7JiAl+Q4OVp/gkbGb4l6TBfXrD2FhO1xFYOTNjg5lFpJFwSbZpyTejL mrtMNTuH9wfMjaOVd36Nr5kr3g4HLRNOECf9WM0BEunUD3m5Yp3KDIoJGNt9t6jgjh1z eSnxgjGeztL9bGGQquAFC/9fURxoH+Sr1PCfw= X-Google-DKIM-Signature: v=1; a=rsa-sha256; c=relaxed/relaxed; d=1e100.net; s=20230601; t=1763193647; x=1763798447; h=references:in-reply-to:cc:to:from:subject:message-id:date:x-gm-gg :x-gm-message-state:from:to:cc:subject:date:message-id:reply-to; bh=cZAyMkSMvkzyS4hWVeo3EaNmNlo0iZzRzNxaGEmOGXs=; b=OLWlnxtn93+K7y83NlmfEDAz0PAmV9i6Ws1xyt+QusjchbV/7WvZY+oovaKwVi+1fh 2V8RItFLRnSsZeg/oUoG7sI7xkhIsUtDCY+s4tVV7zA4R/dj+BnR9Rfmvz9rzDNKOClR G17gInV6159nxU0osXuMS9L45KEHVWrmE+riPD+6vSdzZuT6HIFehBwojReRyt0q6+J8 7jQ9LveeVZKzBQXMfAeUG5FurdLx54VN5aemDZ2ArHQRm+HgqIWmvQDVdXv11Uggo4bR pK6LAgTJ4FvqzaDOiWEc3/Pv9s8GwJRlBYQ3g+aL7iAgmGhSg3xVgJzOcvoqzEAdBt4l yTmg== X-Gm-Message-State: AOJu0YzQ4Pcb93b0UH3WoatPv3E+XHiHy6J9+syDjX+cDhrPweCnNC6k ux6jSuKe8t68SrEu9atT4lKzJ6jvPO5vI0HfyhyHpxBl8oyfbaz0+VksjTD39jYpUWbfDARAeR0 A8Mrm6LjdK0ywxP0XKUUGmhDjCMZfc344fmLJOpmi3obZ X-Gm-Gg: ASbGnctnqAvauZlH2JNzrwXMLyof5x0t++Ua6TydZB+BAW+Udogc9SZ68tlsRSoTAJ+ L+AsjcO1EB8wyg+ymHQjFfQF+xQgEOozvKLB+fdr4PbhxA9j3QJcBN68Zr22tcdlI2O1kBDfO1t zR0YqejMFcHJFfvqTE+ubf1+Bz4JPICfuDthUDehAbe++Z/MjVX9TcXgJK7hTzvn9yzfEd87Rv7 meRevGG8cwEfR6Vk1sP9lrBPVN7G8aha6pI7JA05i2eNfF1hBH7U7h4K3GTcd599hB9aS9sbXlF wCY1hRHfDv9U8wJrZOnj83ZmfU6kUWv6slV1EqZofl3GIelV2DuD8hNmGr8pAnJNubY9wnxwC/E WeysFVsnAov3cddwsg6KeJvU2JzfCBP4= X-Google-Smtp-Source: AGHT+IGhF+hksVaNAMeS2N2mJmCvIHlNJOHJJ6VktPFsmdcck9Ms11cSvTbMn066KzfDQf2LTFfvo6ETIQQ/ X-Received: by 2002:a17:903:3c47:b0:298:35c:c313 with SMTP id d9443c01a7336-2986a75f3camr66039345ad.61.1763193647099; Sat, 15 Nov 2025 00:00:47 -0800 (PST) Received: from postal.iol.unh.edu (postal.iol.unh.edu. [132.177.123.84]) by smtp-relay.gmail.com with ESMTPS id 98e67ed59e1d1-343ed3810ccsm785445a91.0.2025.11.15.00.00.46 (version=TLS1_2 cipher=ECDHE-ECDSA-AES128-GCM-SHA256 bits=128/128); Sat, 15 Nov 2025 00:00:47 -0800 (PST) X-Relaying-Domain: iol.unh.edu Date: Sat, 15 Nov 2025 00:00:47 -0800 (PST) Message-ID: <6918332f.170a0220.37bcb5.735cSMTPIN_ADDED_MISSING@mx.google.com> Received: from [172.21.0.3] (unknown [172.18.0.240]) by postal.iol.unh.edu (Postfix) with ESMTP id 804846051830; Sat, 15 Nov 2025 03:00:46 -0500 (EST) Subject: |SUCCESS| pw158819 [PATCH] net/mlx5: improve error on completing tab From: dpdklab@iol.unh.edu To: Test Report Cc: dpdk-test-reports@iol.unh.edu In-Reply-To: <20251114192712.1637369-1-dsosnowski@nvidia.com> References: <20251114192712.1637369-1-dsosnowski@nvidia.com> Content-Type: text/plain X-BeenThere: test-report@dpdk.org X-Mailman-Version: 2.1.29 Precedence: list List-Id: automatic DPDK test reports List-Unsubscribe: , List-Archive: List-Post: List-Help: List-Subscribe: , Errors-To: test-report-bounces@dpdk.org Test-Label: iol-compile-amd64-testing Test-Status: SUCCESS http://dpdk.org/patch/158819 _Testing PASS_ Submitter: Dariusz Sosnowski Date: Friday, November 14 2025 19:27:12 DPDK git baseline: Repo:dpdk-next-net-mlx Branch: master CommitID:ae657d56b1f0ea979b3f611edf28d773efc2ddcf 158819 --> testing pass Upstream job id: Generic-DPDK-Compile-Meson#444716 Test environment and result as below: +-------------------------------+--------------------+-------------------------+-------------------+------------------+ | Environment | dpdk_meson_compile | dpdk_llvm_clang_compile | dpdk_msvc_compile | dpdk_compile_ovs | +===============================+====================+=========================+===================+==================+ | Ubuntu 20.04 | PASS | SKIPPED | SKIPPED | SKIPPED | +-------------------------------+--------------------+-------------------------+-------------------+------------------+ | FreeBSD 14.2 | PASS | SKIPPED | SKIPPED | SKIPPED | +-------------------------------+--------------------+-------------------------+-------------------+------------------+ | CentOS Stream 9 | PASS | SKIPPED | SKIPPED | SKIPPED | +-------------------------------+--------------------+-------------------------+-------------------+------------------+ | CentOS Stream 10 | PASS | SKIPPED | SKIPPED | SKIPPED | +-------------------------------+--------------------+-------------------------+-------------------+------------------+ | Debian GNU/Linux 12 | PASS | SKIPPED | SKIPPED | SKIPPED | +-------------------------------+--------------------+-------------------------+-------------------+------------------+ | Fedora Linux 42 | PASS | SKIPPED | SKIPPED | PASS | +-------------------------------+--------------------+-------------------------+-------------------+------------------+ | openSUSE Leap 15.6 | PASS | SKIPPED | SKIPPED | SKIPPED | +-------------------------------+--------------------+-------------------------+-------------------+------------------+ | Red Hat Enterprise Linux 8.10 | PASS | SKIPPED | SKIPPED | SKIPPED | +-------------------------------+--------------------+-------------------------+-------------------+------------------+ | Red Hat Enterprise Linux 9.5 | PASS | SKIPPED | SKIPPED | SKIPPED | +-------------------------------+--------------------+-------------------------+-------------------+------------------+ | Ubuntu 22.04 | PASS | SKIPPED | SKIPPED | SKIPPED | +-------------------------------+--------------------+-------------------------+-------------------+------------------+ | Ubuntu 24.04 | PASS | SKIPPED | SKIPPED | PASS | +-------------------------------+--------------------+-------------------------+-------------------+------------------+ | Alpine Linux 3.22.0 | PASS | SKIPPED | SKIPPED | SKIPPED | +-------------------------------+--------------------+-------------------------+-------------------+------------------+ | Windows Server 2022 | SKIPPED | PASS | PASS | SKIPPED | +-------------------------------+--------------------+-------------------------+-------------------+------------------+ Ubuntu 20.04 Kernel: 4.19 Compiler: gcc gcc (Ubuntu 9.4.0-1ubuntu1~20.04.2) 9.4.0 FreeBSD 14.2 Kernel: 14.2-RELEASE Compiler: clang 18.1.6 CentOS Stream 9 Kernel: 5.15 Compiler: gcc gcc (GCC) 11.5.0 20240719 (Red Hat 11.5.0-11) CentOS Stream 10 Kernel: 5.15 Compiler: gcc gcc (GCC) 14.2.1 20250110 (Red Hat 14.2.1-8) Debian GNU/Linux 12 Kernel: 5.15 Compiler: gcc gcc (Debian 12.2.0-14+deb12u1) 12.2.0 Fedora Linux 42 Kernel: 5.15 Compiler: clang gcc (GCC) 15.2.1 20250808 (Red Hat 15.2.1-1) openSUSE Leap 15.6 Kernel: 5.15 Compiler: gcc gcc (SUSE Linux) 7.5.0 Red Hat Enterprise Linux 8.10 Kernel: 5.15 Compiler: gcc gcc (GCC) 8.5.0 20210514 (Red Hat 8.5.0-22) Red Hat Enterprise Linux 9.5 Kernel: 5.15 Compiler: gcc gcc (GCC) 11.5.0 20240719 (Red Hat 11.5.0-2) Ubuntu 22.04 Kernel: 5.15 Compiler: gcc gcc (Ubuntu 11.4.0-1ubuntu1~22.04) 11.4.0 Ubuntu 24.04 Kernel: 5.15 Compiler: gcc gcc (Ubuntu 13.3.0-6ubuntu2~24.04) 13.3.0 Alpine Linux 3.22.0 Kernel: 5.15 Compiler: gcc gcc (Alpine 14.2.0) 14.2.0 Windows Server 2022 Kernel: 10.0.20348.2031 Compiler: clang 15.0.7, gcc 14.1.0 (MinGW), and MSVC VS 19.39.33521 To view detailed results, visit: https://lab.dpdk.org/results/dashboard/patchsets/34601/ UNH-IOL DPDK Community Lab To manage your email subscriptions, visit: https://lab.dpdk.org/results/dashboard/preferences/subscriptions/