From mboxrd@z Thu Jan 1 00:00:00 1970 Return-Path: Received: from mails.dpdk.org (mails.dpdk.org [217.70.189.124]) by inbox.dpdk.org (Postfix) with ESMTP id 891CA48B16 for ; Sat, 15 Nov 2025 09:01:08 +0100 (CET) Received: from mails.dpdk.org (localhost [127.0.0.1]) by mails.dpdk.org (Postfix) with ESMTP id 86A52400D6; Sat, 15 Nov 2025 09:01:08 +0100 (CET) Received: from mail-pf1-f228.google.com (mail-pf1-f228.google.com [209.85.210.228]) by mails.dpdk.org (Postfix) with ESMTP id D1F7D400D6 for ; Sat, 15 Nov 2025 09:01:04 +0100 (CET) Received: by mail-pf1-f228.google.com with SMTP id d2e1a72fcca58-7b9c17dd591so2021670b3a.3 for ; Sat, 15 Nov 2025 00:01:04 -0800 (PST) DKIM-Signature: v=1; a=rsa-sha256; c=relaxed/relaxed; d=iol.unh.edu; s=unh-iol; t=1763193664; x=1763798464; darn=dpdk.org; h=references:in-reply-to:cc:to:from:subject:message-id:date:from:to :cc:subject:date:message-id:reply-to; bh=intXt5b5YBp60Lv3bxcTCpnTW3nmqXLL2sIPCxPIoac=; b=B7Jbt9lLUShlbS9MPW/D3NporOGiugvDrJj9vqVoNoNAyXhEOvOPmjIKyxzFYNIPNz hJDx4h/JDQqGFN2m6ramBbGzBIyggaqiJDKFkXPPc7ftZppa8Jgob45O+7yFZPoaSMxO IDFD4h6+4yvkAdRtOuEU8PJy3PB91t3BqabfA= X-Google-DKIM-Signature: v=1; a=rsa-sha256; c=relaxed/relaxed; d=1e100.net; s=20230601; t=1763193664; x=1763798464; h=references:in-reply-to:cc:to:from:subject:message-id:date:x-gm-gg :x-gm-message-state:from:to:cc:subject:date:message-id:reply-to; bh=intXt5b5YBp60Lv3bxcTCpnTW3nmqXLL2sIPCxPIoac=; b=kZLbbcoo9GnzJrgQqTp71YW1vGnrF7ed1fd9zzzEJt1+VVBcCXXESlyTbuoqTOdgDk CPkEaP0iixWiOSlza2D8uZ5UG9DLiDtumwbrWGPXGeQD273KXLgkG6YwMLzL/rrfd+Sm TpUILc6vxsYA7UxLQ9YJkX2XN23/l9tYq+bLJolC+GUT3sHBNA1mAxH7idhZZIJ6UJki uC8L830zO+RjWaTzAG/sc0jGgevAb+TYpYcsYoyS6C2kvsb9URWBroc4qFYfqylUvMgX 2aulftvGihl9zp+KB+USP8kPOxWawhir2Bko5+MS0bxxAahZrvUXvfyer8UxN96MJwFH 1d+w== X-Gm-Message-State: AOJu0YyQBEpNm0M7UbtyBnsQm2xFZKh7zg94OIuObSCIR5m+8pp6qmKQ LdaCB7p826jwiEYeYrzUsN9pEBJH5tUYlGGFDpRXavXxGhJOfyX+8vn4rhXvHLJwV0pXb8on/aG AVPPsfhgHX6iJvvTAer/4fmvN/ca4nsiKhlPDLlPzD1sR X-Gm-Gg: ASbGncsW9jCXwFsNH57AFMjDi18ViYFpn9pDJo31gQPQXWwTvdzV92KYklrN+1tmB2a nIerLjgjf4fB1CRnZvWgXiB/qKnZIdBVkQflvRaugWEhNrfx1w25yJWQM6xH/h1ke1LK/lkDsk5 cM0Z6rwetlRs6RZ191r21OMTFT7hlMG2iudPB2egsr906+566n2gh5Qr9kqus3qHZb1gt9FsRqy aEw2A/4WvEZAwpciOrCtDg2vhTAc2cV6iJjwQDwR/rugV/AghX+lfpFJfJG+Z/xS5C5aapXH9CH 4GXwyo2jQ3eiGXQUohRso1Xsg2tJvqQKUwUojdSaFyOLtdXO53vdS+T8kd180dz9Daha++WE93K F61m/Qh/o6uUmpWCYEPKLtjc+aQzWTHg= X-Google-Smtp-Source: AGHT+IE4Ijl1N2tZZS89SbDjDrLCPyIWjhlDAEeUgQwlcfc2SLXowcRkujE9sb/mXKf17kKxYyWx9SSxHN7E X-Received: by 2002:a05:6a00:3d42:b0:7b8:383d:86e8 with SMTP id d2e1a72fcca58-7ba3bb94d93mr6268652b3a.20.1763193663980; Sat, 15 Nov 2025 00:01:03 -0800 (PST) Received: from postal.iol.unh.edu (postal.iol.unh.edu. [132.177.123.84]) by smtp-relay.gmail.com with ESMTPS id d2e1a72fcca58-7b927c22fd4sm583423b3a.7.2025.11.15.00.01.03 (version=TLS1_2 cipher=ECDHE-ECDSA-AES128-GCM-SHA256 bits=128/128); Sat, 15 Nov 2025 00:01:03 -0800 (PST) X-Relaying-Domain: iol.unh.edu Date: Sat, 15 Nov 2025 00:01:03 -0800 (PST) Message-ID: <6918333f.050a0220.284802.c814SMTPIN_ADDED_MISSING@mx.google.com> Received: from [172.21.0.17] (unknown [172.18.0.240]) by postal.iol.unh.edu (Postfix) with ESMTP id 26D6B6051830; Sat, 15 Nov 2025 03:01:03 -0500 (EST) Subject: |SUCCESS| pw158819 [PATCH] net/mlx5: improve error on completing tab From: dpdklab@iol.unh.edu To: Test Report Cc: dpdk-test-reports@iol.unh.edu In-Reply-To: <20251114192712.1637369-1-dsosnowski@nvidia.com> References: <20251114192712.1637369-1-dsosnowski@nvidia.com> Content-Type: text/plain X-BeenThere: test-report@dpdk.org X-Mailman-Version: 2.1.29 Precedence: list List-Id: automatic DPDK test reports List-Unsubscribe: , List-Archive: List-Post: List-Help: List-Subscribe: , Errors-To: test-report-bounces@dpdk.org Test-Label: iol-compile-amd64-testing Test-Status: SUCCESS http://dpdk.org/patch/158819 _Testing PASS_ Submitter: Dariusz Sosnowski Date: Friday, November 14 2025 19:27:12 DPDK git baseline: Repo:dpdk-next-net-mlx Branch: master CommitID:ae657d56b1f0ea979b3f611edf28d773efc2ddcf 158819 --> testing pass Upstream job id: Generic-DPDK-Compile-Meson#444714 Test environment and result as below: +-------------------------------+--------------------+-------------------------+-------------------+------------------+ | Environment | dpdk_meson_compile | dpdk_llvm_clang_compile | dpdk_msvc_compile | dpdk_compile_ovs | +===============================+====================+=========================+===================+==================+ | Ubuntu 20.04 | PASS | SKIPPED | SKIPPED | SKIPPED | +-------------------------------+--------------------+-------------------------+-------------------+------------------+ | FreeBSD 14.2 | PASS | SKIPPED | SKIPPED | SKIPPED | +-------------------------------+--------------------+-------------------------+-------------------+------------------+ | CentOS Stream 9 | PASS | SKIPPED | SKIPPED | SKIPPED | +-------------------------------+--------------------+-------------------------+-------------------+------------------+ | CentOS Stream 10 | PASS | SKIPPED | SKIPPED | SKIPPED | +-------------------------------+--------------------+-------------------------+-------------------+------------------+ | Debian GNU/Linux 12 | PASS | SKIPPED | SKIPPED | SKIPPED | +-------------------------------+--------------------+-------------------------+-------------------+------------------+ | Fedora Linux 42 | PASS | SKIPPED | SKIPPED | PASS | +-------------------------------+--------------------+-------------------------+-------------------+------------------+ | openSUSE Leap 15.6 | PASS | SKIPPED | SKIPPED | SKIPPED | +-------------------------------+--------------------+-------------------------+-------------------+------------------+ | Red Hat Enterprise Linux 8.10 | PASS | SKIPPED | SKIPPED | SKIPPED | +-------------------------------+--------------------+-------------------------+-------------------+------------------+ | Red Hat Enterprise Linux 9.5 | PASS | SKIPPED | SKIPPED | SKIPPED | +-------------------------------+--------------------+-------------------------+-------------------+------------------+ | Ubuntu 22.04 | PASS | SKIPPED | SKIPPED | SKIPPED | +-------------------------------+--------------------+-------------------------+-------------------+------------------+ | Ubuntu 24.04 | PASS | SKIPPED | SKIPPED | PASS | +-------------------------------+--------------------+-------------------------+-------------------+------------------+ | Alpine Linux 3.22.0 | PASS | SKIPPED | SKIPPED | SKIPPED | +-------------------------------+--------------------+-------------------------+-------------------+------------------+ | Windows Server 2022 | SKIPPED | PASS | PASS | SKIPPED | +-------------------------------+--------------------+-------------------------+-------------------+------------------+ Ubuntu 20.04 Kernel: 4.19 Compiler: gcc gcc (Ubuntu 9.4.0-1ubuntu1~20.04.2) 9.4.0 FreeBSD 14.2 Kernel: 14.2-RELEASE Compiler: clang 18.1.6 CentOS Stream 9 Kernel: 5.15 Compiler: gcc gcc (GCC) 11.5.0 20240719 (Red Hat 11.5.0-11) CentOS Stream 10 Kernel: 5.15 Compiler: gcc gcc (GCC) 14.2.1 20250110 (Red Hat 14.2.1-8) Debian GNU/Linux 12 Kernel: 5.15 Compiler: gcc gcc (Debian 12.2.0-14+deb12u1) 12.2.0 Fedora Linux 42 Kernel: 5.15 Compiler: clang gcc (GCC) 15.2.1 20250808 (Red Hat 15.2.1-1) openSUSE Leap 15.6 Kernel: 5.15 Compiler: gcc gcc (SUSE Linux) 7.5.0 Red Hat Enterprise Linux 8.10 Kernel: 5.15 Compiler: gcc gcc (GCC) 8.5.0 20210514 (Red Hat 8.5.0-22) Red Hat Enterprise Linux 9.5 Kernel: 5.15 Compiler: gcc gcc (GCC) 11.5.0 20240719 (Red Hat 11.5.0-2) Ubuntu 22.04 Kernel: 5.15 Compiler: gcc gcc (Ubuntu 11.4.0-1ubuntu1~22.04) 11.4.0 Ubuntu 24.04 Kernel: 5.15 Compiler: gcc gcc (Ubuntu 13.3.0-6ubuntu2~24.04) 13.3.0 Alpine Linux 3.22.0 Kernel: 5.15 Compiler: gcc gcc (Alpine 14.2.0) 14.2.0 Windows Server 2022 Kernel: 10.0.20348.2031 Compiler: clang 15.0.7, gcc 14.1.0 (MinGW), and MSVC VS 19.39.33521 To view detailed results, visit: https://lab.dpdk.org/results/dashboard/patchsets/34601/ UNH-IOL DPDK Community Lab To manage your email subscriptions, visit: https://lab.dpdk.org/results/dashboard/preferences/subscriptions/