From mboxrd@z Thu Jan 1 00:00:00 1970 Return-Path: Received: from mails.dpdk.org (mails.dpdk.org [217.70.189.124]) by inbox.dpdk.org (Postfix) with ESMTP id 9778F48B16 for ; Sat, 15 Nov 2025 09:01:13 +0100 (CET) Received: from mails.dpdk.org (localhost [127.0.0.1]) by mails.dpdk.org (Postfix) with ESMTP id 91666400D6; Sat, 15 Nov 2025 09:01:13 +0100 (CET) Received: from mail-vk1-f228.google.com (mail-vk1-f228.google.com [209.85.221.228]) by mails.dpdk.org (Postfix) with ESMTP id 0658F402A2 for ; Sat, 15 Nov 2025 09:01:09 +0100 (CET) Received: by mail-vk1-f228.google.com with SMTP id 71dfb90a1353d-55ae07cf627so818852e0c.1 for ; Sat, 15 Nov 2025 00:01:08 -0800 (PST) DKIM-Signature: v=1; a=rsa-sha256; c=relaxed/relaxed; d=iol.unh.edu; s=unh-iol; t=1763193668; x=1763798468; darn=dpdk.org; h=references:in-reply-to:cc:to:from:subject:message-id:date:from:to :cc:subject:date:message-id:reply-to; bh=SOrNILbKBATng95QlHmzHI9KUQdFgDQDcR2JGlb/d9A=; b=FW7fYj3RdKNLvOym59hjD0lZAnnN1phhMWeALgpCFbz18hphYXR+jLTSJljjOA3/32 xqDt4xjXJ3aIOVbARwl90i56UhmG4Y4XGC0VI27hCB0bka5obyTzz7PDdgI9/iRty2dZ 5uIEv5DMM1y3U9E8gpGnAJ6GLkY+GKeSIKG/0= X-Google-DKIM-Signature: v=1; a=rsa-sha256; c=relaxed/relaxed; d=1e100.net; s=20230601; t=1763193668; x=1763798468; h=references:in-reply-to:cc:to:from:subject:message-id:date:x-gm-gg :x-gm-message-state:from:to:cc:subject:date:message-id:reply-to; bh=SOrNILbKBATng95QlHmzHI9KUQdFgDQDcR2JGlb/d9A=; b=EnPDhAaLj3rAFz3hnp2MPBZJNw+XZwQBfqxRmxO+yt152ziNvu4kYbZCsxzfOLzHxZ ZK6Iq8jiU/N4jqZWzc097n01T3t7iIgU4TNbfGriyLq82n9FqDvpEIvBrgmNQtEebmve vsNPEflUgyNsSScsZWKQQF38+WacRpmg+i95ENbruzakcvUJpfPyy1hsi1rdWSaE9M7a TiH4pmuQtcwbxontxL8OLU2PqnydGZ+trEyfWAMe/bEeyakVKPHOCWPEAZ5VFazLc/ti uM9U+PinT228fWvYZBhO4fFNI77ShjmW9SI8+KOyitaVJWFWwpz0DgDoyO9X34dbFqOn TGjg== X-Gm-Message-State: AOJu0Yxyu0bJZPVsK5qu/rkU0ieVW8Pvb4Lukk80zWPfEnIgy5oVkxQO NE6Hl6Xg4QRkqiEa6dA4kZJ0yw9tf6ucePwP4rmpy/YpYhUMtTcT50Y8gn70uYnafchhg4NuHNI J5nIFYcUSsYi01NxZye1NMxoqIOKz6r5T+gQ0z3yZ8T29 X-Gm-Gg: ASbGncv6CVOsdLEesq5C8DANnWOzk3FQywjECtB5b7UoICeZOaKs/1D7cfaHhtVa4Af SmPdi2Npm/fCJHxkP0JIbtKZh8ndY/M89JTP6FE3rf2zdz2XLGzqSm14pyUSmcDmVEMf8CiwW/R qRXbMexnYfwkvRBNd/wlGpVYy3h4R3IUib1n7mUto1cZ4jmFC4LaJUTy1FdNiDhDhQ+bw79yCZ4 t1HFUOIvqBVLLmOT1YJ413+ahbkVoz+xcy8ueqzI6hTsKbj7T9vOs0Och0cG/QPuTS6DYOeo8dQ Fui+Gk4mOhx0DuU3ornZKGuEluY1p8+MX5mHQpuvmyEQI08ltgTO7xfMuGWtJWhdixuK5wm07lG 7aJK1BYx8CIpBwMr+UKbax4FMGcNgUP4= X-Google-Smtp-Source: AGHT+IH3dzhe+s4aHM68PbKDMQLmc3GYy5XJ5cEHTO9PJxvRzeDa88lXy8byET5p/HyVNBhak3R7BGbfO0Ds X-Received: by 2002:a05:6122:2013:b0:559:67df:5889 with SMTP id 71dfb90a1353d-55b1bddf4fcmr2046848e0c.6.1763193668228; Sat, 15 Nov 2025 00:01:08 -0800 (PST) Received: from postal.iol.unh.edu (postal.iol.unh.edu. [132.177.123.84]) by smtp-relay.gmail.com with ESMTPS id 71dfb90a1353d-55b0f3349e3sm834178e0c.2.2025.11.15.00.01.08 (version=TLS1_2 cipher=ECDHE-ECDSA-AES128-GCM-SHA256 bits=128/128); Sat, 15 Nov 2025 00:01:08 -0800 (PST) X-Relaying-Domain: iol.unh.edu Date: Sat, 15 Nov 2025 00:01:08 -0800 (PST) Message-ID: <69183344.050a0220.1e32c9.ab9cSMTPIN_ADDED_MISSING@mx.google.com> Received: from [172.21.0.9] (unknown [172.18.0.240]) by postal.iol.unh.edu (Postfix) with ESMTP id A1B406051830; Sat, 15 Nov 2025 03:01:07 -0500 (EST) Subject: |SUCCESS| pw158819 [PATCH] net/mlx5: improve error on completing tab From: dpdklab@iol.unh.edu To: Test Report Cc: dpdk-test-reports@iol.unh.edu In-Reply-To: <20251114192712.1637369-1-dsosnowski@nvidia.com> References: <20251114192712.1637369-1-dsosnowski@nvidia.com> Content-Type: text/plain X-BeenThere: test-report@dpdk.org X-Mailman-Version: 2.1.29 Precedence: list List-Id: automatic DPDK test reports List-Unsubscribe: , List-Archive: List-Post: List-Help: List-Subscribe: , Errors-To: test-report-bounces@dpdk.org Test-Label: iol-compile-amd64-testing Test-Status: SUCCESS http://dpdk.org/patch/158819 _Testing PASS_ Submitter: Dariusz Sosnowski Date: Friday, November 14 2025 19:27:12 DPDK git baseline: Repo:dpdk-next-net-mlx Branch: master CommitID:ae657d56b1f0ea979b3f611edf28d773efc2ddcf 158819 --> testing pass Upstream job id: Generic-DPDK-Compile-Meson#444720 Test environment and result as below: +-------------------------------+--------------------+-------------------------+-------------------+------------------+ | Environment | dpdk_meson_compile | dpdk_llvm_clang_compile | dpdk_msvc_compile | dpdk_compile_ovs | +===============================+====================+=========================+===================+==================+ | Ubuntu 20.04 | PASS | SKIPPED | SKIPPED | SKIPPED | +-------------------------------+--------------------+-------------------------+-------------------+------------------+ | FreeBSD 14.2 | PASS | SKIPPED | SKIPPED | SKIPPED | +-------------------------------+--------------------+-------------------------+-------------------+------------------+ | CentOS Stream 9 | PASS | SKIPPED | SKIPPED | SKIPPED | +-------------------------------+--------------------+-------------------------+-------------------+------------------+ | CentOS Stream 10 | PASS | SKIPPED | SKIPPED | SKIPPED | +-------------------------------+--------------------+-------------------------+-------------------+------------------+ | Debian GNU/Linux 12 | PASS | SKIPPED | SKIPPED | SKIPPED | +-------------------------------+--------------------+-------------------------+-------------------+------------------+ | Fedora Linux 42 | PASS | SKIPPED | SKIPPED | PASS | +-------------------------------+--------------------+-------------------------+-------------------+------------------+ | openSUSE Leap 15.6 | PASS | SKIPPED | SKIPPED | SKIPPED | +-------------------------------+--------------------+-------------------------+-------------------+------------------+ | Red Hat Enterprise Linux 8.10 | PASS | SKIPPED | SKIPPED | SKIPPED | +-------------------------------+--------------------+-------------------------+-------------------+------------------+ | Red Hat Enterprise Linux 9.5 | PASS | SKIPPED | SKIPPED | SKIPPED | +-------------------------------+--------------------+-------------------------+-------------------+------------------+ | Ubuntu 22.04 | PASS | SKIPPED | SKIPPED | SKIPPED | +-------------------------------+--------------------+-------------------------+-------------------+------------------+ | Ubuntu 24.04 | PASS | SKIPPED | SKIPPED | PASS | +-------------------------------+--------------------+-------------------------+-------------------+------------------+ | Alpine Linux 3.22.0 | PASS | SKIPPED | SKIPPED | SKIPPED | +-------------------------------+--------------------+-------------------------+-------------------+------------------+ | Windows Server 2022 | SKIPPED | PASS | PASS | SKIPPED | +-------------------------------+--------------------+-------------------------+-------------------+------------------+ Ubuntu 20.04 Kernel: 4.19 Compiler: gcc gcc (Ubuntu 9.4.0-1ubuntu1~20.04.2) 9.4.0 FreeBSD 14.2 Kernel: 14.2-RELEASE Compiler: clang 18.1.6 CentOS Stream 9 Kernel: 5.15 Compiler: gcc gcc (GCC) 11.5.0 20240719 (Red Hat 11.5.0-11) CentOS Stream 10 Kernel: 5.15 Compiler: gcc gcc (GCC) 14.2.1 20250110 (Red Hat 14.2.1-8) Debian GNU/Linux 12 Kernel: 5.15 Compiler: gcc gcc (Debian 12.2.0-14+deb12u1) 12.2.0 Fedora Linux 42 Kernel: 5.15 Compiler: clang gcc (GCC) 15.2.1 20250808 (Red Hat 15.2.1-1) openSUSE Leap 15.6 Kernel: 5.15 Compiler: gcc gcc (SUSE Linux) 7.5.0 Red Hat Enterprise Linux 8.10 Kernel: 5.15 Compiler: gcc gcc (GCC) 8.5.0 20210514 (Red Hat 8.5.0-22) Red Hat Enterprise Linux 9.5 Kernel: 5.15 Compiler: gcc gcc (GCC) 11.5.0 20240719 (Red Hat 11.5.0-2) Ubuntu 22.04 Kernel: 5.15 Compiler: gcc gcc (Ubuntu 11.4.0-1ubuntu1~22.04) 11.4.0 Ubuntu 24.04 Kernel: 5.15 Compiler: gcc gcc (Ubuntu 13.3.0-6ubuntu2~24.04) 13.3.0 Alpine Linux 3.22.0 Kernel: 5.15 Compiler: gcc gcc (Alpine 14.2.0) 14.2.0 Windows Server 2022 Kernel: 10.0.20348.2031 Compiler: clang 15.0.7, gcc 14.1.0 (MinGW), and MSVC VS 19.39.33521 To view detailed results, visit: https://lab.dpdk.org/results/dashboard/patchsets/34601/ UNH-IOL DPDK Community Lab To manage your email subscriptions, visit: https://lab.dpdk.org/results/dashboard/preferences/subscriptions/