From mboxrd@z Thu Jan 1 00:00:00 1970 Return-Path: Received: from mails.dpdk.org (mails.dpdk.org [217.70.189.124]) by inbox.dpdk.org (Postfix) with ESMTP id A369948B16 for ; Sat, 15 Nov 2025 09:01:17 +0100 (CET) Received: from mails.dpdk.org (localhost [127.0.0.1]) by mails.dpdk.org (Postfix) with ESMTP id 9FB4B400D6; Sat, 15 Nov 2025 09:01:17 +0100 (CET) Received: from mail-yx1-f100.google.com (mail-yx1-f100.google.com [74.125.224.100]) by mails.dpdk.org (Postfix) with ESMTP id 11CDC402A2 for ; Sat, 15 Nov 2025 09:01:14 +0100 (CET) Received: by mail-yx1-f100.google.com with SMTP id 956f58d0204a3-64107188baeso2524272d50.3 for ; Sat, 15 Nov 2025 00:01:14 -0800 (PST) DKIM-Signature: v=1; a=rsa-sha256; c=relaxed/relaxed; d=iol.unh.edu; s=unh-iol; t=1763193673; x=1763798473; darn=dpdk.org; h=references:in-reply-to:cc:to:from:subject:message-id:date:from:to :cc:subject:date:message-id:reply-to; bh=l6Y/2oIZf5jyR58NE8vaJjCIZQ8ILZDzJiYZvXPsFl8=; b=FAo1ENndMpv8J4F7KxIjA1pIs8gShI1FSuFRfQv/EyAt+zEoKqBRJyZly/nNQoiUHN vEGPXjFkpYUMcXIMnMQRlVQsJzh7M/G9lWG6baIMDqrW7hQtEMt6IyVrhQCScO2qXv/w fPlt5HDgWsm3rriFAJARATc5fFl2u3O5Y/6Zc= X-Google-DKIM-Signature: v=1; a=rsa-sha256; c=relaxed/relaxed; d=1e100.net; s=20230601; t=1763193673; x=1763798473; h=references:in-reply-to:cc:to:from:subject:message-id:date:x-gm-gg :x-gm-message-state:from:to:cc:subject:date:message-id:reply-to; bh=l6Y/2oIZf5jyR58NE8vaJjCIZQ8ILZDzJiYZvXPsFl8=; b=Izjbq960MIz2cIrDDa2N7ydiInhmJpbBxFeoWfxvYN6SxitTS0qGf7EVPAwKcLXB2r Q/vGON19i7+q1cbJ944cqSZqmyZQQ5WSyyfbve93H0CmwJ/ShVzMFJovmcx/2Cpo0rio d6+/ap+FGuS0+6q7Z2Imwp8VxuiqQwTjRbjF+BCYl3+wsQDMIJ/9E3QUoLcSsvhlldWd ouDkCGESSkBvS7Q6i6yG+5WPCzK7vVWd1EHNZzNkiPYFJMNxAXtqDTumtxJyXvWld5nc s4rrEVUB+kcLLUlnQAtzaQf85hgM+fY15BbSl789KgBR/MfEkGp0xZf0td1X8mr9dkX0 Umfw== X-Gm-Message-State: AOJu0YywxLmNrVe0bQppiE86wOIWAVb/CVuXXgWf1IkAvjU1jOc7+1Rl gHRb5TwENjO0hYmPJu6Ovc/j4jY23gNA6Z8hZzliTiM1hZ/DBYaot/lCcMGfEfFXpyKraUELZLC KFMYDAifRbbwuFXX3j3Al/HXzK3+yMioMMcywgI4vSgKHy812VCAenyf+1Jib X-Gm-Gg: ASbGnct5zMrkQRiIolm/2hT55HeSEdDKYttsDCNWi5aWZHKIwQCC/742UWbIASPdQoQ dHQJTIgTSvRMKVRpqzarP/JAP01/n3UrWXr1wt9dxA2CDEQ7a+DJSGNP7nVJePiF/YpIwDjbxPb uYvhAUZvbKQKaGQn+1hlSIMZ6q2eQgLmqL0485Mv28FRPU+18/E8m/2nYopNIBffg6YqMEt22vR elUnCT4wxtDUiBjQO4yJiaapLQ8rQZp2AUlttmhaoqJSF/wTqocPmMdw6y7KoGly05MFzAf2UUo 8AGyrC0iZi2JfUlrFgSVlvNSo61dfjCmECkGKJCDvQcXGWSQZz4nE03FIeRKlKMJjFNvAnGCyPK zwldJiF+L X-Google-Smtp-Source: AGHT+IE048lH6cmJBSK6CyVhMifBN7GjLiSfi83HEmGQq0vRVxd/yb3hU5y1YGn0BLVIlSK/MFwacBDzI7JG X-Received: by 2002:a05:690e:1502:b0:63f:b9b3:9c5 with SMTP id 956f58d0204a3-641e7605cf1mr4976425d50.34.1763193673365; Sat, 15 Nov 2025 00:01:13 -0800 (PST) Received: from postal.iol.unh.edu (postal.iol.unh.edu. [2606:4100:3880:1234::84]) by smtp-relay.gmail.com with ESMTPS id 00721157ae682-78821deba13sm4020857b3.6.2025.11.15.00.01.13 (version=TLS1_2 cipher=ECDHE-ECDSA-AES128-GCM-SHA256 bits=128/128); Sat, 15 Nov 2025 00:01:13 -0800 (PST) X-Relaying-Domain: iol.unh.edu Date: Sat, 15 Nov 2025 00:01:13 -0800 (PST) Message-ID: <69183349.050a0220.4e19f.3f66SMTPIN_ADDED_MISSING@mx.google.com> Received: from [172.21.0.20] (unknown [172.18.0.240]) by postal.iol.unh.edu (Postfix) with ESMTP id 0B7A36051830; Sat, 15 Nov 2025 03:01:13 -0500 (EST) Subject: |SUCCESS| pw158816 [PATCH] net/e1000: add check for filter mask rang From: dpdklab@iol.unh.edu To: Test Report Cc: dpdk-test-reports@iol.unh.edu, Bruce Richardson In-Reply-To: <20251114182131.1296580-1-stephen@networkplumber.org> References: <20251114182131.1296580-1-stephen@networkplumber.org> Content-Type: text/plain X-BeenThere: test-report@dpdk.org X-Mailman-Version: 2.1.29 Precedence: list List-Id: automatic DPDK test reports List-Unsubscribe: , List-Archive: List-Post: List-Help: List-Subscribe: , Errors-To: test-report-bounces@dpdk.org Test-Label: iol-compile-amd64-testing Test-Status: SUCCESS http://dpdk.org/patch/158816 _Testing PASS_ Submitter: Stephen Hemminger Date: Friday, November 14 2025 18:21:31 DPDK git baseline: Repo:dpdk-next-net-intel Branch: master CommitID:e5357d609907d504f4705e4899f3dad43cb4b70f 158816 --> testing pass Upstream job id: Generic-DPDK-Compile-Meson#444704 Test environment and result as below: +-------------------------------+--------------------+-------------------+------------------+ | Environment | dpdk_meson_compile | dpdk_msvc_compile | dpdk_compile_ovs | +===============================+====================+===================+==================+ | Ubuntu 20.04 | PASS | SKIPPED | SKIPPED | +-------------------------------+--------------------+-------------------+------------------+ | FreeBSD 14.2 | PASS | SKIPPED | SKIPPED | +-------------------------------+--------------------+-------------------+------------------+ | CentOS Stream 10 | PASS | SKIPPED | SKIPPED | +-------------------------------+--------------------+-------------------+------------------+ | CentOS Stream 9 | PASS | SKIPPED | SKIPPED | +-------------------------------+--------------------+-------------------+------------------+ | Fedora Linux 42 | PASS | SKIPPED | PASS | +-------------------------------+--------------------+-------------------+------------------+ | Debian GNU/Linux 12 | PASS | SKIPPED | SKIPPED | +-------------------------------+--------------------+-------------------+------------------+ | openSUSE Leap 15.6 | PASS | SKIPPED | SKIPPED | +-------------------------------+--------------------+-------------------+------------------+ | Red Hat Enterprise Linux 8.10 | PASS | SKIPPED | SKIPPED | +-------------------------------+--------------------+-------------------+------------------+ | Red Hat Enterprise Linux 9.5 | PASS | SKIPPED | SKIPPED | +-------------------------------+--------------------+-------------------+------------------+ | Ubuntu 24.04 | PASS | SKIPPED | PASS | +-------------------------------+--------------------+-------------------+------------------+ | Ubuntu 22.04 | PASS | SKIPPED | SKIPPED | +-------------------------------+--------------------+-------------------+------------------+ | Alpine Linux 3.22.0 | PASS | SKIPPED | SKIPPED | +-------------------------------+--------------------+-------------------+------------------+ | Windows Server 2022 | SKIPPED | PASS | SKIPPED | +-------------------------------+--------------------+-------------------+------------------+ Ubuntu 20.04 Kernel: 4.19 Compiler: gcc gcc (Ubuntu 9.4.0-1ubuntu1~20.04.2) 9.4.0 FreeBSD 14.2 Kernel: 14.2-RELEASE Compiler: clang 18.1.6 CentOS Stream 10 Kernel: 5.15 Compiler: gcc gcc (GCC) 14.2.1 20250110 (Red Hat 14.2.1-8) CentOS Stream 9 Kernel: 5.15 Compiler: gcc gcc (GCC) 11.5.0 20240719 (Red Hat 11.5.0-11) Fedora Linux 42 Kernel: 5.15 Compiler: clang gcc (GCC) 15.2.1 20250808 (Red Hat 15.2.1-1) Debian GNU/Linux 12 Kernel: 5.15 Compiler: gcc gcc (Debian 12.2.0-14+deb12u1) 12.2.0 openSUSE Leap 15.6 Kernel: 5.15 Compiler: gcc gcc (SUSE Linux) 7.5.0 Red Hat Enterprise Linux 8.10 Kernel: 5.15 Compiler: gcc gcc (GCC) 8.5.0 20210514 (Red Hat 8.5.0-22) Red Hat Enterprise Linux 9.5 Kernel: 5.15 Compiler: gcc gcc (GCC) 11.5.0 20240719 (Red Hat 11.5.0-2) Ubuntu 24.04 Kernel: 5.15 Compiler: gcc gcc (Ubuntu 13.3.0-6ubuntu2~24.04) 13.3.0 Ubuntu 22.04 Kernel: 5.15 Compiler: gcc gcc (Ubuntu 11.4.0-1ubuntu1~22.04) 11.4.0 Alpine Linux 3.22.0 Kernel: 5.15 Compiler: gcc gcc (Alpine 14.2.0) 14.2.0 Windows Server 2022 Kernel: 10.0.20348.2031 Compiler: clang 15.0.7, gcc 14.1.0 (MinGW), and MSVC VS 19.39.33521 To view detailed results, visit: https://lab.dpdk.org/results/dashboard/patchsets/34598/ UNH-IOL DPDK Community Lab To manage your email subscriptions, visit: https://lab.dpdk.org/results/dashboard/preferences/subscriptions/