From mboxrd@z Thu Jan 1 00:00:00 1970 Return-Path: Received: from mails.dpdk.org (mails.dpdk.org [217.70.189.124]) by inbox.dpdk.org (Postfix) with ESMTP id B081648B16 for ; Sat, 15 Nov 2025 09:01:25 +0100 (CET) Received: from mails.dpdk.org (localhost [127.0.0.1]) by mails.dpdk.org (Postfix) with ESMTP id ACB1A400D6; Sat, 15 Nov 2025 09:01:25 +0100 (CET) Received: from mail-oa1-f98.google.com (mail-oa1-f98.google.com [209.85.160.98]) by mails.dpdk.org (Postfix) with ESMTP id E0323400D6 for ; Sat, 15 Nov 2025 09:01:23 +0100 (CET) Received: by mail-oa1-f98.google.com with SMTP id 586e51a60fabf-3d47192e99bso2309941fac.0 for ; Sat, 15 Nov 2025 00:01:23 -0800 (PST) DKIM-Signature: v=1; a=rsa-sha256; c=relaxed/relaxed; d=iol.unh.edu; s=unh-iol; t=1763193683; x=1763798483; darn=dpdk.org; h=references:in-reply-to:cc:to:from:subject:message-id:date:from:to :cc:subject:date:message-id:reply-to; bh=v34MtZJ9X2eT9U77J3TNQc4coY+lDhrFhqPXp7DDEqk=; b=Hub4dyYbFe0wwhIK33kgvRHdt7L8MA4+oF938d47MQc/Yvh6+kZMbLpS+yXMi2VciQ ELdKfWsoeugJTiFGUIMoA3fEg/YgrSgWEo1qmo7ljqam8YhMNJox5zBhTOqmalFfMt2K Mhk+RG5ymzT0KSjmyLplcGFEiLxADfD1eMaCk= X-Google-DKIM-Signature: v=1; a=rsa-sha256; c=relaxed/relaxed; d=1e100.net; s=20230601; t=1763193683; x=1763798483; h=references:in-reply-to:cc:to:from:subject:message-id:date:x-gm-gg :x-gm-message-state:from:to:cc:subject:date:message-id:reply-to; bh=v34MtZJ9X2eT9U77J3TNQc4coY+lDhrFhqPXp7DDEqk=; b=C4tQjKEB8KFrlsjDS7G6+U3winQJSXT5cNTU74viihEYIeK26WD1sL0uQ6BaguCK3y K0zz/2cUw479mx1tQT4+D+HFKc2mrY3WSFZKNjJ76R/OKO9E2XyVgkV+DgvunQzpekdP xeScCpsFyr7abx1tIEk94WNmTZeuivh348dWbuizOoNi12xYYC/Pbhl0yaAXP+0au6gU dMKwIVlwLDkz7wKdhLzMXsXZjmYlJoZeyQ6l03fvQwjpSz9X3njJ35Se1mBHmYPyVThL DWyUWIQn5XIO1ecEXA21v03mfLwClCPFd0h5X1HUx7bHA6qwXUlnlzqKrU2sRXj80us7 tPeg== X-Gm-Message-State: AOJu0YyfX2EZlx8S5A1wW7BLFzSHERxHlAI6RXE8CE1d2w2/NUpyDsDE kWtEgYnrNE9T9txmrSNMMQ1dyAAy97jtei4yKUDgyQfGrQTMJ9wi/ntmfSfKDFCyhIbZk4OVJbw hahNckxlWYENv7+woTc0MXd0zuk1vIIPbZ5DseAo/GT+7 X-Gm-Gg: ASbGncsp41lgVmeZyW1gCes74j/OkSdS6l//9YMT6M1A0tcUzw0DbLq02tSobxkT8OX ijm7cuPbB03qA9Ch8VcLVXvqWb9xG1T2VH8VEXxY3/Ok03sPIQe7/6BkhYQk1MLmW78Mp3N8n3F D1CEC8VZDSMjr3I05KIq3hGKqXeVT8/azP/t6bPMr+jf6fzChI2++axvsWLWNsPcSRI89Q9xyay qDzmf5+U99oq3PAeNLm/A+7txYl0B9TtKfqj+JVwPwGDnhi+t1jfQ/mJr7nqcqDeLZ/Daz49egI bhlZDOU9q23YHe8gl2Ce083aLgIRv/iBe+p5q3Z5Q4LmBWxfwceq9fYwJK+WDiaIIA7Q7tKGOyy G0w1ZmR6VDHTsyqRtko3aLGT3aa8mU1M= X-Google-Smtp-Source: AGHT+IEmHhLdAdQ+XuyZZOH6m8Tzpl8HPUFzOBvdA7FjUQmlkuaXzBWJ1GLh1qIz4g6DkgDnuQi26XwEcCbw X-Received: by 2002:a05:6870:5490:b0:3e8:824c:a0bf with SMTP id 586e51a60fabf-3e8824caa97mr1421227fac.27.1763193683088; Sat, 15 Nov 2025 00:01:23 -0800 (PST) Received: from postal.iol.unh.edu (postal.iol.unh.edu. [132.177.123.84]) by smtp-relay.gmail.com with ESMTPS id 586e51a60fabf-3e8522baa57sm671160fac.18.2025.11.15.00.01.23 (version=TLS1_2 cipher=ECDHE-ECDSA-AES128-GCM-SHA256 bits=128/128); Sat, 15 Nov 2025 00:01:23 -0800 (PST) X-Relaying-Domain: iol.unh.edu Date: Sat, 15 Nov 2025 00:01:23 -0800 (PST) Message-ID: <69183353.050a0220.a3c31.07b3SMTPIN_ADDED_MISSING@mx.google.com> Received: from [172.21.0.6] (unknown [172.18.0.240]) by postal.iol.unh.edu (Postfix) with ESMTP id 9B0F86051830; Sat, 15 Nov 2025 03:01:22 -0500 (EST) Subject: |SUCCESS| pw158819 [PATCH] net/mlx5: improve error on completing tab From: dpdklab@iol.unh.edu To: Test Report Cc: dpdk-test-reports@iol.unh.edu In-Reply-To: <20251114192712.1637369-1-dsosnowski@nvidia.com> References: <20251114192712.1637369-1-dsosnowski@nvidia.com> Content-Type: text/plain X-BeenThere: test-report@dpdk.org X-Mailman-Version: 2.1.29 Precedence: list List-Id: automatic DPDK test reports List-Unsubscribe: , List-Archive: List-Post: List-Help: List-Subscribe: , Errors-To: test-report-bounces@dpdk.org Test-Label: iol-compile-amd64-testing Test-Status: SUCCESS http://dpdk.org/patch/158819 _Testing PASS_ Submitter: Dariusz Sosnowski Date: Friday, November 14 2025 19:27:12 DPDK git baseline: Repo:dpdk-next-net-mlx Branch: master CommitID:ae657d56b1f0ea979b3f611edf28d773efc2ddcf 158819 --> testing pass Upstream job id: Generic-DPDK-Compile-Meson#444728 Test environment and result as below: +-------------------------------+--------------------+-------------------------+-------------------+------------------+ | Environment | dpdk_meson_compile | dpdk_llvm_clang_compile | dpdk_msvc_compile | dpdk_compile_ovs | +===============================+====================+=========================+===================+==================+ | Ubuntu 20.04 | PASS | SKIPPED | SKIPPED | SKIPPED | +-------------------------------+--------------------+-------------------------+-------------------+------------------+ | FreeBSD 14.2 | PASS | SKIPPED | SKIPPED | SKIPPED | +-------------------------------+--------------------+-------------------------+-------------------+------------------+ | CentOS Stream 9 | PASS | SKIPPED | SKIPPED | SKIPPED | +-------------------------------+--------------------+-------------------------+-------------------+------------------+ | CentOS Stream 10 | PASS | SKIPPED | SKIPPED | SKIPPED | +-------------------------------+--------------------+-------------------------+-------------------+------------------+ | Debian GNU/Linux 12 | PASS | SKIPPED | SKIPPED | SKIPPED | +-------------------------------+--------------------+-------------------------+-------------------+------------------+ | Fedora Linux 42 | PASS | SKIPPED | SKIPPED | PASS | +-------------------------------+--------------------+-------------------------+-------------------+------------------+ | openSUSE Leap 15.6 | PASS | SKIPPED | SKIPPED | SKIPPED | +-------------------------------+--------------------+-------------------------+-------------------+------------------+ | Red Hat Enterprise Linux 8.10 | PASS | SKIPPED | SKIPPED | SKIPPED | +-------------------------------+--------------------+-------------------------+-------------------+------------------+ | Red Hat Enterprise Linux 9.5 | PASS | SKIPPED | SKIPPED | SKIPPED | +-------------------------------+--------------------+-------------------------+-------------------+------------------+ | Ubuntu 22.04 | PASS | SKIPPED | SKIPPED | SKIPPED | +-------------------------------+--------------------+-------------------------+-------------------+------------------+ | Ubuntu 24.04 | PASS | SKIPPED | SKIPPED | PASS | +-------------------------------+--------------------+-------------------------+-------------------+------------------+ | Alpine Linux 3.22.0 | PASS | SKIPPED | SKIPPED | SKIPPED | +-------------------------------+--------------------+-------------------------+-------------------+------------------+ | Windows Server 2022 | SKIPPED | PASS | PASS | SKIPPED | +-------------------------------+--------------------+-------------------------+-------------------+------------------+ Ubuntu 20.04 Kernel: 4.19 Compiler: gcc gcc (Ubuntu 9.4.0-1ubuntu1~20.04.2) 9.4.0 FreeBSD 14.2 Kernel: 14.2-RELEASE Compiler: clang 18.1.6 CentOS Stream 9 Kernel: 5.15 Compiler: gcc gcc (GCC) 11.5.0 20240719 (Red Hat 11.5.0-11) CentOS Stream 10 Kernel: 5.15 Compiler: gcc gcc (GCC) 14.2.1 20250110 (Red Hat 14.2.1-8) Debian GNU/Linux 12 Kernel: 5.15 Compiler: gcc gcc (Debian 12.2.0-14+deb12u1) 12.2.0 Fedora Linux 42 Kernel: 5.15 Compiler: clang gcc (GCC) 15.2.1 20250808 (Red Hat 15.2.1-1) openSUSE Leap 15.6 Kernel: 5.15 Compiler: gcc gcc (SUSE Linux) 7.5.0 Red Hat Enterprise Linux 8.10 Kernel: 5.15 Compiler: gcc gcc (GCC) 8.5.0 20210514 (Red Hat 8.5.0-22) Red Hat Enterprise Linux 9.5 Kernel: 5.15 Compiler: gcc gcc (GCC) 11.5.0 20240719 (Red Hat 11.5.0-2) Ubuntu 22.04 Kernel: 5.15 Compiler: gcc gcc (Ubuntu 11.4.0-1ubuntu1~22.04) 11.4.0 Ubuntu 24.04 Kernel: 5.15 Compiler: gcc gcc (Ubuntu 13.3.0-6ubuntu2~24.04) 13.3.0 Alpine Linux 3.22.0 Kernel: 5.15 Compiler: gcc gcc (Alpine 14.2.0) 14.2.0 Windows Server 2022 Kernel: 10.0.20348.2031 Compiler: clang 15.0.7, gcc 14.1.0 (MinGW), and MSVC VS 19.39.33521 To view detailed results, visit: https://lab.dpdk.org/results/dashboard/patchsets/34601/ UNH-IOL DPDK Community Lab To manage your email subscriptions, visit: https://lab.dpdk.org/results/dashboard/preferences/subscriptions/