From mboxrd@z Thu Jan 1 00:00:00 1970 Return-Path: Received: from mails.dpdk.org (mails.dpdk.org [217.70.189.124]) by inbox.dpdk.org (Postfix) with ESMTP id C3FB448B16 for ; Sat, 15 Nov 2025 09:01:42 +0100 (CET) Received: from mails.dpdk.org (localhost [127.0.0.1]) by mails.dpdk.org (Postfix) with ESMTP id BDA39400D6; Sat, 15 Nov 2025 09:01:42 +0100 (CET) Received: from mail-pl1-f226.google.com (mail-pl1-f226.google.com [209.85.214.226]) by mails.dpdk.org (Postfix) with ESMTP id 53FAD400D6 for ; Sat, 15 Nov 2025 09:01:41 +0100 (CET) Received: by mail-pl1-f226.google.com with SMTP id d9443c01a7336-29808a9a96aso26515255ad.1 for ; Sat, 15 Nov 2025 00:01:41 -0800 (PST) DKIM-Signature: v=1; a=rsa-sha256; c=relaxed/relaxed; d=iol.unh.edu; s=unh-iol; t=1763193700; x=1763798500; darn=dpdk.org; h=references:in-reply-to:cc:to:from:subject:message-id:date:from:to :cc:subject:date:message-id:reply-to; bh=lN9jG+rfNUcHA1JjMij4Jwo4OFFmnoggIiCNs3LFaHI=; b=Fj/HnSTtftFoAKztT3cJaZcsI+d/AEhgk55UPNHRjX5GOQSUjLaRR/BnX3cwsccH2/ 1AmfwSdTDodH7nvJGrXlAf9SuR/H7ZQ4Qmu6Fv3gmlTrdOg35lPxddtMcuxxRZi8dZ0Q 4AuSkzJNyXz2HyErwM5LeJAlb0ktRXaPNtmHA= X-Google-DKIM-Signature: v=1; a=rsa-sha256; c=relaxed/relaxed; d=1e100.net; s=20230601; t=1763193700; x=1763798500; h=references:in-reply-to:cc:to:from:subject:message-id:date:x-gm-gg :x-gm-message-state:from:to:cc:subject:date:message-id:reply-to; bh=lN9jG+rfNUcHA1JjMij4Jwo4OFFmnoggIiCNs3LFaHI=; b=moixZqYBfLc/rv4qd+Ry5uuOvRFAypK4jM9DvHx4mcFmCQZjl8W1aUPvLvL0YPs2ck eJPaClTz00hz1ddi3C5LlC6Dq3DVckuw0wEGEcr0acDELppmk/4I3fRlzu4NHZTO8K44 37WgP0WQKfsGikvKyj3Wx/feKvAikXi/sGXbGVsY9aStrzngwjqwiI3CCxKqr5UvtOxb pDVC72J6tiDjD2YDgRwVki6ZRuO6tJqjgH1d96v1KeeQ83oovjA1fLMH2Q/kSTqun+TT A8muXsyEiLiZ7xznb6zmDhJtDo5GOTl7DCG9BF0S+v1RH4UVB/Khp8iiqpPnGCoKZ+2J RknA== X-Gm-Message-State: AOJu0YzSBZvcXH3gvV/gg4qfE9D2Ex/OBfFck3VaZSqht3zbuDrM6Klh YuHs0zn6+amm8v4b3xENOYGj6Vh3XqAyzC1mk748iLAjNQxKy4ldXTw+HHro592zNmpXMUw4CAt W6FYfDkzIQmwdLMtYef0k48XLW8VsfnhWBJZkFpfbEDXl X-Gm-Gg: ASbGncsaEBQpnxez8Sbu7B5N6fNFFOMEvaLYBg23MUmUCpBYOD5XsI8kpUerCYD8Pfv 7FzZczaTFyYZLlalRKJaDBfTcC3/IEmkmxmzcPmUlT0gsb0dAyW4UrXCCHGu77WMHWsD67Lhml7 qz+petZNaMRkIOaVJ+j+VsTvuPPwTHvxtO54v77JX5LHn3yDDugbm3KuKJyiPnGZ364KGvYnSFW QfT/fD2pBMD+SYMNjXGLBCxg4RS/1jIRmlpcm3QsKz0Axvt5RTj88nYnbpdLEWPXzrPtENOQWcj AIEP9N72hmoy8cZLnT8p5mJ3wpIdFLjftwOlBCL0VJU3Lz1POJp+Q+s4clfDWNc7iCf1b+Iy20Y HpUhzK6hZD5Mp3SMudEdOKIBb+rzlflQ= X-Google-Smtp-Source: AGHT+IFtwEh8uID89bWsV7CdYZ+3oQz3u5FcRchhdkMsnyYKu5q2bFaunLEgsjyQP3t5SmGhdcMErU85FPMP X-Received: by 2002:a17:903:1a2f:b0:298:481c:cbd0 with SMTP id d9443c01a7336-2986a76b6d1mr59681585ad.55.1763193700496; Sat, 15 Nov 2025 00:01:40 -0800 (PST) Received: from postal.iol.unh.edu (postal.iol.unh.edu. [132.177.123.84]) by smtp-relay.gmail.com with ESMTPS id d9443c01a7336-2985c2c3d86sm8015485ad.57.2025.11.15.00.01.40 (version=TLS1_2 cipher=ECDHE-ECDSA-AES128-GCM-SHA256 bits=128/128); Sat, 15 Nov 2025 00:01:40 -0800 (PST) X-Relaying-Domain: iol.unh.edu Date: Sat, 15 Nov 2025 00:01:40 -0800 (PST) Message-ID: <69183364.170a0220.301bc3.8344SMTPIN_ADDED_MISSING@mx.google.com> Received: from [172.21.0.16] (unknown [172.18.0.240]) by postal.iol.unh.edu (Postfix) with ESMTP id BB2A56051830; Sat, 15 Nov 2025 03:01:39 -0500 (EST) Subject: |SUCCESS| pw158813 [PATCH] [v2] net/mlx5: fix warning from uninitial From: dpdklab@iol.unh.edu To: Test Report Cc: dpdk-test-reports@iol.unh.edu In-Reply-To: <20251114174912.1103626-1-stephen@networkplumber.org> References: <20251114174912.1103626-1-stephen@networkplumber.org> Content-Type: text/plain X-BeenThere: test-report@dpdk.org X-Mailman-Version: 2.1.29 Precedence: list List-Id: automatic DPDK test reports List-Unsubscribe: , List-Archive: List-Post: List-Help: List-Subscribe: , Errors-To: test-report-bounces@dpdk.org Test-Label: iol-compile-amd64-testing Test-Status: SUCCESS http://dpdk.org/patch/158813 _Testing PASS_ Submitter: Stephen Hemminger Date: Friday, November 14 2025 17:49:12 DPDK git baseline: Repo:dpdk-next-net-mlx Branch: master CommitID:ae657d56b1f0ea979b3f611edf28d773efc2ddcf 158813 --> testing pass Upstream job id: Generic-DPDK-Compile-Meson#444634 Test environment and result as below: +-------------------------------+--------------------+-------------------+------------------+ | Environment | dpdk_meson_compile | dpdk_msvc_compile | dpdk_compile_ovs | +===============================+====================+===================+==================+ | Ubuntu 20.04 | PASS | SKIPPED | SKIPPED | +-------------------------------+--------------------+-------------------+------------------+ | FreeBSD 14.2 | PASS | SKIPPED | SKIPPED | +-------------------------------+--------------------+-------------------+------------------+ | CentOS Stream 9 | PASS | SKIPPED | SKIPPED | +-------------------------------+--------------------+-------------------+------------------+ | CentOS Stream 10 | PASS | SKIPPED | SKIPPED | +-------------------------------+--------------------+-------------------+------------------+ | Debian GNU/Linux 12 | PASS | SKIPPED | SKIPPED | +-------------------------------+--------------------+-------------------+------------------+ | Fedora Linux 42 | PASS | SKIPPED | PASS | +-------------------------------+--------------------+-------------------+------------------+ | Red Hat Enterprise Linux 8.10 | PASS | SKIPPED | SKIPPED | +-------------------------------+--------------------+-------------------+------------------+ | Red Hat Enterprise Linux 9.5 | PASS | SKIPPED | SKIPPED | +-------------------------------+--------------------+-------------------+------------------+ | openSUSE Leap 15.6 | PASS | SKIPPED | SKIPPED | +-------------------------------+--------------------+-------------------+------------------+ | Ubuntu 24.04 | PASS | SKIPPED | PASS | +-------------------------------+--------------------+-------------------+------------------+ | Ubuntu 22.04 | PASS | SKIPPED | SKIPPED | +-------------------------------+--------------------+-------------------+------------------+ | Alpine Linux 3.22.0 | PASS | SKIPPED | SKIPPED | +-------------------------------+--------------------+-------------------+------------------+ | Windows Server 2022 | SKIPPED | PASS | SKIPPED | +-------------------------------+--------------------+-------------------+------------------+ Ubuntu 20.04 Kernel: 4.19 Compiler: gcc gcc (Ubuntu 9.4.0-1ubuntu1~20.04.2) 9.4.0 FreeBSD 14.2 Kernel: 14.2-RELEASE Compiler: clang 18.1.6 CentOS Stream 9 Kernel: 5.15 Compiler: gcc gcc (GCC) 11.5.0 20240719 (Red Hat 11.5.0-11) CentOS Stream 10 Kernel: 5.15 Compiler: gcc gcc (GCC) 14.2.1 20250110 (Red Hat 14.2.1-8) Debian GNU/Linux 12 Kernel: 5.15 Compiler: gcc gcc (Debian 12.2.0-14+deb12u1) 12.2.0 Fedora Linux 42 Kernel: 5.15 Compiler: gcc gcc (GCC) 15.2.1 20250808 (Red Hat 15.2.1-1) Red Hat Enterprise Linux 8.10 Kernel: 5.15 Compiler: gcc gcc (GCC) 8.5.0 20210514 (Red Hat 8.5.0-22) Red Hat Enterprise Linux 9.5 Kernel: 5.15 Compiler: gcc gcc (GCC) 11.5.0 20240719 (Red Hat 11.5.0-2) openSUSE Leap 15.6 Kernel: 5.15 Compiler: gcc gcc (SUSE Linux) 7.5.0 Ubuntu 24.04 Kernel: 5.15 Compiler: gcc gcc (Ubuntu 13.3.0-6ubuntu2~24.04) 13.3.0 Ubuntu 22.04 Kernel: 5.15 Compiler: gcc gcc (Ubuntu 11.4.0-1ubuntu1~22.04) 11.4.0 Alpine Linux 3.22.0 Kernel: 5.15 Compiler: gcc gcc (Alpine 14.2.0) 14.2.0 Windows Server 2022 Kernel: 10.0.20348.2031 Compiler: clang 15.0.7, gcc 14.1.0 (MinGW), and MSVC VS 19.39.33521 To view detailed results, visit: https://lab.dpdk.org/results/dashboard/patchsets/34595/ UNH-IOL DPDK Community Lab To manage your email subscriptions, visit: https://lab.dpdk.org/results/dashboard/preferences/subscriptions/