From mboxrd@z Thu Jan 1 00:00:00 1970 Return-Path: Received: from mails.dpdk.org (mails.dpdk.org [217.70.189.124]) by inbox.dpdk.org (Postfix) with ESMTP id D04FB48B16 for ; Sat, 15 Nov 2025 09:01:57 +0100 (CET) Received: from mails.dpdk.org (localhost [127.0.0.1]) by mails.dpdk.org (Postfix) with ESMTP id CC351400D6; Sat, 15 Nov 2025 09:01:57 +0100 (CET) Received: from mail-pl1-f226.google.com (mail-pl1-f226.google.com [209.85.214.226]) by mails.dpdk.org (Postfix) with ESMTP id 7FF37400D6 for ; Sat, 15 Nov 2025 09:01:56 +0100 (CET) Received: by mail-pl1-f226.google.com with SMTP id d9443c01a7336-297ef378069so27258245ad.3 for ; Sat, 15 Nov 2025 00:01:56 -0800 (PST) DKIM-Signature: v=1; a=rsa-sha256; c=relaxed/relaxed; d=iol.unh.edu; s=unh-iol; t=1763193716; x=1763798516; darn=dpdk.org; h=references:in-reply-to:cc:to:from:subject:message-id:date:from:to :cc:subject:date:message-id:reply-to; bh=rws2gFdzWTcvQZ++N+ckRp4gY7qQTA85yk+2tAigbwE=; b=VhHSFTVdp4vMC06q7fUbAvzMnDWfXY062ewSbTSNI2w+gYldALcjFJPsj7OKWtl/Ud AXMe5Bh4jplivTNMDgB/OEZx64y5ThprK2vzK5ByvSGtNbXw2RtProJRNCMMAY05es0u Y49GfaemrxfCRvA/sD34O0OXfld/4Ox/z66/o= X-Google-DKIM-Signature: v=1; a=rsa-sha256; c=relaxed/relaxed; d=1e100.net; s=20230601; t=1763193716; x=1763798516; h=references:in-reply-to:cc:to:from:subject:message-id:date:x-gm-gg :x-gm-message-state:from:to:cc:subject:date:message-id:reply-to; bh=rws2gFdzWTcvQZ++N+ckRp4gY7qQTA85yk+2tAigbwE=; b=TXXXI2Z2H526K7Q4McQA13+U18F/QzynTPOLcosp50+bnOVAdDohiub3oUjNiGHJNP QWaon7Tayz+IBN3wRNPQJXzf//gB/pXe/pqA68Lqo/AGxVVviboIseWJEZqWNYaOPKrw W6CuZXRtyFlPHdeYiJOufBfe8Yo++HIYeWLufZ6qS1iW4vrLos2f8NHptEePyRZ8ns7k 2xZ7f7HXyGkZRsihNWuchVhx46FGnCffO3U3Vpp4HpZAQ1IiUuipqTPdLa+0ID4/82y3 vr5+L+tRVoUZx232C88K8EeSQXqtNewAMXrvkfnwT0cj6wtjiJeh3Xf3DKzuzQAUplMG PIWw== X-Gm-Message-State: AOJu0YywWfR75Zyy7R/ZS3fwHJxQ0wzFs3tw20roc5Lyzyn4nZqbmqxz l4Dn+e2bRdxs6r59Q7FiciBVkxvukPNZOi+nw7P25yS04h8fMatnasc5UO9oqs0AsZwwPquH/XS d4g/p6huY6zTWCrwhIA58d7sD4ammfGAY6Ssv2GsM66Vr X-Gm-Gg: ASbGncsSMFcqK6q2JJb7T36GUi29lnTSkvud4iyPoY3WnCM1hZCdYBw18zMTcDTauIn p+CrLGMR7ivhFD9mBz1DWtQ0ev8DS1o2OQn9NVe5G7KAFhqeW/EjPRfG8mci3eJiKuwCibOvTmx 61oQ7MpK/izBmDKg6lkZ2AuyxFYKfyp2XH3QkEtroSni4DeqYHyjLA52zWTGCB+iAKk3CWRsX/p bwYCOV8W8PRIgIX/+T7h0XKdaIHfK17603vg78xVgE7s2RFgYF/OIg2y3Zlz9e61nnzcjPYuBbF 35RGXVkpMULD9DKkdqlab0A6A9mj5A1c9vajQDNRsmYKNRoRsaOonUSVTodJPLNv1+iECViEnbO oz025opwh+W4uCJzpanQG7VbN9VY1Mew= X-Google-Smtp-Source: AGHT+IGfFxwqVh8ECox5liXltOrlGI7BcDC+mh9YnMOf9SmqIOyGWNmK4j0uAASWG+s/u+HbA5AXRR6j3UZs X-Received: by 2002:a17:903:380b:b0:295:6427:87d4 with SMTP id d9443c01a7336-2986a752b52mr58249435ad.50.1763193715750; Sat, 15 Nov 2025 00:01:55 -0800 (PST) Received: from postal.iol.unh.edu (postal.iol.unh.edu. [132.177.123.84]) by smtp-relay.gmail.com with ESMTPS id d9443c01a7336-298629cf1d3sm6573255ad.49.2025.11.15.00.01.55 (version=TLS1_2 cipher=ECDHE-ECDSA-AES128-GCM-SHA256 bits=128/128); Sat, 15 Nov 2025 00:01:55 -0800 (PST) X-Relaying-Domain: iol.unh.edu Date: Sat, 15 Nov 2025 00:01:55 -0800 (PST) Message-ID: <69183373.170a0220.2d0fd0.032dSMTPIN_ADDED_MISSING@mx.google.com> Received: from [172.21.0.12] (unknown [172.18.0.240]) by postal.iol.unh.edu (Postfix) with ESMTP id 02D746051830; Sat, 15 Nov 2025 03:01:55 -0500 (EST) Subject: |SUCCESS| pw158816 [PATCH] net/e1000: add check for filter mask rang From: dpdklab@iol.unh.edu To: Test Report Cc: dpdk-test-reports@iol.unh.edu, Bruce Richardson In-Reply-To: <20251114182131.1296580-1-stephen@networkplumber.org> References: <20251114182131.1296580-1-stephen@networkplumber.org> Content-Type: text/plain X-BeenThere: test-report@dpdk.org X-Mailman-Version: 2.1.29 Precedence: list List-Id: automatic DPDK test reports List-Unsubscribe: , List-Archive: List-Post: List-Help: List-Subscribe: , Errors-To: test-report-bounces@dpdk.org Test-Label: iol-compile-amd64-testing Test-Status: SUCCESS http://dpdk.org/patch/158816 _Testing PASS_ Submitter: Stephen Hemminger Date: Friday, November 14 2025 18:21:31 DPDK git baseline: Repo:dpdk-next-net-intel Branch: master CommitID:e5357d609907d504f4705e4899f3dad43cb4b70f 158816 --> testing pass Upstream job id: Generic-DPDK-Compile-Meson#444695 Test environment and result as below: +-------------------------------+--------------------+-------------------+------------------+ | Environment | dpdk_meson_compile | dpdk_msvc_compile | dpdk_compile_ovs | +===============================+====================+===================+==================+ | Ubuntu 20.04 | PASS | SKIPPED | SKIPPED | +-------------------------------+--------------------+-------------------+------------------+ | FreeBSD 14.2 | PASS | SKIPPED | SKIPPED | +-------------------------------+--------------------+-------------------+------------------+ | CentOS Stream 10 | PASS | SKIPPED | SKIPPED | +-------------------------------+--------------------+-------------------+------------------+ | CentOS Stream 9 | PASS | SKIPPED | SKIPPED | +-------------------------------+--------------------+-------------------+------------------+ | Fedora Linux 42 | PASS | SKIPPED | PASS | +-------------------------------+--------------------+-------------------+------------------+ | Debian GNU/Linux 12 | PASS | SKIPPED | SKIPPED | +-------------------------------+--------------------+-------------------+------------------+ | openSUSE Leap 15.6 | PASS | SKIPPED | SKIPPED | +-------------------------------+--------------------+-------------------+------------------+ | Red Hat Enterprise Linux 8.10 | PASS | SKIPPED | SKIPPED | +-------------------------------+--------------------+-------------------+------------------+ | Red Hat Enterprise Linux 9.5 | PASS | SKIPPED | SKIPPED | +-------------------------------+--------------------+-------------------+------------------+ | Ubuntu 24.04 | PASS | SKIPPED | PASS | +-------------------------------+--------------------+-------------------+------------------+ | Ubuntu 22.04 | PASS | SKIPPED | SKIPPED | +-------------------------------+--------------------+-------------------+------------------+ | Alpine Linux 3.22.0 | PASS | SKIPPED | SKIPPED | +-------------------------------+--------------------+-------------------+------------------+ | Windows Server 2022 | SKIPPED | PASS | SKIPPED | +-------------------------------+--------------------+-------------------+------------------+ Ubuntu 20.04 Kernel: 4.19 Compiler: gcc gcc (Ubuntu 9.4.0-1ubuntu1~20.04.2) 9.4.0 FreeBSD 14.2 Kernel: 14.2-RELEASE Compiler: clang 18.1.6 CentOS Stream 10 Kernel: 5.15 Compiler: gcc gcc (GCC) 14.2.1 20250110 (Red Hat 14.2.1-8) CentOS Stream 9 Kernel: 5.15 Compiler: gcc gcc (GCC) 11.5.0 20240719 (Red Hat 11.5.0-11) Fedora Linux 42 Kernel: 5.15 Compiler: clang gcc (GCC) 15.2.1 20250808 (Red Hat 15.2.1-1) Debian GNU/Linux 12 Kernel: 5.15 Compiler: gcc gcc (Debian 12.2.0-14+deb12u1) 12.2.0 openSUSE Leap 15.6 Kernel: 5.15 Compiler: gcc gcc (SUSE Linux) 7.5.0 Red Hat Enterprise Linux 8.10 Kernel: 5.15 Compiler: gcc gcc (GCC) 8.5.0 20210514 (Red Hat 8.5.0-22) Red Hat Enterprise Linux 9.5 Kernel: 5.15 Compiler: gcc gcc (GCC) 11.5.0 20240719 (Red Hat 11.5.0-2) Ubuntu 24.04 Kernel: 5.15 Compiler: gcc gcc (Ubuntu 13.3.0-6ubuntu2~24.04) 13.3.0 Ubuntu 22.04 Kernel: 5.15 Compiler: gcc gcc (Ubuntu 11.4.0-1ubuntu1~22.04) 11.4.0 Alpine Linux 3.22.0 Kernel: 5.15 Compiler: gcc gcc (Alpine 14.2.0) 14.2.0 Windows Server 2022 Kernel: 10.0.20348.2031 Compiler: clang 15.0.7, gcc 14.1.0 (MinGW), and MSVC VS 19.39.33521 To view detailed results, visit: https://lab.dpdk.org/results/dashboard/patchsets/34598/ UNH-IOL DPDK Community Lab To manage your email subscriptions, visit: https://lab.dpdk.org/results/dashboard/preferences/subscriptions/