From mboxrd@z Thu Jan 1 00:00:00 1970 Return-Path: Received: from mails.dpdk.org (mails.dpdk.org [217.70.189.124]) by inbox.dpdk.org (Postfix) with ESMTP id DAF5148B16 for ; Sat, 15 Nov 2025 09:02:00 +0100 (CET) Received: from mails.dpdk.org (localhost [127.0.0.1]) by mails.dpdk.org (Postfix) with ESMTP id D7423400D6; Sat, 15 Nov 2025 09:02:00 +0100 (CET) Received: from mail-pl1-f227.google.com (mail-pl1-f227.google.com [209.85.214.227]) by mails.dpdk.org (Postfix) with ESMTP id DB0DC400D6 for ; Sat, 15 Nov 2025 09:01:58 +0100 (CET) Received: by mail-pl1-f227.google.com with SMTP id d9443c01a7336-297d4ac44fbso28496435ad.0 for ; Sat, 15 Nov 2025 00:01:58 -0800 (PST) DKIM-Signature: v=1; a=rsa-sha256; c=relaxed/relaxed; d=iol.unh.edu; s=unh-iol; t=1763193718; x=1763798518; darn=dpdk.org; h=references:in-reply-to:cc:to:from:subject:message-id:date:from:to :cc:subject:date:message-id:reply-to; bh=8Yuw6/vsWaOi8dbO91rGlWir8oE0CB5kYZ1bxR/Rm6k=; b=VvuI/9nmsPgBWYjunuZQGFFIA1fcrTeGNvyZGPD7le6XeBZgEyocP9JwVlPSUwu7QO 1YzEXMfqnmqH7N7hk9ztSuv8uKHOepGfPBEm9s6AFJ1ilaBZ4aCL/UOPaYxoJcKnXWwz NvDZBlP333xO764ILrpayIRV8IiVAodqdymhE= X-Google-DKIM-Signature: v=1; a=rsa-sha256; c=relaxed/relaxed; d=1e100.net; s=20230601; t=1763193718; x=1763798518; h=references:in-reply-to:cc:to:from:subject:message-id:date:x-gm-gg :x-gm-message-state:from:to:cc:subject:date:message-id:reply-to; bh=8Yuw6/vsWaOi8dbO91rGlWir8oE0CB5kYZ1bxR/Rm6k=; b=EEZYegJBfRgxQH4HPv+YG+4ToDSIN3lH+p3QYOAPPzxbUrbVUjNb37ep8RatCLUWrz SGlby+HfR0mdB8mpJ7dwz5wtWCDgl/j1PPLOS5qJOk6gKHhXaZpglMouMg99BFDDh0f6 umR9d9LavHbh+mi/lXGP9cE3CRFkVzeFhRDeBI6Xk7fbOQsnArIywgfh1BHCxdzsIDDR yftIi8aZKxup+sEEAujp/MnNPnCSIkStzcu8L+70X21sAjzZTtaog7n5N5gD6SdZlijj NDiDOEZ4uh+vs320o0IuBgAeckmQMkN8i9eqmjFi9CcR2wQixJwUjAT//yHvcaZWHiCr bHQw== X-Gm-Message-State: AOJu0YywbN5ulrbh6LQapz/IB+Yrp2RGJn3YcFoAa0vha/DD48J39LBR xSTBpZ19S/C6KVgbSqfQbCq1o7vQo22ZNNk/okRPrLIBNHDmD8z0FKtMDnAagMRAbZXGD33SgTY IJL7jwBBSes12pWpP9FQSBb7Gr8y92Fx+Gkla56YEi4+y X-Gm-Gg: ASbGncsLEA+GSGQ/nL1fKQgAFO3qtA7xHyrQ1cxDeYNprrJ6JpV84jIzDPeP4FzxGel B8kMF9cRaOXF5UB8ohEUwyTVIc5CHTuO3f6f+DcYOhgybK7nVB0UA6ZSy1NzKspjlEH5R9vALG7 USIkZnIQTK3QviZo3gjOGHHIIIBv5A7n03rKwF+pncjEAbgh5oVUy5jVE+xAdYS5RpEtO0oaALc wpsI9RiOSzZ31jbXIoM5NwRiJQaAvapOGIvo5Ou1dzacG94AUxahpclXt7FFCzgapn4s0Jw+mzo aCBaWNmG1SRcFEkt3XJbkKwtovs6KBFpIgmtM8w+OlMRdeEeQxoywXuju3+AxIJIHzOymU2FS0c 3GyehcbhEFajja7L9w7Xm7mrbahMCixk= X-Google-Smtp-Source: AGHT+IHQevT4fTe+VDipNatHrGe20k1EICR2cL5i7UH894nTN5qUCfbfHg5hY+x2CYgETiHbwYYO60Iczssv X-Received: by 2002:a17:902:f712:b0:297:f0c3:32e0 with SMTP id d9443c01a7336-29867eedd8cmr79163525ad.12.1763193718115; Sat, 15 Nov 2025 00:01:58 -0800 (PST) Received: from postal.iol.unh.edu (postal.iol.unh.edu. [132.177.123.84]) by smtp-relay.gmail.com with ESMTPS id d9443c01a7336-2985c244ea3sm8381325ad.18.2025.11.15.00.01.58 (version=TLS1_2 cipher=ECDHE-ECDSA-AES128-GCM-SHA256 bits=128/128); Sat, 15 Nov 2025 00:01:58 -0800 (PST) X-Relaying-Domain: iol.unh.edu Date: Sat, 15 Nov 2025 00:01:58 -0800 (PST) Message-ID: <69183376.170a0220.1fc12b.aea6SMTPIN_ADDED_MISSING@mx.google.com> Received: from [172.21.0.9] (unknown [172.18.0.240]) by postal.iol.unh.edu (Postfix) with ESMTP id 975336051830; Sat, 15 Nov 2025 03:01:57 -0500 (EST) Subject: |SUCCESS| pw158755 [PATCH] [v1] net/axgbe: fix the build warninig fo From: dpdklab@iol.unh.edu To: Test Report Cc: dpdk-test-reports@iol.unh.edu, Stephen Hemminger In-Reply-To: <20251113113055.371-1-VenkatKumar.Ande@amd.com> References: <20251113113055.371-1-VenkatKumar.Ande@amd.com> Content-Type: text/plain X-BeenThere: test-report@dpdk.org X-Mailman-Version: 2.1.29 Precedence: list List-Id: automatic DPDK test reports List-Unsubscribe: , List-Archive: List-Post: List-Help: List-Subscribe: , Errors-To: test-report-bounces@dpdk.org Test-Label: iol-compile-amd64-testing Test-Status: SUCCESS http://dpdk.org/patch/158755 _Testing PASS_ Submitter: Venkat Kumar Ande Date: Thursday, November 13 2025 11:30:55 DPDK git baseline: Repo:dpdk-next-net Branch: master CommitID:29807269854f9bfc72f1323273de8e23adc724d4 158755 --> testing pass Upstream job id: Windows-Compile-DPDK-Native#32368 Test environment and result as below: +-------------------------------+--------------------+------------------+-------------------+-------------------------+----------------------+ | Environment | dpdk_meson_compile | dpdk_compile_ovs | dpdk_msvc_compile | dpdk_llvm_clang_compile | dpdk_mingw64_compile | +===============================+====================+==================+===================+=========================+======================+ | Ubuntu 20.04 | PASS | SKIPPED | SKIPPED | SKIPPED | SKIPPED | +-------------------------------+--------------------+------------------+-------------------+-------------------------+----------------------+ | FreeBSD 14.2 | PASS | SKIPPED | SKIPPED | SKIPPED | SKIPPED | +-------------------------------+--------------------+------------------+-------------------+-------------------------+----------------------+ | CentOS Stream 10 | PASS | SKIPPED | SKIPPED | SKIPPED | SKIPPED | +-------------------------------+--------------------+------------------+-------------------+-------------------------+----------------------+ | CentOS Stream 9 | PASS | SKIPPED | SKIPPED | SKIPPED | SKIPPED | +-------------------------------+--------------------+------------------+-------------------+-------------------------+----------------------+ | Debian GNU/Linux 12 | PASS | SKIPPED | SKIPPED | SKIPPED | SKIPPED | +-------------------------------+--------------------+------------------+-------------------+-------------------------+----------------------+ | Fedora Linux 42 | PASS | PASS | SKIPPED | SKIPPED | SKIPPED | +-------------------------------+--------------------+------------------+-------------------+-------------------------+----------------------+ | openSUSE Leap 15.6 | PASS | SKIPPED | SKIPPED | SKIPPED | SKIPPED | +-------------------------------+--------------------+------------------+-------------------+-------------------------+----------------------+ | Red Hat Enterprise Linux 8.10 | PASS | SKIPPED | SKIPPED | SKIPPED | SKIPPED | +-------------------------------+--------------------+------------------+-------------------+-------------------------+----------------------+ | Red Hat Enterprise Linux 9.5 | PASS | SKIPPED | SKIPPED | SKIPPED | SKIPPED | +-------------------------------+--------------------+------------------+-------------------+-------------------------+----------------------+ | Ubuntu 22.04 | PASS | SKIPPED | SKIPPED | SKIPPED | SKIPPED | +-------------------------------+--------------------+------------------+-------------------+-------------------------+----------------------+ | Ubuntu 24.04 | PASS | PASS | SKIPPED | SKIPPED | SKIPPED | +-------------------------------+--------------------+------------------+-------------------+-------------------------+----------------------+ | Alpine Linux 3.22.0 | PASS | SKIPPED | SKIPPED | SKIPPED | SKIPPED | +-------------------------------+--------------------+------------------+-------------------+-------------------------+----------------------+ | Windows Server 2022 | SKIPPED | SKIPPED | PASS | PASS | PASS | +-------------------------------+--------------------+------------------+-------------------+-------------------------+----------------------+ Ubuntu 20.04 Kernel: 4.19 Compiler: gcc gcc (Ubuntu 9.4.0-1ubuntu1~20.04.2) 9.4.0 FreeBSD 14.2 Kernel: 14.2-RELEASE Compiler: clang 18.1.6 CentOS Stream 10 Kernel: 5.15 Compiler: gcc gcc (GCC) 14.2.1 20250110 (Red Hat 14.2.1-8) CentOS Stream 9 Kernel: 5.15 Compiler: gcc gcc (GCC) 11.5.0 20240719 (Red Hat 11.5.0-11) Debian GNU/Linux 12 Kernel: 5.15 Compiler: gcc gcc (Debian 12.2.0-14+deb12u1) 12.2.0 Fedora Linux 42 Kernel: 5.15 Compiler: clang gcc (GCC) 15.2.1 20250808 (Red Hat 15.2.1-1) openSUSE Leap 15.6 Kernel: 5.15 Compiler: gcc gcc (SUSE Linux) 7.5.0 Red Hat Enterprise Linux 8.10 Kernel: 5.15 Compiler: gcc gcc (GCC) 8.5.0 20210514 (Red Hat 8.5.0-22) Red Hat Enterprise Linux 9.5 Kernel: 5.15 Compiler: gcc gcc (GCC) 11.5.0 20240719 (Red Hat 11.5.0-2) Ubuntu 22.04 Kernel: 5.15 Compiler: gcc gcc (Ubuntu 11.4.0-1ubuntu1~22.04) 11.4.0 Ubuntu 24.04 Kernel: 5.15 Compiler: gcc gcc (Ubuntu 13.3.0-6ubuntu2~24.04) 13.3.0 Alpine Linux 3.22.0 Kernel: 5.15 Compiler: gcc gcc (Alpine 14.2.0) 14.2.0 Windows Server 2022 Kernel: 10.0.20348.2031 Compiler: clang 15.0.7, gcc 14.1.0 (MinGW), and MSVC VS 19.39.33521 To view detailed results, visit: https://lab.dpdk.org/results/dashboard/patchsets/34572/ UNH-IOL DPDK Community Lab To manage your email subscriptions, visit: https://lab.dpdk.org/results/dashboard/preferences/subscriptions/