From mboxrd@z Thu Jan 1 00:00:00 1970 Return-Path: Received: from mails.dpdk.org (mails.dpdk.org [217.70.189.124]) by inbox.dpdk.org (Postfix) with ESMTP id F366448B16 for ; Sat, 15 Nov 2025 09:02:15 +0100 (CET) Received: from mails.dpdk.org (localhost [127.0.0.1]) by mails.dpdk.org (Postfix) with ESMTP id ED70E400D6; Sat, 15 Nov 2025 09:02:15 +0100 (CET) Received: from mail-il1-f228.google.com (mail-il1-f228.google.com [209.85.166.228]) by mails.dpdk.org (Postfix) with ESMTP id 0285C400D6 for ; Sat, 15 Nov 2025 09:02:14 +0100 (CET) Received: by mail-il1-f228.google.com with SMTP id e9e14a558f8ab-43470d98f77so12406595ab.2 for ; Sat, 15 Nov 2025 00:02:14 -0800 (PST) DKIM-Signature: v=1; a=rsa-sha256; c=relaxed/relaxed; d=iol.unh.edu; s=unh-iol; t=1763193734; x=1763798534; darn=dpdk.org; h=references:in-reply-to:cc:to:from:subject:message-id:date:from:to :cc:subject:date:message-id:reply-to; bh=Ahh6UyLh4EAtdxKzlsz4k/ihmjyeapprAjy3tfjv+ec=; b=cGpZeZ6bbJ9LlrmvXwHPp4Y2g8sO1VijBeUw93T/rwbKtuZEpkT85XNt1sFjtFZMP1 OS5/7AsGzlrT0LzPMm9EC7yYVBLfY1GBTvbJHnYvPdLzQWywQT6c2cHXlWkx54jjgWM+ bbjqd2Jvz/p50OrZfKHnLsLdcRsSEEJmBvlqI= X-Google-DKIM-Signature: v=1; a=rsa-sha256; c=relaxed/relaxed; d=1e100.net; s=20230601; t=1763193734; x=1763798534; h=references:in-reply-to:cc:to:from:subject:message-id:date:x-gm-gg :x-gm-message-state:from:to:cc:subject:date:message-id:reply-to; bh=Ahh6UyLh4EAtdxKzlsz4k/ihmjyeapprAjy3tfjv+ec=; b=An2QawOPSD5gmoXpxo2C2OcpLeOqbAqk+QygoWWAmIZx/BCv6fsEnx/ziB0RvRBNnC J9Cq4pyaoJu1WXqJdeo9FdAgcFTQsYFoMy4RvZ909U04IuHlCIJCBF7FB4JHfYHso3Q9 w0EmAupYNPWjqElapSqO3XoAB4IyAiF2kIhlf1xkIPVlaWLtJ5ioV/7U1MKaQdhHdGtA 5/WdX5b1ldpQx6w8Att3OswJxXmUoHq2QBy42PJkyauXRhvisghbX6LgC26FYsNRVJS7 jjFkHGOvaaambabPmFvWqRCqe5ccj6ByYiadzSfCeWHXnYYzwMFUHnrb6F/dhpC/ZI7s uaRg== X-Gm-Message-State: AOJu0Yzosq5FlcND75n2P5OUnzWmyV7J1qj1HW+Cvz2v/qds0TfRoNwK ln+UP8/s4jDyFeWI5Uy29RTc0GKQf4Mquwm9FKwep8+Rdp8UmXylQeUSzWlqA++qweZ7ZVxVM+L BAlNY879s8TIMWfojLlt19qQESodS+yttKUYvDzpMQcbhewTxRbbJT8xU74Du X-Gm-Gg: ASbGncvJiFWkI0kPL98lRT3IG3SR/GRaqrvWV7QHcM1TaMo4/5n+hJ589bJfSHPvX1/ yPGaivG3EnaQGx4DIzjwjGXfYzNbzJWnE2x+oOxIVgGD6vIW4ruszg9hXshMXF8VwMOzwEf/6lc OQp/xqF71/MJuRU39g01qqaS+DIq/+GQfmKma1d+djwPA0044wamaduPwwuLij4HnjUdm3M/UXh Vgg8wuHNTn559KnI8NcAKJZjtv3YYr0UQ3CAhcDYXgiiiGIbdhFOBhSGMuxwE4d8jBEIPVk2SOM 7uHEY22qt5ku5Y9eX7K8AS9PlS2tIi5BsUWq4WciyR8dJU+hM9NOxUKTOaoJhJkUQPNYUfNLwun s7p9DA8yi X-Google-Smtp-Source: AGHT+IEafasgkprBXKH8my3nFL+tCgGvhlk+gr+LyVxS07bkRuRa6s8KRnyS0t5UzBOzrUobA16zgVTWLx4u X-Received: by 2002:a05:6638:4be6:b0:5b7:1ebd:4d2f with SMTP id 8926c6da1cb9f-5b7c9c4a53bmr1732071173.4.1763193734275; Sat, 15 Nov 2025 00:02:14 -0800 (PST) Received: from postal.iol.unh.edu (postal.iol.unh.edu. [2606:4100:3880:1234::84]) by smtp-relay.gmail.com with ESMTPS id 8926c6da1cb9f-5b7bd31ab80sm379025173.26.2025.11.15.00.02.14 (version=TLS1_2 cipher=ECDHE-ECDSA-AES128-GCM-SHA256 bits=128/128); Sat, 15 Nov 2025 00:02:14 -0800 (PST) X-Relaying-Domain: iol.unh.edu Date: Sat, 15 Nov 2025 00:02:14 -0800 (PST) Message-ID: <69183386.050a0220.1ad0cf.2242SMTPIN_ADDED_MISSING@mx.google.com> Received: from [172.21.0.19] (unknown [172.18.0.240]) by postal.iol.unh.edu (Postfix) with ESMTP id E47E56051830; Sat, 15 Nov 2025 03:02:13 -0500 (EST) Subject: |SUCCESS| pw158819 [PATCH] net/mlx5: improve error on completing tab From: dpdklab@iol.unh.edu To: Test Report Cc: dpdk-test-reports@iol.unh.edu In-Reply-To: <20251114192712.1637369-1-dsosnowski@nvidia.com> References: <20251114192712.1637369-1-dsosnowski@nvidia.com> Content-Type: text/plain X-BeenThere: test-report@dpdk.org X-Mailman-Version: 2.1.29 Precedence: list List-Id: automatic DPDK test reports List-Unsubscribe: , List-Archive: List-Post: List-Help: List-Subscribe: , Errors-To: test-report-bounces@dpdk.org Test-Label: iol-compile-amd64-testing Test-Status: SUCCESS http://dpdk.org/patch/158819 _Testing PASS_ Submitter: Dariusz Sosnowski Date: Friday, November 14 2025 19:27:12 DPDK git baseline: Repo:dpdk-next-net-mlx Branch: master CommitID:ae657d56b1f0ea979b3f611edf28d773efc2ddcf 158819 --> testing pass Upstream job id: Generic-DPDK-Compile-Meson#444708 Test environment and result as below: +-------------------------------+--------------------+-------------------------+-------------------+------------------+ | Environment | dpdk_meson_compile | dpdk_llvm_clang_compile | dpdk_msvc_compile | dpdk_compile_ovs | +===============================+====================+=========================+===================+==================+ | Ubuntu 20.04 | PASS | SKIPPED | SKIPPED | SKIPPED | +-------------------------------+--------------------+-------------------------+-------------------+------------------+ | FreeBSD 14.2 | PASS | SKIPPED | SKIPPED | SKIPPED | +-------------------------------+--------------------+-------------------------+-------------------+------------------+ | CentOS Stream 9 | PASS | SKIPPED | SKIPPED | SKIPPED | +-------------------------------+--------------------+-------------------------+-------------------+------------------+ | CentOS Stream 10 | PASS | SKIPPED | SKIPPED | SKIPPED | +-------------------------------+--------------------+-------------------------+-------------------+------------------+ | Debian GNU/Linux 12 | PASS | SKIPPED | SKIPPED | SKIPPED | +-------------------------------+--------------------+-------------------------+-------------------+------------------+ | Fedora Linux 42 | PASS | SKIPPED | SKIPPED | PASS | +-------------------------------+--------------------+-------------------------+-------------------+------------------+ | openSUSE Leap 15.6 | PASS | SKIPPED | SKIPPED | SKIPPED | +-------------------------------+--------------------+-------------------------+-------------------+------------------+ | Red Hat Enterprise Linux 8.10 | PASS | SKIPPED | SKIPPED | SKIPPED | +-------------------------------+--------------------+-------------------------+-------------------+------------------+ | Red Hat Enterprise Linux 9.5 | PASS | SKIPPED | SKIPPED | SKIPPED | +-------------------------------+--------------------+-------------------------+-------------------+------------------+ | Ubuntu 22.04 | PASS | SKIPPED | SKIPPED | SKIPPED | +-------------------------------+--------------------+-------------------------+-------------------+------------------+ | Ubuntu 24.04 | PASS | SKIPPED | SKIPPED | PASS | +-------------------------------+--------------------+-------------------------+-------------------+------------------+ | Alpine Linux 3.22.0 | PASS | SKIPPED | SKIPPED | SKIPPED | +-------------------------------+--------------------+-------------------------+-------------------+------------------+ | Windows Server 2022 | SKIPPED | PASS | PASS | SKIPPED | +-------------------------------+--------------------+-------------------------+-------------------+------------------+ Ubuntu 20.04 Kernel: 4.19 Compiler: gcc gcc (Ubuntu 9.4.0-1ubuntu1~20.04.2) 9.4.0 FreeBSD 14.2 Kernel: 14.2-RELEASE Compiler: clang 18.1.6 CentOS Stream 9 Kernel: 5.15 Compiler: gcc gcc (GCC) 11.5.0 20240719 (Red Hat 11.5.0-11) CentOS Stream 10 Kernel: 5.15 Compiler: gcc gcc (GCC) 14.2.1 20250110 (Red Hat 14.2.1-8) Debian GNU/Linux 12 Kernel: 5.15 Compiler: gcc gcc (Debian 12.2.0-14+deb12u1) 12.2.0 Fedora Linux 42 Kernel: 5.15 Compiler: clang gcc (GCC) 15.2.1 20250808 (Red Hat 15.2.1-1) openSUSE Leap 15.6 Kernel: 5.15 Compiler: gcc gcc (SUSE Linux) 7.5.0 Red Hat Enterprise Linux 8.10 Kernel: 5.15 Compiler: gcc gcc (GCC) 8.5.0 20210514 (Red Hat 8.5.0-22) Red Hat Enterprise Linux 9.5 Kernel: 5.15 Compiler: gcc gcc (GCC) 11.5.0 20240719 (Red Hat 11.5.0-2) Ubuntu 22.04 Kernel: 5.15 Compiler: gcc gcc (Ubuntu 11.4.0-1ubuntu1~22.04) 11.4.0 Ubuntu 24.04 Kernel: 5.15 Compiler: gcc gcc (Ubuntu 13.3.0-6ubuntu2~24.04) 13.3.0 Alpine Linux 3.22.0 Kernel: 5.15 Compiler: gcc gcc (Alpine 14.2.0) 14.2.0 Windows Server 2022 Kernel: 10.0.20348.2031 Compiler: clang 15.0.7, gcc 14.1.0 (MinGW), and MSVC VS 19.39.33521 To view detailed results, visit: https://lab.dpdk.org/results/dashboard/patchsets/34601/ UNH-IOL DPDK Community Lab To manage your email subscriptions, visit: https://lab.dpdk.org/results/dashboard/preferences/subscriptions/