From mboxrd@z Thu Jan 1 00:00:00 1970 Return-Path: Received: from mails.dpdk.org (mails.dpdk.org [217.70.189.124]) by inbox.dpdk.org (Postfix) with ESMTP id 0B9B248B16 for ; Sat, 15 Nov 2025 09:02:20 +0100 (CET) Received: from mails.dpdk.org (localhost [127.0.0.1]) by mails.dpdk.org (Postfix) with ESMTP id 081B64029D; Sat, 15 Nov 2025 09:02:20 +0100 (CET) Received: from mail-oa1-f97.google.com (mail-oa1-f97.google.com [209.85.160.97]) by mails.dpdk.org (Postfix) with ESMTP id 0EEE7400D6 for ; Sat, 15 Nov 2025 09:02:17 +0100 (CET) Received: by mail-oa1-f97.google.com with SMTP id 586e51a60fabf-3e284c5fe0aso672506fac.1 for ; Sat, 15 Nov 2025 00:02:16 -0800 (PST) DKIM-Signature: v=1; a=rsa-sha256; c=relaxed/relaxed; d=iol.unh.edu; s=unh-iol; t=1763193736; x=1763798536; darn=dpdk.org; h=references:in-reply-to:cc:to:from:subject:message-id:date:from:to :cc:subject:date:message-id:reply-to; bh=3Yo9Lg6NYOUmLQfwjrc6JLNnnKZKaAo8DNUgkPMo7+k=; b=VRTWntrBs9SAzNBfjduYdhrCpU3ImtLleMIN8CcOCxF+jmoTib795vvSFKxpY9NnOn Rcy3pUfMMGR0G1OFBWOc4g/pkJlEDUBX25hLquBIe+EH3M5Wsh1YdRgjueplw/v8Z1h4 S29cDlIiHW/9WodInbavoSlg9uLRbYdJlnEqE= X-Google-DKIM-Signature: v=1; a=rsa-sha256; c=relaxed/relaxed; d=1e100.net; s=20230601; t=1763193736; x=1763798536; h=references:in-reply-to:cc:to:from:subject:message-id:date:x-gm-gg :x-gm-message-state:from:to:cc:subject:date:message-id:reply-to; bh=3Yo9Lg6NYOUmLQfwjrc6JLNnnKZKaAo8DNUgkPMo7+k=; b=eAsJAhP3iSIi2VIzDJJWewY1TVxqRkWeH6TLbooV9fYrJ+jOeSbYqtn0bvZmX+cf+W q57nZUIKjQS5sOF7DP2D7lykZqLb94ovxGIlSRJr2iAVqQuC9YOMIb1rTW4SJ5Y4TLRC 4kybz214FVJ7cid2DTn1Bp2Fe89KAVNAI/60zui5cXyEFduqJdElE9YDuiCa6WJzs7uh xPXN5KNzXe36JzKS3V2x9is0Qttk1O0Aa321ECwVyuiwRnpXxEZlZ9gOLaQx8i9/3sIZ mvxuELjOi2MFWyl4Tr4INaHvLB0BRDxGZOSEMQ6c54KUZp5EbKyemuSCUrJEsgvupLxG 9Pkg== X-Gm-Message-State: AOJu0YyG0fCCqRz+WTGjyOLEHaU5U+EZnHmrQG6RCZzbuDK6+UbcboKq FC+zRhaIqL6bhrvBz2RDodbg5iTUk7i5sHDkOyJxCbNUuA/xDwgN8nCMx38+k0kpRT2+RnKdiBQ cs3HrSxOzRGzclZ8TOR7G0BYEmUlYB1RHabxsTBmvsCIJKSFP8/6vO2OONhUY X-Gm-Gg: ASbGncuEOeT5iumW2/t9g2dzphJflab82VHeXNInLFvUcPqMKiLO3VQrzyInJ2gRt5v L1eqgNv505giG84oi9QPL2qSvc3iGKOb8qeRAjOOQ9ZEy4DIzaLghdI4jV9G8M5oZCvu/CTcbYh hXa1MDwzTo6Xb2i2J46WW2SSR15mTsT7BdbK+KlRBAEgnyDYDavkVZ9a/pmktW9f38Lscfvogbi Hkx5KBZL43xpBndSsiI9HGmGMrMlHuvZMmzC+89s5ipPU0fZcvWNH2IPAlHbvHRL2gy6ppl2YdB az4MS4+3MHzmjOhtVSf8AezKuhXYIlp1bMXOzZJeFtqiVsrxqMXY/FTCQTDwhxO5kNiou5mmg7Q UG4tGI1Jn X-Google-Smtp-Source: AGHT+IHjopQrT3fenLtkCKc2EuMjogJtMlv9UZX2DRpgUx1uWiplHes24CBodlz9b2843MlOMNFAdx3nsPZZ X-Received: by 2002:a05:6871:4847:b0:3e7:d602:19c7 with SMTP id 586e51a60fabf-3e8691254fdmr2543149fac.35.1763193736386; Sat, 15 Nov 2025 00:02:16 -0800 (PST) Received: from postal.iol.unh.edu (postal.iol.unh.edu. [2606:4100:3880:1234::84]) by smtp-relay.gmail.com with ESMTPS id 586e51a60fabf-3e85227103asm644423fac.15.2025.11.15.00.02.16 (version=TLS1_2 cipher=ECDHE-ECDSA-AES128-GCM-SHA256 bits=128/128); Sat, 15 Nov 2025 00:02:16 -0800 (PST) X-Relaying-Domain: iol.unh.edu Date: Sat, 15 Nov 2025 00:02:16 -0800 (PST) Message-ID: <69183388.050a0220.1839b6.fde2SMTPIN_ADDED_MISSING@mx.google.com> Received: from [172.21.0.10] (unknown [172.18.0.240]) by postal.iol.unh.edu (Postfix) with ESMTP id 5E97F6051830; Sat, 15 Nov 2025 03:02:15 -0500 (EST) Subject: |SUCCESS| pw158819 [PATCH] net/mlx5: improve error on completing tab From: dpdklab@iol.unh.edu To: Test Report Cc: dpdk-test-reports@iol.unh.edu In-Reply-To: <20251114192712.1637369-1-dsosnowski@nvidia.com> References: <20251114192712.1637369-1-dsosnowski@nvidia.com> Content-Type: text/plain X-BeenThere: test-report@dpdk.org X-Mailman-Version: 2.1.29 Precedence: list List-Id: automatic DPDK test reports List-Unsubscribe: , List-Archive: List-Post: List-Help: List-Subscribe: , Errors-To: test-report-bounces@dpdk.org Test-Label: iol-compile-amd64-testing Test-Status: SUCCESS http://dpdk.org/patch/158819 _Testing PASS_ Submitter: Dariusz Sosnowski Date: Friday, November 14 2025 19:27:12 DPDK git baseline: Repo:dpdk-next-net-mlx Branch: master CommitID:ae657d56b1f0ea979b3f611edf28d773efc2ddcf 158819 --> testing pass Upstream job id: Generic-DPDK-Compile-Meson#444710 Test environment and result as below: +-------------------------------+--------------------+-------------------------+-------------------+------------------+ | Environment | dpdk_meson_compile | dpdk_llvm_clang_compile | dpdk_msvc_compile | dpdk_compile_ovs | +===============================+====================+=========================+===================+==================+ | Ubuntu 20.04 | PASS | SKIPPED | SKIPPED | SKIPPED | +-------------------------------+--------------------+-------------------------+-------------------+------------------+ | FreeBSD 14.2 | PASS | SKIPPED | SKIPPED | SKIPPED | +-------------------------------+--------------------+-------------------------+-------------------+------------------+ | CentOS Stream 9 | PASS | SKIPPED | SKIPPED | SKIPPED | +-------------------------------+--------------------+-------------------------+-------------------+------------------+ | CentOS Stream 10 | PASS | SKIPPED | SKIPPED | SKIPPED | +-------------------------------+--------------------+-------------------------+-------------------+------------------+ | Debian GNU/Linux 12 | PASS | SKIPPED | SKIPPED | SKIPPED | +-------------------------------+--------------------+-------------------------+-------------------+------------------+ | Fedora Linux 42 | PASS | SKIPPED | SKIPPED | PASS | +-------------------------------+--------------------+-------------------------+-------------------+------------------+ | openSUSE Leap 15.6 | PASS | SKIPPED | SKIPPED | SKIPPED | +-------------------------------+--------------------+-------------------------+-------------------+------------------+ | Red Hat Enterprise Linux 8.10 | PASS | SKIPPED | SKIPPED | SKIPPED | +-------------------------------+--------------------+-------------------------+-------------------+------------------+ | Red Hat Enterprise Linux 9.5 | PASS | SKIPPED | SKIPPED | SKIPPED | +-------------------------------+--------------------+-------------------------+-------------------+------------------+ | Ubuntu 22.04 | PASS | SKIPPED | SKIPPED | SKIPPED | +-------------------------------+--------------------+-------------------------+-------------------+------------------+ | Ubuntu 24.04 | PASS | SKIPPED | SKIPPED | PASS | +-------------------------------+--------------------+-------------------------+-------------------+------------------+ | Alpine Linux 3.22.0 | PASS | SKIPPED | SKIPPED | SKIPPED | +-------------------------------+--------------------+-------------------------+-------------------+------------------+ | Windows Server 2022 | SKIPPED | PASS | PASS | SKIPPED | +-------------------------------+--------------------+-------------------------+-------------------+------------------+ Ubuntu 20.04 Kernel: 4.19 Compiler: gcc gcc (Ubuntu 9.4.0-1ubuntu1~20.04.2) 9.4.0 FreeBSD 14.2 Kernel: 14.2-RELEASE Compiler: clang 18.1.6 CentOS Stream 9 Kernel: 5.15 Compiler: gcc gcc (GCC) 11.5.0 20240719 (Red Hat 11.5.0-11) CentOS Stream 10 Kernel: 5.15 Compiler: gcc gcc (GCC) 14.2.1 20250110 (Red Hat 14.2.1-8) Debian GNU/Linux 12 Kernel: 5.15 Compiler: gcc gcc (Debian 12.2.0-14+deb12u1) 12.2.0 Fedora Linux 42 Kernel: 5.15 Compiler: clang gcc (GCC) 15.2.1 20250808 (Red Hat 15.2.1-1) openSUSE Leap 15.6 Kernel: 5.15 Compiler: gcc gcc (SUSE Linux) 7.5.0 Red Hat Enterprise Linux 8.10 Kernel: 5.15 Compiler: gcc gcc (GCC) 8.5.0 20210514 (Red Hat 8.5.0-22) Red Hat Enterprise Linux 9.5 Kernel: 5.15 Compiler: gcc gcc (GCC) 11.5.0 20240719 (Red Hat 11.5.0-2) Ubuntu 22.04 Kernel: 5.15 Compiler: gcc gcc (Ubuntu 11.4.0-1ubuntu1~22.04) 11.4.0 Ubuntu 24.04 Kernel: 5.15 Compiler: gcc gcc (Ubuntu 13.3.0-6ubuntu2~24.04) 13.3.0 Alpine Linux 3.22.0 Kernel: 5.15 Compiler: gcc gcc (Alpine 14.2.0) 14.2.0 Windows Server 2022 Kernel: 10.0.20348.2031 Compiler: clang 15.0.7, gcc 14.1.0 (MinGW), and MSVC VS 19.39.33521 To view detailed results, visit: https://lab.dpdk.org/results/dashboard/patchsets/34601/ UNH-IOL DPDK Community Lab To manage your email subscriptions, visit: https://lab.dpdk.org/results/dashboard/preferences/subscriptions/