From mboxrd@z Thu Jan 1 00:00:00 1970 Return-Path: Received: from mails.dpdk.org (mails.dpdk.org [217.70.189.124]) by inbox.dpdk.org (Postfix) with ESMTP id 1ACCA48B16 for ; Sat, 15 Nov 2025 09:02:24 +0100 (CET) Received: from mails.dpdk.org (localhost [127.0.0.1]) by mails.dpdk.org (Postfix) with ESMTP id 17A8B40288; Sat, 15 Nov 2025 09:02:24 +0100 (CET) Received: from mail-pj1-f100.google.com (mail-pj1-f100.google.com [209.85.216.100]) by mails.dpdk.org (Postfix) with ESMTP id E3CDE40288 for ; Sat, 15 Nov 2025 09:02:19 +0100 (CET) Received: by mail-pj1-f100.google.com with SMTP id 98e67ed59e1d1-343d73d08faso2687355a91.0 for ; Sat, 15 Nov 2025 00:02:19 -0800 (PST) DKIM-Signature: v=1; a=rsa-sha256; c=relaxed/relaxed; d=iol.unh.edu; s=unh-iol; t=1763193739; x=1763798539; darn=dpdk.org; h=references:in-reply-to:cc:to:from:subject:message-id:date:from:to :cc:subject:date:message-id:reply-to; bh=mbZVXbb6MCMNs49fXS0XrhV/NaEJH8E9cZ+hwo1slMo=; b=GFkv9yXkw1+s+Kn9nI5ykJSPl4Rc38GCKpN4GkxVdGsKK2PalL6s4vK7AAUHZ8TekS jZE5E8+XeRaJg5kxGHM7OY1DP1efysC0FV8zBpmRqT/yp5z6WdMNdwd1Zm4stQAXElLg YceOOLtmTOoaGBFqT79pofTh9BvWTRVkCVFVY= X-Google-DKIM-Signature: v=1; a=rsa-sha256; c=relaxed/relaxed; d=1e100.net; s=20230601; t=1763193739; x=1763798539; h=references:in-reply-to:cc:to:from:subject:message-id:date:x-gm-gg :x-gm-message-state:from:to:cc:subject:date:message-id:reply-to; bh=mbZVXbb6MCMNs49fXS0XrhV/NaEJH8E9cZ+hwo1slMo=; b=lzdPzoOdQlV3dPryhIwGWbw0TMCac4/n435+0HicRHxcGyED9OqOIXZm/2GvTmwC28 h//VTLP7zhVtOYDRnPcLmLBs357QN6UOn40oXXj91KmLnVesSRzZwDq+oJiabR2NQ5ie 2ErFvfa5n1xioxOQMMJRfc7fq4zmTsq3axeJ0+DdG+UnX9t0Z+03KSUff1ae69RPi6Ur 6ENPeZ2Hf2Yu/nF/H4rkE1tRjlRTOcknVd5skflItu0IJHx1+6Dr8PRX5H5lArTYVizz V9NExZpafPT8CR/q23vmaaviqp3umoGN7R+AU+qAcQ0J/XBNYY4u7hj4jw5+RrK7ZALS QKCQ== X-Gm-Message-State: AOJu0YxlWXK/Roj3GA3LvtQcnbY20naR64iafyMAF221SPBbe9eTGh1N 2KFYTvY5rKDMXvfvCSSJCLhEtgb7QQwDw3gGMQs/OG7/riR5BXxOey5ZzqR8+3ataQk25OlBF4W jb6NBoPoqva2cYoLKse2oS5s1Rs7Hf4J7Ldpvsy4pYPua X-Gm-Gg: ASbGncvHM5CVQ+jlrFYAeJ32lGyPKWq2mqTg1OwNiIlAmbIb1LwRwq2lEfjUBJPWUgN 94/yxYNwyt/HzkxpRkzgFEmtl3sZ05KdRs0yn8wQGKdB9FwjR1jrxQjfqH4EkLGbcgkMpND0G6i JN3cp8OcFcBt5yYzkohEN98dN5lLwe+mcoFjDVyt634MkbyO5jHKRBH3yHL2xNxxIFdmm2e1t7H 4dzPSkcnQw4pFNEpbLVTqg8uPbjGLSKlD/61NEhRoihdtMn1ImVdYDc4Adm/fULXkQyghx9wELs l5LJX2lleNSA6kJ6SFr/z+EdiLNggBurLE+92Z+uSH9weC6Nxb7IZ3p7h2VJSA2RvT8t5tb8s1w f9UUbwv/QVLZai1njZRvUD+Uctdce4/c= X-Google-Smtp-Source: AGHT+IGOryRqJk73xKCEozBsdNeTeW1Vu6JNlVKF4RWH1dowJGy7QSr5RaNtwz3Q2stsedXmSFhu8ebWjgr6 X-Received: by 2002:a17:90b:562c:b0:343:89cc:6f23 with SMTP id 98e67ed59e1d1-343eacba165mr9953714a91.14.1763193739090; Sat, 15 Nov 2025 00:02:19 -0800 (PST) Received: from postal.iol.unh.edu (postal.iol.unh.edu. [132.177.123.84]) by smtp-relay.gmail.com with ESMTPS id 98e67ed59e1d1-343e07c8c9fsm1268569a91.6.2025.11.15.00.02.18 (version=TLS1_2 cipher=ECDHE-ECDSA-AES128-GCM-SHA256 bits=128/128); Sat, 15 Nov 2025 00:02:19 -0800 (PST) X-Relaying-Domain: iol.unh.edu Date: Sat, 15 Nov 2025 00:02:19 -0800 (PST) Message-ID: <6918338b.170a0220.3c0224.f470SMTPIN_ADDED_MISSING@mx.google.com> Received: from [172.21.0.5] (unknown [172.18.0.240]) by postal.iol.unh.edu (Postfix) with ESMTP id 835256051830; Sat, 15 Nov 2025 03:02:18 -0500 (EST) Subject: |SUCCESS| pw158813 [PATCH] [v2] net/mlx5: fix warning from uninitial From: dpdklab@iol.unh.edu To: Test Report Cc: dpdk-test-reports@iol.unh.edu In-Reply-To: <20251114174912.1103626-1-stephen@networkplumber.org> References: <20251114174912.1103626-1-stephen@networkplumber.org> Content-Type: text/plain X-BeenThere: test-report@dpdk.org X-Mailman-Version: 2.1.29 Precedence: list List-Id: automatic DPDK test reports List-Unsubscribe: , List-Archive: List-Post: List-Help: List-Subscribe: , Errors-To: test-report-bounces@dpdk.org Test-Label: iol-compile-amd64-testing Test-Status: SUCCESS http://dpdk.org/patch/158813 _Testing PASS_ Submitter: Stephen Hemminger Date: Friday, November 14 2025 17:49:12 DPDK git baseline: Repo:dpdk-next-net-mlx Branch: master CommitID:ae657d56b1f0ea979b3f611edf28d773efc2ddcf 158813 --> testing pass Upstream job id: Generic-DPDK-Compile-Meson#444636 Test environment and result as below: +-------------------------------+--------------------+-------------------+------------------+ | Environment | dpdk_meson_compile | dpdk_msvc_compile | dpdk_compile_ovs | +===============================+====================+===================+==================+ | Ubuntu 20.04 | PASS | SKIPPED | SKIPPED | +-------------------------------+--------------------+-------------------+------------------+ | FreeBSD 14.2 | PASS | SKIPPED | SKIPPED | +-------------------------------+--------------------+-------------------+------------------+ | CentOS Stream 9 | PASS | SKIPPED | SKIPPED | +-------------------------------+--------------------+-------------------+------------------+ | CentOS Stream 10 | PASS | SKIPPED | SKIPPED | +-------------------------------+--------------------+-------------------+------------------+ | Debian GNU/Linux 12 | PASS | SKIPPED | SKIPPED | +-------------------------------+--------------------+-------------------+------------------+ | Fedora Linux 42 | PASS | SKIPPED | PASS | +-------------------------------+--------------------+-------------------+------------------+ | Red Hat Enterprise Linux 8.10 | PASS | SKIPPED | SKIPPED | +-------------------------------+--------------------+-------------------+------------------+ | Red Hat Enterprise Linux 9.5 | PASS | SKIPPED | SKIPPED | +-------------------------------+--------------------+-------------------+------------------+ | openSUSE Leap 15.6 | PASS | SKIPPED | SKIPPED | +-------------------------------+--------------------+-------------------+------------------+ | Ubuntu 24.04 | PASS | SKIPPED | PASS | +-------------------------------+--------------------+-------------------+------------------+ | Ubuntu 22.04 | PASS | SKIPPED | SKIPPED | +-------------------------------+--------------------+-------------------+------------------+ | Alpine Linux 3.22.0 | PASS | SKIPPED | SKIPPED | +-------------------------------+--------------------+-------------------+------------------+ | Windows Server 2022 | SKIPPED | PASS | SKIPPED | +-------------------------------+--------------------+-------------------+------------------+ Ubuntu 20.04 Kernel: 4.19 Compiler: gcc gcc (Ubuntu 9.4.0-1ubuntu1~20.04.2) 9.4.0 FreeBSD 14.2 Kernel: 14.2-RELEASE Compiler: clang 18.1.6 CentOS Stream 9 Kernel: 5.15 Compiler: gcc gcc (GCC) 11.5.0 20240719 (Red Hat 11.5.0-11) CentOS Stream 10 Kernel: 5.15 Compiler: gcc gcc (GCC) 14.2.1 20250110 (Red Hat 14.2.1-8) Debian GNU/Linux 12 Kernel: 5.15 Compiler: gcc gcc (Debian 12.2.0-14+deb12u1) 12.2.0 Fedora Linux 42 Kernel: 5.15 Compiler: gcc gcc (GCC) 15.2.1 20250808 (Red Hat 15.2.1-1) Red Hat Enterprise Linux 8.10 Kernel: 5.15 Compiler: gcc gcc (GCC) 8.5.0 20210514 (Red Hat 8.5.0-22) Red Hat Enterprise Linux 9.5 Kernel: 5.15 Compiler: gcc gcc (GCC) 11.5.0 20240719 (Red Hat 11.5.0-2) openSUSE Leap 15.6 Kernel: 5.15 Compiler: gcc gcc (SUSE Linux) 7.5.0 Ubuntu 24.04 Kernel: 5.15 Compiler: gcc gcc (Ubuntu 13.3.0-6ubuntu2~24.04) 13.3.0 Ubuntu 22.04 Kernel: 5.15 Compiler: gcc gcc (Ubuntu 11.4.0-1ubuntu1~22.04) 11.4.0 Alpine Linux 3.22.0 Kernel: 5.15 Compiler: gcc gcc (Alpine 14.2.0) 14.2.0 Windows Server 2022 Kernel: 10.0.20348.2031 Compiler: clang 15.0.7, gcc 14.1.0 (MinGW), and MSVC VS 19.39.33521 To view detailed results, visit: https://lab.dpdk.org/results/dashboard/patchsets/34595/ UNH-IOL DPDK Community Lab To manage your email subscriptions, visit: https://lab.dpdk.org/results/dashboard/preferences/subscriptions/