From mboxrd@z Thu Jan 1 00:00:00 1970 Return-Path: Received: from mails.dpdk.org (mails.dpdk.org [217.70.189.124]) by inbox.dpdk.org (Postfix) with ESMTP id 28E9348B16 for ; Sat, 15 Nov 2025 09:02:24 +0100 (CET) Received: from mails.dpdk.org (localhost [127.0.0.1]) by mails.dpdk.org (Postfix) with ESMTP id 25BDF402CD; Sat, 15 Nov 2025 09:02:24 +0100 (CET) Received: from mail-pl1-f225.google.com (mail-pl1-f225.google.com [209.85.214.225]) by mails.dpdk.org (Postfix) with ESMTP id 92286402CB for ; Sat, 15 Nov 2025 09:02:22 +0100 (CET) Received: by mail-pl1-f225.google.com with SMTP id d9443c01a7336-298144fb9bcso29720265ad.0 for ; Sat, 15 Nov 2025 00:02:22 -0800 (PST) DKIM-Signature: v=1; a=rsa-sha256; c=relaxed/relaxed; d=iol.unh.edu; s=unh-iol; t=1763193742; x=1763798542; darn=dpdk.org; h=references:in-reply-to:cc:to:from:subject:message-id:date:from:to :cc:subject:date:message-id:reply-to; bh=rq3qZbj6dVdfmshF8PpvKIsJFxxbcJJI7UNT6nBkaTw=; b=TBGrXZyb0KM+2saNFlWDgRfkJeas6Tf462QkPjUVG43Lg00hrLaFC0uF6wwWS7wUIg G2nYfyvL+jhiNnUwMdq+XcAwJ+m5Bo35gCKUm6BuswAMfY23HXLezPyor5SGRsHCkcGw ZBci435UDRwl1o5KiC6YQ4hcy68FKwp3m4wrk= X-Google-DKIM-Signature: v=1; a=rsa-sha256; c=relaxed/relaxed; d=1e100.net; s=20230601; t=1763193742; x=1763798542; h=references:in-reply-to:cc:to:from:subject:message-id:date:x-gm-gg :x-gm-message-state:from:to:cc:subject:date:message-id:reply-to; bh=rq3qZbj6dVdfmshF8PpvKIsJFxxbcJJI7UNT6nBkaTw=; b=IckcBnp98TI9lVCaQg+rElg3fuwpBXnZFAFpwKK7quXN+gzpwuoAFixC2QDJE2A59J 7ckAY02T6I4cHDYhlEbIWDWsnCo7oZKnicwTii3WHL76Uhwa+yy5E3FstFWcUbpNvZ2/ 57I8uHUDyf8/iU6/WvAnWJ992/BeGxaJk5rmuE6zgbdU8ZxSSJbHVwqvq0vyjA1WTe0t p+mEIO7z/0Tk7WqI7E0iz7VXygnIGwnuBOdTefpRjamAjd7zx7Igcxx6VZ1ghZE0c+4r QWw1HvTl3m+XXMU5bDgK4MytzfHQy6PBsft9BMb93vsH43HsHau0caVSE96IYZU2+/bc KYPg== X-Gm-Message-State: AOJu0YymEuzJoJKkxcUiJD276Fo5QMQu9fNnAEi90airCtGhKx26qd7Z Ud0o2DvMPCIsKysr8m6fPjzUnTYavZ6xGog64wqk+cgpi/irZIKhx4y0tZFexbUKPMgmLKb1TBU KikS9KVc360kRLocR/kSwYXqhSOYwbPCL/4e5+nrtqXin X-Gm-Gg: ASbGncvNB0wM7w3rOlq7t6/7DWGKuXVJqpQVGNOShufUHLwAjlkRND/VJdJAYm+uqj8 ZB4GGibwZf4lCrObiCdItwORlJMTNq2CbCcD6oHjDGGxhbU1s4xRcVygTor5mtnqBys+Y7r1wzA qbYfXI2wtcH9inDlDwWP/SUk8yjBcfZo7vD3lieMZIg1ZP8zq405QbRJ8T4927ELBGkQKrzcY7+ En9VKnvKlfeEo/o1nedc8e0G8APbhMELuKUmgXfe+GB7I7HCmOPsRjRSi+u9GMhjxogRwTR98qk U4o8VvesOjyuKzZY71qe5cMYdWEXFeW+/hHGPLZg6k4tep1A9m10Al9W3zeUs+qc/Jrid14mobv izY6RY2lMSGZl3LFkZfxbYS7DnJSzUg0= X-Google-Smtp-Source: AGHT+IEN/IO7f0lPy7PczKOJa1YNBVD2xeIxNnYjlTzRystcEHynFBeXduHDJR877+f4fiT0qgo3Nxj4K5Zo X-Received: by 2002:a17:903:124b:b0:295:5a06:308d with SMTP id d9443c01a7336-2986a6ca930mr65430735ad.14.1763193741792; Sat, 15 Nov 2025 00:02:21 -0800 (PST) Received: from postal.iol.unh.edu (postal.iol.unh.edu. [132.177.123.84]) by smtp-relay.gmail.com with ESMTPS id d9443c01a7336-2985c234650sm8011595ad.3.2025.11.15.00.02.21 (version=TLS1_2 cipher=ECDHE-ECDSA-AES128-GCM-SHA256 bits=128/128); Sat, 15 Nov 2025 00:02:21 -0800 (PST) X-Relaying-Domain: iol.unh.edu Date: Sat, 15 Nov 2025 00:02:21 -0800 (PST) Message-ID: <6918338d.170a0220.3293e6.7c08SMTPIN_ADDED_MISSING@mx.google.com> Received: from [172.21.0.16] (unknown [172.18.0.240]) by postal.iol.unh.edu (Postfix) with ESMTP id 12BCE6051830; Sat, 15 Nov 2025 03:02:21 -0500 (EST) Subject: |SUCCESS| pw158813 [PATCH] [v2] net/mlx5: fix warning from uninitial From: dpdklab@iol.unh.edu To: Test Report Cc: dpdk-test-reports@iol.unh.edu In-Reply-To: <20251114174912.1103626-1-stephen@networkplumber.org> References: <20251114174912.1103626-1-stephen@networkplumber.org> Content-Type: text/plain X-BeenThere: test-report@dpdk.org X-Mailman-Version: 2.1.29 Precedence: list List-Id: automatic DPDK test reports List-Unsubscribe: , List-Archive: List-Post: List-Help: List-Subscribe: , Errors-To: test-report-bounces@dpdk.org Test-Label: iol-compile-amd64-testing Test-Status: SUCCESS http://dpdk.org/patch/158813 _Testing PASS_ Submitter: Stephen Hemminger Date: Friday, November 14 2025 17:49:12 DPDK git baseline: Repo:dpdk-next-net-mlx Branch: master CommitID:ae657d56b1f0ea979b3f611edf28d773efc2ddcf 158813 --> testing pass Upstream job id: Generic-DPDK-Compile-Meson#444631 Test environment and result as below: +-------------------------------+--------------------+-------------------+------------------+ | Environment | dpdk_meson_compile | dpdk_msvc_compile | dpdk_compile_ovs | +===============================+====================+===================+==================+ | Ubuntu 20.04 | PASS | SKIPPED | SKIPPED | +-------------------------------+--------------------+-------------------+------------------+ | FreeBSD 14.2 | PASS | SKIPPED | SKIPPED | +-------------------------------+--------------------+-------------------+------------------+ | CentOS Stream 9 | PASS | SKIPPED | SKIPPED | +-------------------------------+--------------------+-------------------+------------------+ | CentOS Stream 10 | PASS | SKIPPED | SKIPPED | +-------------------------------+--------------------+-------------------+------------------+ | Debian GNU/Linux 12 | PASS | SKIPPED | SKIPPED | +-------------------------------+--------------------+-------------------+------------------+ | Fedora Linux 42 | PASS | SKIPPED | PASS | +-------------------------------+--------------------+-------------------+------------------+ | Red Hat Enterprise Linux 8.10 | PASS | SKIPPED | SKIPPED | +-------------------------------+--------------------+-------------------+------------------+ | Red Hat Enterprise Linux 9.5 | PASS | SKIPPED | SKIPPED | +-------------------------------+--------------------+-------------------+------------------+ | openSUSE Leap 15.6 | PASS | SKIPPED | SKIPPED | +-------------------------------+--------------------+-------------------+------------------+ | Ubuntu 24.04 | PASS | SKIPPED | PASS | +-------------------------------+--------------------+-------------------+------------------+ | Ubuntu 22.04 | PASS | SKIPPED | SKIPPED | +-------------------------------+--------------------+-------------------+------------------+ | Alpine Linux 3.22.0 | PASS | SKIPPED | SKIPPED | +-------------------------------+--------------------+-------------------+------------------+ | Windows Server 2022 | SKIPPED | PASS | SKIPPED | +-------------------------------+--------------------+-------------------+------------------+ Ubuntu 20.04 Kernel: 4.19 Compiler: gcc gcc (Ubuntu 9.4.0-1ubuntu1~20.04.2) 9.4.0 FreeBSD 14.2 Kernel: 14.2-RELEASE Compiler: clang 18.1.6 CentOS Stream 9 Kernel: 5.15 Compiler: gcc gcc (GCC) 11.5.0 20240719 (Red Hat 11.5.0-11) CentOS Stream 10 Kernel: 5.15 Compiler: gcc gcc (GCC) 14.2.1 20250110 (Red Hat 14.2.1-8) Debian GNU/Linux 12 Kernel: 5.15 Compiler: gcc gcc (Debian 12.2.0-14+deb12u1) 12.2.0 Fedora Linux 42 Kernel: 5.15 Compiler: gcc gcc (GCC) 15.2.1 20250808 (Red Hat 15.2.1-1) Red Hat Enterprise Linux 8.10 Kernel: 5.15 Compiler: gcc gcc (GCC) 8.5.0 20210514 (Red Hat 8.5.0-22) Red Hat Enterprise Linux 9.5 Kernel: 5.15 Compiler: gcc gcc (GCC) 11.5.0 20240719 (Red Hat 11.5.0-2) openSUSE Leap 15.6 Kernel: 5.15 Compiler: gcc gcc (SUSE Linux) 7.5.0 Ubuntu 24.04 Kernel: 5.15 Compiler: gcc gcc (Ubuntu 13.3.0-6ubuntu2~24.04) 13.3.0 Ubuntu 22.04 Kernel: 5.15 Compiler: gcc gcc (Ubuntu 11.4.0-1ubuntu1~22.04) 11.4.0 Alpine Linux 3.22.0 Kernel: 5.15 Compiler: gcc gcc (Alpine 14.2.0) 14.2.0 Windows Server 2022 Kernel: 10.0.20348.2031 Compiler: clang 15.0.7, gcc 14.1.0 (MinGW), and MSVC VS 19.39.33521 To view detailed results, visit: https://lab.dpdk.org/results/dashboard/patchsets/34595/ UNH-IOL DPDK Community Lab To manage your email subscriptions, visit: https://lab.dpdk.org/results/dashboard/preferences/subscriptions/