From mboxrd@z Thu Jan 1 00:00:00 1970 Return-Path: Received: from mails.dpdk.org (mails.dpdk.org [217.70.189.124]) by inbox.dpdk.org (Postfix) with ESMTP id 4D0E448B16 for ; Sat, 15 Nov 2025 09:02:24 +0100 (CET) Received: from mails.dpdk.org (localhost [127.0.0.1]) by mails.dpdk.org (Postfix) with ESMTP id 349A04067E; Sat, 15 Nov 2025 09:02:24 +0100 (CET) Received: from mail-pj1-f100.google.com (mail-pj1-f100.google.com [209.85.216.100]) by mails.dpdk.org (Postfix) with ESMTP id E08A04029D for ; Sat, 15 Nov 2025 09:02:22 +0100 (CET) Received: by mail-pj1-f100.google.com with SMTP id 98e67ed59e1d1-343806688c5so2615696a91.0 for ; Sat, 15 Nov 2025 00:02:22 -0800 (PST) DKIM-Signature: v=1; a=rsa-sha256; c=relaxed/relaxed; d=iol.unh.edu; s=unh-iol; t=1763193742; x=1763798542; darn=dpdk.org; h=references:in-reply-to:cc:to:from:subject:message-id:date:from:to :cc:subject:date:message-id:reply-to; bh=YIMokPS0ONcgEAZfEtPsW6dWmBNa1UcK6h8+7AJF9uU=; b=GhUt6h6pDh9U+8s9RWPgx7nTx4ISuZiP3TioLw7MZ+6azeB6cQyYVqjUtAClngqopN k2Xkus27NAXg9fAxjKfa4qFL5Dw7tZqjkQTtesrcDwei8q4qxu2el9eYtxadkPSCuqLA L6Ev/lAJxa50TS91QPEooCZKEa85+jZcf/6tU= X-Google-DKIM-Signature: v=1; a=rsa-sha256; c=relaxed/relaxed; d=1e100.net; s=20230601; t=1763193742; x=1763798542; h=references:in-reply-to:cc:to:from:subject:message-id:date:x-gm-gg :x-gm-message-state:from:to:cc:subject:date:message-id:reply-to; bh=YIMokPS0ONcgEAZfEtPsW6dWmBNa1UcK6h8+7AJF9uU=; b=Hy49BW0iV4Z+ef5GUyw2skZFosHn2pROYOxJnRcmJePe5k/T+NjiX3ofVYH3qcpWAq Ak9E6fiE5VZf+wjMoa77VB6MPyVu86LSzzhcau1HXRGZc28ML45IAP9P0Z8BC6s6JygZ QQiI5SCN5xkdNXJJvumha1mCnttECbTyimHtLUPqxFg2lnD77kF4IKB6nO2doC+MS1sk Ft6Ym1JG9qxaAVEFetLW7ZmbCUUhiK6rNFe9oXK/AOb+GK9BzNDq8wdM0glr1DxMkSjv zBbac7z4irVUrIsJ2gdG4yJ6PeXwzqY/hieT05KWcHxfrapDcJasnw11gZHx7RHsGM24 jCYQ== X-Gm-Message-State: AOJu0YxXZrUDI6c/KNyCu5bONj6p2O+bonlJzaY1Uvfb9lGX+ycPiPg5 8E63N3V9nB2ImQ7YqyUOxen8ReRkQEfIVEHNbDeuSBKC+PQHiGf2huK5fmrRA9vxSWizLc/r/f7 7DSSbdgiIOGD3VRySmUDKncwHgoJWI6HNDz1DBT/qoX/7 X-Gm-Gg: ASbGncvU8mIjFz4IqOeT7Uo5hEWdtuz5u6wq+rxgIsG6HQMfUNcsMDvYgV+l1HC3x18 9xiO2l3cptj7cpYryjXWkjNEIzlF06weyRgVJWYv34Wh46E4infSCDYjkbF+G7rco7F3BaZVzFi OCcu61JuQ3BzfyzKuRphqhfCB4UGzkrVmkceX6iDrhsAiqXIvEgPyyXW76nziaVEGFttMZcFS+W ClA/nx9ewmvepBH1T9Xaw5DIUacFbQgUvD4kUYTQuU1+G20/V7o70xWJuwjiLa2i9j842WJHLVP gcpu9dt+Q2Vdv+HXLUKg5pdaMjt2eZ4Nn1JjsXtTR9cm1zSVyFRYlhV7SQxohg7AaEhOJ1cOFtF V0TBGlzjKNQkR3HW4W7L+z8cu6BXczWY= X-Google-Smtp-Source: AGHT+IGGqIdDlutegWOLmhm3lopGhUMIxlbVAjiPkbV8+2fCV2bif6KqmQZco+VysEZiMkB+xYP+S6V1dIdR X-Received: by 2002:a17:90b:58cc:b0:343:684c:f8ad with SMTP id 98e67ed59e1d1-343f9e92249mr6753263a91.4.1763193742154; Sat, 15 Nov 2025 00:02:22 -0800 (PST) Received: from postal.iol.unh.edu (postal.iol.unh.edu. [132.177.123.84]) by smtp-relay.gmail.com with ESMTPS id 98e67ed59e1d1-343e07b0c91sm1183434a91.5.2025.11.15.00.02.22 (version=TLS1_2 cipher=ECDHE-ECDSA-AES128-GCM-SHA256 bits=128/128); Sat, 15 Nov 2025 00:02:22 -0800 (PST) X-Relaying-Domain: iol.unh.edu Date: Sat, 15 Nov 2025 00:02:22 -0800 (PST) Message-ID: <6918338e.170a0220.1d162d.ad2cSMTPIN_ADDED_MISSING@mx.google.com> Received: from [172.21.0.3] (unknown [172.18.0.240]) by postal.iol.unh.edu (Postfix) with ESMTP id 692256051835; Sat, 15 Nov 2025 03:02:21 -0500 (EST) Subject: |SUCCESS| pw158819 [PATCH] net/mlx5: improve error on completing tab From: dpdklab@iol.unh.edu To: Test Report Cc: dpdk-test-reports@iol.unh.edu In-Reply-To: <20251114192712.1637369-1-dsosnowski@nvidia.com> References: <20251114192712.1637369-1-dsosnowski@nvidia.com> Content-Type: text/plain X-BeenThere: test-report@dpdk.org X-Mailman-Version: 2.1.29 Precedence: list List-Id: automatic DPDK test reports List-Unsubscribe: , List-Archive: List-Post: List-Help: List-Subscribe: , Errors-To: test-report-bounces@dpdk.org Test-Label: iol-compile-amd64-testing Test-Status: SUCCESS http://dpdk.org/patch/158819 _Testing PASS_ Submitter: Dariusz Sosnowski Date: Friday, November 14 2025 19:27:12 DPDK git baseline: Repo:dpdk-next-net-mlx Branch: master CommitID:ae657d56b1f0ea979b3f611edf28d773efc2ddcf 158819 --> testing pass Upstream job id: Generic-DPDK-Compile-Meson#444730 Test environment and result as below: +-------------------------------+--------------------+-------------------------+-------------------+------------------+ | Environment | dpdk_meson_compile | dpdk_llvm_clang_compile | dpdk_msvc_compile | dpdk_compile_ovs | +===============================+====================+=========================+===================+==================+ | Ubuntu 20.04 | PASS | SKIPPED | SKIPPED | SKIPPED | +-------------------------------+--------------------+-------------------------+-------------------+------------------+ | FreeBSD 14.2 | PASS | SKIPPED | SKIPPED | SKIPPED | +-------------------------------+--------------------+-------------------------+-------------------+------------------+ | CentOS Stream 9 | PASS | SKIPPED | SKIPPED | SKIPPED | +-------------------------------+--------------------+-------------------------+-------------------+------------------+ | CentOS Stream 10 | PASS | SKIPPED | SKIPPED | SKIPPED | +-------------------------------+--------------------+-------------------------+-------------------+------------------+ | Debian GNU/Linux 12 | PASS | SKIPPED | SKIPPED | SKIPPED | +-------------------------------+--------------------+-------------------------+-------------------+------------------+ | Fedora Linux 42 | PASS | SKIPPED | SKIPPED | PASS | +-------------------------------+--------------------+-------------------------+-------------------+------------------+ | openSUSE Leap 15.6 | PASS | SKIPPED | SKIPPED | SKIPPED | +-------------------------------+--------------------+-------------------------+-------------------+------------------+ | Red Hat Enterprise Linux 8.10 | PASS | SKIPPED | SKIPPED | SKIPPED | +-------------------------------+--------------------+-------------------------+-------------------+------------------+ | Red Hat Enterprise Linux 9.5 | PASS | SKIPPED | SKIPPED | SKIPPED | +-------------------------------+--------------------+-------------------------+-------------------+------------------+ | Ubuntu 22.04 | PASS | SKIPPED | SKIPPED | SKIPPED | +-------------------------------+--------------------+-------------------------+-------------------+------------------+ | Ubuntu 24.04 | PASS | SKIPPED | SKIPPED | PASS | +-------------------------------+--------------------+-------------------------+-------------------+------------------+ | Alpine Linux 3.22.0 | PASS | SKIPPED | SKIPPED | SKIPPED | +-------------------------------+--------------------+-------------------------+-------------------+------------------+ | Windows Server 2022 | SKIPPED | PASS | PASS | SKIPPED | +-------------------------------+--------------------+-------------------------+-------------------+------------------+ Ubuntu 20.04 Kernel: 4.19 Compiler: gcc gcc (Ubuntu 9.4.0-1ubuntu1~20.04.2) 9.4.0 FreeBSD 14.2 Kernel: 14.2-RELEASE Compiler: clang 18.1.6 CentOS Stream 9 Kernel: 5.15 Compiler: gcc gcc (GCC) 11.5.0 20240719 (Red Hat 11.5.0-11) CentOS Stream 10 Kernel: 5.15 Compiler: gcc gcc (GCC) 14.2.1 20250110 (Red Hat 14.2.1-8) Debian GNU/Linux 12 Kernel: 5.15 Compiler: gcc gcc (Debian 12.2.0-14+deb12u1) 12.2.0 Fedora Linux 42 Kernel: 5.15 Compiler: clang gcc (GCC) 15.2.1 20250808 (Red Hat 15.2.1-1) openSUSE Leap 15.6 Kernel: 5.15 Compiler: gcc gcc (SUSE Linux) 7.5.0 Red Hat Enterprise Linux 8.10 Kernel: 5.15 Compiler: gcc gcc (GCC) 8.5.0 20210514 (Red Hat 8.5.0-22) Red Hat Enterprise Linux 9.5 Kernel: 5.15 Compiler: gcc gcc (GCC) 11.5.0 20240719 (Red Hat 11.5.0-2) Ubuntu 22.04 Kernel: 5.15 Compiler: gcc gcc (Ubuntu 11.4.0-1ubuntu1~22.04) 11.4.0 Ubuntu 24.04 Kernel: 5.15 Compiler: gcc gcc (Ubuntu 13.3.0-6ubuntu2~24.04) 13.3.0 Alpine Linux 3.22.0 Kernel: 5.15 Compiler: gcc gcc (Alpine 14.2.0) 14.2.0 Windows Server 2022 Kernel: 10.0.20348.2031 Compiler: clang 15.0.7, gcc 14.1.0 (MinGW), and MSVC VS 19.39.33521 To view detailed results, visit: https://lab.dpdk.org/results/dashboard/patchsets/34601/ UNH-IOL DPDK Community Lab To manage your email subscriptions, visit: https://lab.dpdk.org/results/dashboard/preferences/subscriptions/