From mboxrd@z Thu Jan 1 00:00:00 1970 Return-Path: Received: from mails.dpdk.org (mails.dpdk.org [217.70.189.124]) by inbox.dpdk.org (Postfix) with ESMTP id EB9CD48B16 for ; Sat, 15 Nov 2025 09:09:55 +0100 (CET) Received: from mails.dpdk.org (localhost [127.0.0.1]) by mails.dpdk.org (Postfix) with ESMTP id E6780400D6; Sat, 15 Nov 2025 09:09:55 +0100 (CET) Received: from mail-il1-f225.google.com (mail-il1-f225.google.com [209.85.166.225]) by mails.dpdk.org (Postfix) with ESMTP id 2E1F5400D6 for ; Sat, 15 Nov 2025 09:09:55 +0100 (CET) Received: by mail-il1-f225.google.com with SMTP id e9e14a558f8ab-434717509afso12130925ab.2 for ; Sat, 15 Nov 2025 00:09:55 -0800 (PST) DKIM-Signature: v=1; a=rsa-sha256; c=relaxed/relaxed; d=iol.unh.edu; s=unh-iol; t=1763194194; x=1763798994; darn=dpdk.org; h=references:in-reply-to:cc:to:from:subject:message-id:date:from:to :cc:subject:date:message-id:reply-to; bh=7qW13zN+jm5aozP72Brn+V50Hs5K7o3bNBk9iqc2/yo=; b=MrzT+vUgsHU/GFbFxdh5uy71uGsgP7cTu1dVLeU/1E4XWdPvkVbEfJRmiuaeQBkA2S Iu7Nxt9TS9UWGINrlXrJfTjJ7ShVrVmWzTX2kJIG0shwUp6zHRGzUzqtCuMIR47mkJ5O thIRHU0l4PDVDfKJK7SsnPCbpEHtUN7cPUq+8= X-Google-DKIM-Signature: v=1; a=rsa-sha256; c=relaxed/relaxed; d=1e100.net; s=20230601; t=1763194194; x=1763798994; h=references:in-reply-to:cc:to:from:subject:message-id:date:x-gm-gg :x-gm-message-state:from:to:cc:subject:date:message-id:reply-to; bh=7qW13zN+jm5aozP72Brn+V50Hs5K7o3bNBk9iqc2/yo=; b=gWGPbw+uxPRzh0lcTDQBOp2wmP/CFMMTrmKjfPf5H6Rsm26I/w2rLWo3m07FjvIJKs L3n5TEJJIxjJVeP2srYOPaEvCK2LawBI/1Htp/ZXXDuq6IT5dCcDlkNggwHmZJ+jyawm zIGeqhp7a+nAsOyRmvHjItN6XPVFS5UamCelS37UNtSHnKlusyMNeNgMexx2RxWRnK8k yqZ6jJfrsAHESCb+MKN8sSY4VuACOeFeZfnZGs4eR/oMdo1KJTBUwv9uwg030sVWVkAf FHmwuQtEZH9Kv1X1369ZWl/oSx40HRRLYRoDY6bIl8HNkgl1Ek5YehgpamwGqpblykG3 Dnuw== X-Gm-Message-State: AOJu0YwlzNW4HcJp1MMRuU7tDMxXQ1friYo7hBN/mWeRgYXDymsDSrwY y5XCmYvGOkqpbxS8pPCUVcvTdg181CpqMCqOXLigqTp+72fmX8hHGCE01fO2h+KKzUazRy2Pt63 5dW/n13FvGvJS6QuumRW67jdDW6ai1lqtYDXjWK8qsAyx X-Gm-Gg: ASbGnctLVL877bjshM5AiG6ybqMeokwuLLCk/Cza2TiCfsqFgrhdJWk29pjx43WoWo8 NFon/Pv2uMK1q7kqzsnrP/ZMCPJW3oTmcLIsQhga7HiD8Q/okHZ/agoG06tkwQGXNIh0prBeQlf 4WUEOg44QhY07jKdwP871bhmGdRPv70VX/RS0dnDZlFGYb9h8Eqw+Kw8nsKAyWJXNjwPz0eobrI gAKh+by7DdD/nr3dKSQf5CYe0s6aZmv5kXvRyyCR1d5dO/Nl9E+S0Mo5QHYZmECcoSNMiRNYQi3 ZPp26W0EUq8niJ+xu0kd3blsc4TIkyL8MFK/n2IkEfOjh0cfLDOyL3k5k60oPkKixyBg0H/JaDY axgqgZ1VUgOIXEsMlG7lSJaXHv99Qi7I= X-Google-Smtp-Source: AGHT+IH8vDMp+FwXyj/UpLlYAZnckB+xShvOlz7v8AbVjx7GU3ZEQE1RqrxiwGdurJp1fKwXYbHwP4z0d+E9 X-Received: by 2002:a05:6e02:1d87:b0:433:7abd:96d0 with SMTP id e9e14a558f8ab-4348c86ab82mr86796095ab.3.1763194194345; Sat, 15 Nov 2025 00:09:54 -0800 (PST) Received: from postal.iol.unh.edu (postal.iol.unh.edu. [132.177.123.84]) by smtp-relay.gmail.com with ESMTPS id e9e14a558f8ab-434833e96f6sm6554415ab.13.2025.11.15.00.09.54 (version=TLS1_2 cipher=ECDHE-ECDSA-AES128-GCM-SHA256 bits=128/128); Sat, 15 Nov 2025 00:09:54 -0800 (PST) X-Relaying-Domain: iol.unh.edu Date: Sat, 15 Nov 2025 00:09:54 -0800 (PST) Message-ID: <69183552.050a0220.30701f.fff2SMTPIN_ADDED_MISSING@mx.google.com> Received: from [172.21.0.2] (unknown [172.18.0.240]) by postal.iol.unh.edu (Postfix) with ESMTP id E381D6051830; Sat, 15 Nov 2025 03:09:53 -0500 (EST) Subject: |SUCCESS| pw158794-158812 [PATCH] [v2,19/19] vfio: introduce cdev mo From: dpdklab@iol.unh.edu To: Test Report Cc: dpdk-test-reports@iol.unh.edu In-Reply-To: <45db9c5e1589c56ed0e31a0e15390da5366ca5c2.1763142008.git.anatoly.burakov@intel.com> References: <45db9c5e1589c56ed0e31a0e15390da5366ca5c2.1763142008.git.anatoly.burakov@intel.com> Content-Type: text/plain X-BeenThere: test-report@dpdk.org X-Mailman-Version: 2.1.29 Precedence: list List-Id: automatic DPDK test reports List-Unsubscribe: , List-Archive: List-Post: List-Help: List-Subscribe: , Errors-To: test-report-bounces@dpdk.org Test-Label: iol-unit-amd64-testing Test-Status: SUCCESS http://dpdk.org/patch/158812 _Testing PASS_ Submitter: Anatoly Burakov Date: Friday, November 14 2025 17:40:29 DPDK git baseline: Repo:dpdk Branch: master CommitID:be0112878b4fc3a1b918370ed2fe615c52039d77 158794-158812 --> testing pass Upstream job id: Generic-VM-Unit-Test-DPDK#32581 Test environment and result as below: +-------------------------------+----------------+ | Environment | dpdk_unit_test | +===============================+================+ | Fedora Linux 41 | PASS | +-------------------------------+----------------+ | Fedora Linux 40 | PASS | +-------------------------------+----------------+ | Red Hat Enterprise Linux 8.10 | PASS | +-------------------------------+----------------+ | Fedora Linux 42 | PASS | +-------------------------------+----------------+ | Debian GNU/Linux 12 | PASS | +-------------------------------+----------------+ | CentOS Stream 9 | PASS | +-------------------------------+----------------+ | Ubuntu 24.04 | PASS | +-------------------------------+----------------+ | CentOS Stream 10 | PASS | +-------------------------------+----------------+ | Red Hat Enterprise Linux 9.5 | PASS | +-------------------------------+----------------+ | Ubuntu 20.04 | PASS | +-------------------------------+----------------+ | Ubuntu 22.04 | PASS | +-------------------------------+----------------+ | Windows Server 2022 | PASS | +-------------------------------+----------------+ Fedora Linux 41 Kernel: 5.15 Compiler: clang gcc (GCC) 14.3.1 20250523 (Red Hat 14.3.1-1) Fedora Linux 40 Kernel: 5.15 Compiler: gcc gcc (GCC) 14.2.1 20240912 (Red Hat 14.2.1-3) Red Hat Enterprise Linux 8.10 Kernel: 5.15 Compiler: gcc gcc (GCC) 8.5.0 20210514 (Red Hat 8.5.0-22) Fedora Linux 42 Kernel: 5.15 Compiler: clang gcc (GCC) 15.2.1 20250808 (Red Hat 15.2.1-1) Debian GNU/Linux 12 Kernel: 5.15 Compiler: gcc gcc (Debian 12.2.0-14+deb12u1) 12.2.0 CentOS Stream 9 Kernel: 5.15 Compiler: gcc gcc (GCC) 11.5.0 20240719 (Red Hat 11.5.0-11) Ubuntu 24.04 Kernel: 5.15 Compiler: gcc gcc (Ubuntu 13.3.0-6ubuntu2~24.04) 13.3.0 CentOS Stream 10 Kernel: 5.15 Compiler: gcc gcc (GCC) 14.2.1 20250110 (Red Hat 14.2.1-8) Red Hat Enterprise Linux 9.5 Kernel: 5.15 Compiler: gcc gcc (GCC) 11.5.0 20240719 (Red Hat 11.5.0-2) Ubuntu 20.04 Kernel: 5.15 Compiler: gcc gcc (Ubuntu 9.4.0-1ubuntu1~20.04.2) 9.4.0 Ubuntu 22.04 Kernel: 5.15 Compiler: gcc gcc (Ubuntu 11.4.0-1ubuntu1~22.04) 11.4.0 Windows Server 2022 Kernel: 10.0.20348.2031 Compiler: clang 15.0.7, gcc 14.1.0 (MinGW), and MSVC VS 19.39.33521 To view detailed results, visit: https://lab.dpdk.org/results/dashboard/patchsets/34593/ UNH-IOL DPDK Community Lab To manage your email subscriptions, visit: https://lab.dpdk.org/results/dashboard/preferences/subscriptions/