From mboxrd@z Thu Jan 1 00:00:00 1970 Return-Path: Received: from mails.dpdk.org (mails.dpdk.org [217.70.189.124]) by inbox.dpdk.org (Postfix) with ESMTP id BD7DF48B16 for ; Sat, 15 Nov 2025 09:17:09 +0100 (CET) Received: from mails.dpdk.org (localhost [127.0.0.1]) by mails.dpdk.org (Postfix) with ESMTP id 9E6D0400D6; Sat, 15 Nov 2025 09:17:09 +0100 (CET) Received: from mail-io1-f99.google.com (mail-io1-f99.google.com [209.85.166.99]) by mails.dpdk.org (Postfix) with ESMTP id AE359400D6 for ; Sat, 15 Nov 2025 09:17:08 +0100 (CET) Received: by mail-io1-f99.google.com with SMTP id ca18e2360f4ac-948a7964a41so84554839f.2 for ; Sat, 15 Nov 2025 00:17:08 -0800 (PST) DKIM-Signature: v=1; a=rsa-sha256; c=relaxed/relaxed; d=iol.unh.edu; s=unh-iol; t=1763194628; x=1763799428; darn=dpdk.org; h=references:in-reply-to:cc:to:from:subject:message-id:date:from:to :cc:subject:date:message-id:reply-to; bh=lhMreb/zCtZFk0ASlV5gnTSfyHq1hETLu82TEibtfdE=; b=iCqt743wjVr81lA2Z8Sjj02YclExOxBYfccHtbWJSWr1AA2iJ7PfelO4zy3AfCL64J 3T1G5sKRDxwlsihfIrRWjQvYqQCKnFD6W5relN2ZjIyVzH7bbBSZSGTtS/XIX49LYVUv Lbl3u556ioCx8gz/dHjs7/wHmRWSSdbkU9lRc= X-Google-DKIM-Signature: v=1; a=rsa-sha256; c=relaxed/relaxed; d=1e100.net; s=20230601; t=1763194628; x=1763799428; h=references:in-reply-to:cc:to:from:subject:message-id:date:x-gm-gg :x-gm-message-state:from:to:cc:subject:date:message-id:reply-to; bh=lhMreb/zCtZFk0ASlV5gnTSfyHq1hETLu82TEibtfdE=; b=W6Bcj9vEkqDOidswQZUl0B/qC/obI0g5g//n2Bvv1y6TT1xFwhcS5S1OYzaOzDHfV5 rK0mUr9vMoFdx0oiksz9Ck3AH4hQ1NWTe+j2sPoWBZZMHlco7c8ldFCI7Mc9Ok/TlQA9 ZNATVIdSwHWPvM74gpgpzXsK7Kd7dGyZspXs4JHY53aIewtEdaleb9Lrx8TdqOuglHZS Q27Psg03KLFiBNBnnz3u3SNOXd4KdimikBj+gFbzBglYJXa6hBRUP5wCcYShHveTwvfo h5iFKR4mWxkA3qTfn9tnjvDWh5cbTke9ujFj8JevGVWe0WovE6u0sfVhknwMlSVKTuRi lIxA== X-Gm-Message-State: AOJu0Yzblma2DAg5IhE0Ei5FBk/9ATGRQJMeTzpfQeJopP4aXNa9Z55K Azj4YsOIKx3tCKLB1XXFB51uijCKBeu1P72gVgM1g3m+7QUiafF+NF9iLVU/mFMnI3N36qHOxdD jKFft3smq8s/c//bWwep5ywSSaFXQjatIpq6rNazkrhRy X-Gm-Gg: ASbGncucb+xdpcOUsfR9g539IZzNmmNXVOGLcz+yKfx5fsBS9x3xMDQwsTQ8QHSN3On g5/gw8OKrLPLhpJvPyPdX4CSxMomKV03YN89mE/0oJqR6omyd9XFFLdY2VP+VbChrgDK5uwhKvY vzyRkaKGBsSfyrKi1CDAPj5P2liUhyl4y9CP8f7Na1HGtfzCzJEx58g8Kfte8B/DP8dYp+5p6TW J6gLis2wrUHdKAWAfZtltq/44ZvrOBlN4dQaVTufLuORW2va+bcq3huVjijEbW60t5x91U3h7Ct LPKkVXyf+F0zbZLhVy8vSGDpJUYqn5owtXCHUEE6ngklrs9r4hx/+VFbsT4pGx9TPYNtfh7tMo6 le7asntbCEmzXFvPzBleXHnv9Pqa7cTY= X-Google-Smtp-Source: AGHT+IFx/x0/xjx6MmsBUAGrDRABfhMo/G8vZ8V4D3ZbZkIaeSyCqL9MGRAXXIdVYNZgi1E1yPZ3Q5aJDab0 X-Received: by 2002:a05:6638:f87:b0:5b7:aab8:43d9 with SMTP id 8926c6da1cb9f-5b7c9c78ae8mr1526573173.6.1763194627779; Sat, 15 Nov 2025 00:17:07 -0800 (PST) Received: from postal.iol.unh.edu (postal.iol.unh.edu. [132.177.123.84]) by smtp-relay.gmail.com with ESMTPS id 8926c6da1cb9f-5b7bd31ab8dsm371541173.25.2025.11.15.00.17.07 (version=TLS1_2 cipher=ECDHE-ECDSA-AES128-GCM-SHA256 bits=128/128); Sat, 15 Nov 2025 00:17:07 -0800 (PST) X-Relaying-Domain: iol.unh.edu Date: Sat, 15 Nov 2025 00:17:07 -0800 (PST) Message-ID: <69183703.050a0220.10983b.1e7aSMTPIN_ADDED_MISSING@mx.google.com> Received: from [172.21.0.2] (unknown [172.18.0.240]) by postal.iol.unh.edu (Postfix) with ESMTP id 4A9EF60003F4; Sat, 15 Nov 2025 03:17:07 -0500 (EST) Subject: |SUCCESS| pw158756-158759 [PATCH] [v4,4/4] bus/fslmc: add support fo From: dpdklab@iol.unh.edu To: Test Report Cc: dpdk-test-reports@iol.unh.edu, Stephen Hemminger In-Reply-To: <20251113114355.2027438-4-hemant.agrawal@nxp.com> References: <20251113114355.2027438-4-hemant.agrawal@nxp.com> Content-Type: text/plain X-BeenThere: test-report@dpdk.org X-Mailman-Version: 2.1.29 Precedence: list List-Id: automatic DPDK test reports List-Unsubscribe: , List-Archive: List-Post: List-Help: List-Subscribe: , Errors-To: test-report-bounces@dpdk.org Test-Label: iol-compile-amd64-testing Test-Status: SUCCESS http://dpdk.org/patch/158759 _Testing PASS_ Submitter: Hemant Agrawal Date: Thursday, November 13 2025 11:43:55 DPDK git baseline: Repo:dpdk-next-net Branch: master CommitID:29807269854f9bfc72f1323273de8e23adc724d4 158756-158759 --> testing pass Upstream job id: Windows-Compile-DPDK-Native#32369 Test environment and result as below: +-------------------------------+--------------------+------------------+-------------------+-------------------------+ | Environment | dpdk_meson_compile | dpdk_compile_ovs | dpdk_msvc_compile | dpdk_llvm_clang_compile | +===============================+====================+==================+===================+=========================+ | Ubuntu 20.04 | PASS | SKIPPED | SKIPPED | SKIPPED | +-------------------------------+--------------------+------------------+-------------------+-------------------------+ | FreeBSD 14.2 | PASS | SKIPPED | SKIPPED | SKIPPED | +-------------------------------+--------------------+------------------+-------------------+-------------------------+ | Alpine Linux 3.22.0 | PASS | SKIPPED | SKIPPED | SKIPPED | +-------------------------------+--------------------+------------------+-------------------+-------------------------+ | CentOS Stream 10 | PASS | SKIPPED | SKIPPED | SKIPPED | +-------------------------------+--------------------+------------------+-------------------+-------------------------+ | CentOS Stream 9 | PASS | SKIPPED | SKIPPED | SKIPPED | +-------------------------------+--------------------+------------------+-------------------+-------------------------+ | Debian GNU/Linux 12 | PASS | SKIPPED | SKIPPED | SKIPPED | +-------------------------------+--------------------+------------------+-------------------+-------------------------+ | Fedora Linux 42 | PASS | PASS | SKIPPED | SKIPPED | +-------------------------------+--------------------+------------------+-------------------+-------------------------+ | openSUSE Leap 15.6 | PASS | SKIPPED | SKIPPED | SKIPPED | +-------------------------------+--------------------+------------------+-------------------+-------------------------+ | Red Hat Enterprise Linux 8.10 | PASS | SKIPPED | SKIPPED | SKIPPED | +-------------------------------+--------------------+------------------+-------------------+-------------------------+ | Red Hat Enterprise Linux 9.5 | PASS | SKIPPED | SKIPPED | SKIPPED | +-------------------------------+--------------------+------------------+-------------------+-------------------------+ | Ubuntu 22.04 | PASS | SKIPPED | SKIPPED | SKIPPED | +-------------------------------+--------------------+------------------+-------------------+-------------------------+ | Ubuntu 24.04 | PASS | PASS | SKIPPED | SKIPPED | +-------------------------------+--------------------+------------------+-------------------+-------------------------+ | Windows Server 2022 | SKIPPED | SKIPPED | PASS | PASS | +-------------------------------+--------------------+------------------+-------------------+-------------------------+ Ubuntu 20.04 Kernel: 4.19 Compiler: gcc gcc (Ubuntu 9.4.0-1ubuntu1~20.04.2) 9.4.0 FreeBSD 14.2 Kernel: 14.2-RELEASE Compiler: clang 18.1.6 Alpine Linux 3.22.0 Kernel: 5.15 Compiler: gcc gcc (Alpine 14.2.0) 14.2.0 CentOS Stream 10 Kernel: 5.15 Compiler: gcc gcc (GCC) 14.2.1 20250110 (Red Hat 14.2.1-8) CentOS Stream 9 Kernel: 5.15 Compiler: gcc gcc (GCC) 11.5.0 20240719 (Red Hat 11.5.0-11) Debian GNU/Linux 12 Kernel: 5.15 Compiler: gcc gcc (Debian 12.2.0-14+deb12u1) 12.2.0 Fedora Linux 42 Kernel: 5.15 Compiler: gcc gcc (GCC) 15.2.1 20250808 (Red Hat 15.2.1-1) openSUSE Leap 15.6 Kernel: 5.15 Compiler: gcc gcc (SUSE Linux) 7.5.0 Red Hat Enterprise Linux 8.10 Kernel: 5.15 Compiler: gcc gcc (GCC) 8.5.0 20210514 (Red Hat 8.5.0-22) Red Hat Enterprise Linux 9.5 Kernel: 5.15 Compiler: gcc gcc (GCC) 11.5.0 20240719 (Red Hat 11.5.0-2) Ubuntu 22.04 Kernel: 5.15 Compiler: gcc gcc (Ubuntu 11.4.0-1ubuntu1~22.04) 11.4.0 Ubuntu 24.04 Kernel: 5.15 Compiler: gcc gcc (Ubuntu 13.3.0-6ubuntu2~24.04) 13.3.0 Windows Server 2022 Kernel: 10.0.20348.2031 Compiler: clang 15.0.7, gcc 14.1.0 (MinGW), and MSVC VS 19.39.33521 To view detailed results, visit: https://lab.dpdk.org/results/dashboard/patchsets/34573/ UNH-IOL DPDK Community Lab To manage your email subscriptions, visit: https://lab.dpdk.org/results/dashboard/preferences/subscriptions/