From mboxrd@z Thu Jan 1 00:00:00 1970 Return-Path: Received: from mails.dpdk.org (mails.dpdk.org [217.70.189.124]) by inbox.dpdk.org (Postfix) with ESMTP id 0C98548B16 for ; Sat, 15 Nov 2025 09:20:09 +0100 (CET) Received: from mails.dpdk.org (localhost [127.0.0.1]) by mails.dpdk.org (Postfix) with ESMTP id E1432400D6; Sat, 15 Nov 2025 09:20:08 +0100 (CET) Received: from mail-pf1-f227.google.com (mail-pf1-f227.google.com [209.85.210.227]) by mails.dpdk.org (Postfix) with ESMTP id DDA3F400D6 for ; Sat, 15 Nov 2025 09:20:07 +0100 (CET) Received: by mail-pf1-f227.google.com with SMTP id d2e1a72fcca58-7ba55660769so1449202b3a.1 for ; Sat, 15 Nov 2025 00:20:07 -0800 (PST) DKIM-Signature: v=1; a=rsa-sha256; c=relaxed/relaxed; d=iol.unh.edu; s=unh-iol; t=1763194807; x=1763799607; darn=dpdk.org; h=references:in-reply-to:cc:to:from:subject:message-id:date:from:to :cc:subject:date:message-id:reply-to; bh=EW03JoOylMChSY3t9Jfc+0EkYAjCqtPVGw13ELQOK38=; b=A0jlhgEMZcOxDmZ0y3ZZPCiDr0eaiz1b7SvO/R3X2qkJO5AlySdz/znChuwHUwdtkS am+p52Ra6XaUUuv4VC5x9n2nNQJ5LUFc1UG0H6tCBNcRKFQvyGC5WD0BYD0Nh2R6uGCE AOo4RcnjJqh7CtCTtRr64ttxuFRnaAcHuv5xk= X-Google-DKIM-Signature: v=1; a=rsa-sha256; c=relaxed/relaxed; d=1e100.net; s=20230601; t=1763194807; x=1763799607; h=references:in-reply-to:cc:to:from:subject:message-id:date:x-gm-gg :x-gm-message-state:from:to:cc:subject:date:message-id:reply-to; bh=EW03JoOylMChSY3t9Jfc+0EkYAjCqtPVGw13ELQOK38=; b=hkWdbGfrBJSmPFurxxEpakha6j6SPS7Iky88hNTliajQAg0cKpqach7lfvQna5nwTM HaWimJuIOo34M2FVFcvj5eiRmweBJbXhE1C4Dm+WOp93cJrPBzJ6T9bOtKrMjj7s2mL5 ST7TgmXKdD0EIZ2v2mzdEyK509hWomJb8hlFZr3tT1KWGUutsrpi+59BkvG0UUXbxR02 jB5Ut/deII40Z1noH7lfY0nEIKHf6b/yY86hP+OI3WkKFLW+4QnaLhNgoYqusSs6SKEA WwcJWa37KDCsK7/ddgCfEl1mk72fLO2uzASPMP40m6Utmj9U0KOrXAcOosBiaBbeDcZd SfxQ== X-Gm-Message-State: AOJu0YxFUL4HfyD3BDJFEmvayYUP4bQaEMLMjYTVlXOubgYsJOBndTEN lWItBgVZo1zOx1nGPNbJpTvZLlL1dl4lmUFvGmDOYQhXwGDH1BXsO4hjV40gxnUmGq3uVqEFhSf t33nuvb98todixLhaQwQtdqVW+s0842+M48TTj6sVNzps X-Gm-Gg: ASbGncuXS4oe37xXwH7FcxzH8TrYIQqXXj0r+vWw8s7KyxTRGoJg3vBUTdG3Km/Pjq3 fDU4HyAcvqrcDI2gg+79u9gbhUcfeNHlj1XZxpOAohpYsLERyzBbcUr3i6rZnBeXTyYxL9Y7ajI +xD3cHuZLvCs5TY57iNBspSLoa9Psb4BUB/8sjyzD8MoQJPlUyTBkZxfH5MHTG+eNI7W3CDeurd 1dc8h9j0Fbo9NmqNrxiVMMpR7oi6fTUlzV0sGtW/JcBLEb/6ZzI12Mq1kepnTqORm/jqkHNDWJX tNJKvdXKR0YtYlTYC9cySGprY8DPgRgl45WVf72BcedgBWqK5Bd7SiWGioONr1yNzVotrpJVdO0 kZ66dBOaS2tQ9fzosxoZIiKZJu/FrUkg= X-Google-Smtp-Source: AGHT+IE8qLwPt/7WH4prfx+X9ofQipBNLA4dPyV6BV0/xrTRe6vW9y8TdaWCQdG8HcmOzJX3UApBYrJKeCxu X-Received: by 2002:a05:6a00:3e1b:b0:7a2:8111:780a with SMTP id d2e1a72fcca58-7ba39b79892mr7002625b3a.2.1763194806785; Sat, 15 Nov 2025 00:20:06 -0800 (PST) Received: from postal.iol.unh.edu (postal.iol.unh.edu. [132.177.123.84]) by smtp-relay.gmail.com with ESMTPS id d2e1a72fcca58-7b926196f27sm693675b3a.5.2025.11.15.00.20.06 (version=TLS1_2 cipher=ECDHE-ECDSA-AES128-GCM-SHA256 bits=128/128); Sat, 15 Nov 2025 00:20:06 -0800 (PST) X-Relaying-Domain: iol.unh.edu Date: Sat, 15 Nov 2025 00:20:06 -0800 (PST) Message-ID: <691837b6.050a0220.1f28e6.2ee0SMTPIN_ADDED_MISSING@mx.google.com> Received: from [172.21.0.4] (unknown [172.18.0.240]) by postal.iol.unh.edu (Postfix) with ESMTP id E301F6051830; Sat, 15 Nov 2025 03:20:05 -0500 (EST) Subject: |SUCCESS| pw158756-158759 [PATCH] [v4,4/4] bus/fslmc: add support fo From: dpdklab@iol.unh.edu To: Test Report Cc: dpdk-test-reports@iol.unh.edu, Stephen Hemminger In-Reply-To: <20251113114355.2027438-4-hemant.agrawal@nxp.com> References: <20251113114355.2027438-4-hemant.agrawal@nxp.com> Content-Type: text/plain X-BeenThere: test-report@dpdk.org X-Mailman-Version: 2.1.29 Precedence: list List-Id: automatic DPDK test reports List-Unsubscribe: , List-Archive: List-Post: List-Help: List-Subscribe: , Errors-To: test-report-bounces@dpdk.org Test-Label: iol-compile-amd64-testing Test-Status: SUCCESS http://dpdk.org/patch/158759 _Testing PASS_ Submitter: Hemant Agrawal Date: Thursday, November 13 2025 11:43:55 DPDK git baseline: Repo:dpdk-next-net Branch: master CommitID:29807269854f9bfc72f1323273de8e23adc724d4 158756-158759 --> testing pass Upstream job id: Windows-Compile-DPDK-Native#32370 Test environment and result as below: +-------------------------------+--------------------+------------------+-------------------+-------------------------+----------------------+ | Environment | dpdk_meson_compile | dpdk_compile_ovs | dpdk_msvc_compile | dpdk_llvm_clang_compile | dpdk_mingw64_compile | +===============================+====================+==================+===================+=========================+======================+ | Ubuntu 20.04 | PASS | SKIPPED | SKIPPED | SKIPPED | SKIPPED | +-------------------------------+--------------------+------------------+-------------------+-------------------------+----------------------+ | FreeBSD 14.2 | PASS | SKIPPED | SKIPPED | SKIPPED | SKIPPED | +-------------------------------+--------------------+------------------+-------------------+-------------------------+----------------------+ | Alpine Linux 3.22.0 | PASS | SKIPPED | SKIPPED | SKIPPED | SKIPPED | +-------------------------------+--------------------+------------------+-------------------+-------------------------+----------------------+ | CentOS Stream 10 | PASS | SKIPPED | SKIPPED | SKIPPED | SKIPPED | +-------------------------------+--------------------+------------------+-------------------+-------------------------+----------------------+ | CentOS Stream 9 | PASS | SKIPPED | SKIPPED | SKIPPED | SKIPPED | +-------------------------------+--------------------+------------------+-------------------+-------------------------+----------------------+ | Debian GNU/Linux 12 | PASS | SKIPPED | SKIPPED | SKIPPED | SKIPPED | +-------------------------------+--------------------+------------------+-------------------+-------------------------+----------------------+ | Fedora Linux 42 | PASS | PASS | SKIPPED | SKIPPED | SKIPPED | +-------------------------------+--------------------+------------------+-------------------+-------------------------+----------------------+ | openSUSE Leap 15.6 | PASS | SKIPPED | SKIPPED | SKIPPED | SKIPPED | +-------------------------------+--------------------+------------------+-------------------+-------------------------+----------------------+ | Red Hat Enterprise Linux 8.10 | PASS | SKIPPED | SKIPPED | SKIPPED | SKIPPED | +-------------------------------+--------------------+------------------+-------------------+-------------------------+----------------------+ | Red Hat Enterprise Linux 9.5 | PASS | SKIPPED | SKIPPED | SKIPPED | SKIPPED | +-------------------------------+--------------------+------------------+-------------------+-------------------------+----------------------+ | Ubuntu 22.04 | PASS | SKIPPED | SKIPPED | SKIPPED | SKIPPED | +-------------------------------+--------------------+------------------+-------------------+-------------------------+----------------------+ | Ubuntu 24.04 | PASS | PASS | SKIPPED | SKIPPED | SKIPPED | +-------------------------------+--------------------+------------------+-------------------+-------------------------+----------------------+ | Windows Server 2022 | SKIPPED | SKIPPED | PASS | PASS | PASS | +-------------------------------+--------------------+------------------+-------------------+-------------------------+----------------------+ Ubuntu 20.04 Kernel: 4.19 Compiler: gcc gcc (Ubuntu 9.4.0-1ubuntu1~20.04.2) 9.4.0 FreeBSD 14.2 Kernel: 14.2-RELEASE Compiler: clang 18.1.6 Alpine Linux 3.22.0 Kernel: 5.15 Compiler: gcc gcc (Alpine 14.2.0) 14.2.0 CentOS Stream 10 Kernel: 5.15 Compiler: gcc gcc (GCC) 14.2.1 20250110 (Red Hat 14.2.1-8) CentOS Stream 9 Kernel: 5.15 Compiler: gcc gcc (GCC) 11.5.0 20240719 (Red Hat 11.5.0-11) Debian GNU/Linux 12 Kernel: 5.15 Compiler: gcc gcc (Debian 12.2.0-14+deb12u1) 12.2.0 Fedora Linux 42 Kernel: 5.15 Compiler: gcc gcc (GCC) 15.2.1 20250808 (Red Hat 15.2.1-1) openSUSE Leap 15.6 Kernel: 5.15 Compiler: gcc gcc (SUSE Linux) 7.5.0 Red Hat Enterprise Linux 8.10 Kernel: 5.15 Compiler: gcc gcc (GCC) 8.5.0 20210514 (Red Hat 8.5.0-22) Red Hat Enterprise Linux 9.5 Kernel: 5.15 Compiler: gcc gcc (GCC) 11.5.0 20240719 (Red Hat 11.5.0-2) Ubuntu 22.04 Kernel: 5.15 Compiler: gcc gcc (Ubuntu 11.4.0-1ubuntu1~22.04) 11.4.0 Ubuntu 24.04 Kernel: 5.15 Compiler: gcc gcc (Ubuntu 13.3.0-6ubuntu2~24.04) 13.3.0 Windows Server 2022 Kernel: 10.0.20348.2031 Compiler: clang 15.0.7, gcc 14.1.0 (MinGW), and MSVC VS 19.39.33521 To view detailed results, visit: https://lab.dpdk.org/results/dashboard/patchsets/34573/ UNH-IOL DPDK Community Lab To manage your email subscriptions, visit: https://lab.dpdk.org/results/dashboard/preferences/subscriptions/