From mboxrd@z Thu Jan 1 00:00:00 1970 Return-Path: Received: from mails.dpdk.org (mails.dpdk.org [217.70.189.124]) by inbox.dpdk.org (Postfix) with ESMTP id 286C148B16 for ; Sat, 15 Nov 2025 09:21:49 +0100 (CET) Received: from mails.dpdk.org (localhost [127.0.0.1]) by mails.dpdk.org (Postfix) with ESMTP id 167EF400D6; Sat, 15 Nov 2025 09:21:49 +0100 (CET) Received: from mail-pl1-f226.google.com (mail-pl1-f226.google.com [209.85.214.226]) by mails.dpdk.org (Postfix) with ESMTP id B0739400D6 for ; Sat, 15 Nov 2025 09:21:47 +0100 (CET) Received: by mail-pl1-f226.google.com with SMTP id d9443c01a7336-2980d9b7df5so26974365ad.3 for ; Sat, 15 Nov 2025 00:21:47 -0800 (PST) DKIM-Signature: v=1; a=rsa-sha256; c=relaxed/relaxed; d=iol.unh.edu; s=unh-iol; t=1763194907; x=1763799707; darn=dpdk.org; h=references:in-reply-to:cc:to:from:subject:message-id:date:from:to :cc:subject:date:message-id:reply-to; bh=4bhYG8hmsFDuAj/9ec1YoxiVLYLUz8LtajgP7K9Ewfc=; b=BfIrAViWGToNKat7ApO7qx/dQ69QMFmp/qTwELQaO8GJFC8lxiTif/GqW1Bz0JfWtf cYUX1uIo9V9gxhiceI8B5QZHCahSsOj69FpgGw1EC7Jk9muJE9KHGLwRsf12BnShJe/A WPKrJXDuM7B9xXeV1v4ODE4waBmngeLdPIYCY= X-Google-DKIM-Signature: v=1; a=rsa-sha256; c=relaxed/relaxed; d=1e100.net; s=20230601; t=1763194907; x=1763799707; h=references:in-reply-to:cc:to:from:subject:message-id:date:x-gm-gg :x-gm-message-state:from:to:cc:subject:date:message-id:reply-to; bh=4bhYG8hmsFDuAj/9ec1YoxiVLYLUz8LtajgP7K9Ewfc=; b=MmE3DufPhSq6HJQxmXgGj2cS0a84eruQ7+I4g5SFbyoN78V13fiRwT9CxNP1Pn9IHP mpmATy2IalpcQq4YY+sb6k4DrVDeSxsVQrQbox7DXQdrUH1jV1s6VuFr//Xue4yg9Jin hSPU+C85vjdw8HszDijBBEuSdrVczbPYfmDH09ZnNsNzZmHatR5wqL49ODZakW3+FxpY vJt0xw4Tpan+RPTTqEXYb+yfwuR3Xez1zU9rax+ca6QpCp0kNwS919uk2zg3Iwq2ANgt 4meKzIFDzE3kNOyW2KrgOvbUJ1kUiTYmQA0VjoG7XYV/Oyu6bWRf4+1+NNwdfG59w2OG w7vQ== X-Gm-Message-State: AOJu0YyrpARbUl9wCRr0UpjUyvBsNMX3fk8q9OjteuW6YaZBTLEMaHD/ lRuYjrGcy3sn6Kd7Esj78HDYBM0NmdrrKWZDKTuy9IwpILThnBXd8Tg+5XH0B/HnHYMWnivW9/q ApW5yuKrD3VEwFQaSq0l89Gca8aM1hWP/fJjOJyxGjbW38HbX3bcKO7aNTP+C X-Gm-Gg: ASbGnctanEryu2WrL3TCVQHy200hXpszPDRQg1FIh3TdeP84XlxNQmp+KkOlA2U0pOS GNDXLj8Gf4KW9aA+exs9L8doO+q7WoPIpIYMPcC2inz4Kl6DQIN1MNEP/wG0gLmQ96QqOddcGbG zctQtOKPTK70kuERpDIYLzYW/293jeXEauBgTlDUjAcHnpHjCmzXdlQwuEDdY9BGF7Gbbi5ocWe A+Kt+2Q21p7rt+PsQSttpe3/8M7cKCvS8umtqxfEZYBhz0EX9Hv0pIasp2umiBLfkoGhwj3phbl DaRynsUv7QzvWMj4QlATg8KgBFxs3SajfDVF2KqZXmEQ+zvHa/zy7ZaWhWBiEpUBdebtOwFHc4b 320jJ2OpR X-Google-Smtp-Source: AGHT+IFQn7wCGYSqMviMFbxnFhZ63WW6WDJk91HG7WR5AW3vmb/jZ9RPFyOK6/xyVRzzglU1QDTa80fhiyBk X-Received: by 2002:a17:902:d492:b0:295:32ea:4cf6 with SMTP id d9443c01a7336-2986a6bad14mr74179335ad.5.1763194906746; Sat, 15 Nov 2025 00:21:46 -0800 (PST) Received: from postal.iol.unh.edu (postal.iol.unh.edu. [2606:4100:3880:1234::84]) by smtp-relay.gmail.com with ESMTPS id d9443c01a7336-2985fde5b78sm7043635ad.37.2025.11.15.00.21.46 (version=TLS1_2 cipher=ECDHE-ECDSA-AES128-GCM-SHA256 bits=128/128); Sat, 15 Nov 2025 00:21:46 -0800 (PST) X-Relaying-Domain: iol.unh.edu Date: Sat, 15 Nov 2025 00:21:46 -0800 (PST) Message-ID: <6918381a.170a0220.260962.2e36SMTPIN_ADDED_MISSING@mx.google.com> Received: from [172.21.0.4] (unknown [172.18.0.240]) by postal.iol.unh.edu (Postfix) with ESMTP id D04516051830; Sat, 15 Nov 2025 03:21:45 -0500 (EST) Subject: |SUCCESS| pw158794-158812 [PATCH] [v2,19/19] vfio: introduce cdev mo From: dpdklab@iol.unh.edu To: Test Report Cc: dpdk-test-reports@iol.unh.edu In-Reply-To: <45db9c5e1589c56ed0e31a0e15390da5366ca5c2.1763142008.git.anatoly.burakov@intel.com> References: <45db9c5e1589c56ed0e31a0e15390da5366ca5c2.1763142008.git.anatoly.burakov@intel.com> Content-Type: text/plain X-BeenThere: test-report@dpdk.org X-Mailman-Version: 2.1.29 Precedence: list List-Id: automatic DPDK test reports List-Unsubscribe: , List-Archive: List-Post: List-Help: List-Subscribe: , Errors-To: test-report-bounces@dpdk.org Test-Label: iol-unit-amd64-testing Test-Status: SUCCESS http://dpdk.org/patch/158812 _Testing PASS_ Submitter: Anatoly Burakov Date: Friday, November 14 2025 17:40:29 DPDK git baseline: Repo:dpdk Branch: master CommitID:be0112878b4fc3a1b918370ed2fe615c52039d77 158794-158812 --> testing pass Upstream job id: Generic-VM-Unit-Test-DPDK#32582 Test environment and result as below: +-------------------------------+----------------+ | Environment | dpdk_unit_test | +===============================+================+ | Fedora Linux 41 | PASS | +-------------------------------+----------------+ | Fedora Linux 40 | PASS | +-------------------------------+----------------+ | Red Hat Enterprise Linux 8.10 | PASS | +-------------------------------+----------------+ | Fedora Linux 42 | PASS | +-------------------------------+----------------+ | Debian GNU/Linux 12 | PASS | +-------------------------------+----------------+ | CentOS Stream 9 | PASS | +-------------------------------+----------------+ | Ubuntu 24.04 | PASS | +-------------------------------+----------------+ | CentOS Stream 10 | PASS | +-------------------------------+----------------+ | Red Hat Enterprise Linux 9.5 | PASS | +-------------------------------+----------------+ | Ubuntu 20.04 | PASS | +-------------------------------+----------------+ | Ubuntu 22.04 | PASS | +-------------------------------+----------------+ | Windows Server 2022 | PASS | +-------------------------------+----------------+ Fedora Linux 41 Kernel: 5.15 Compiler: clang gcc (GCC) 14.3.1 20250523 (Red Hat 14.3.1-1) Fedora Linux 40 Kernel: 5.15 Compiler: gcc gcc (GCC) 14.2.1 20240912 (Red Hat 14.2.1-3) Red Hat Enterprise Linux 8.10 Kernel: 5.15 Compiler: gcc gcc (GCC) 8.5.0 20210514 (Red Hat 8.5.0-22) Fedora Linux 42 Kernel: 5.15 Compiler: clang gcc (GCC) 15.2.1 20250808 (Red Hat 15.2.1-1) Debian GNU/Linux 12 Kernel: 5.15 Compiler: gcc gcc (Debian 12.2.0-14+deb12u1) 12.2.0 CentOS Stream 9 Kernel: 5.15 Compiler: gcc gcc (GCC) 11.5.0 20240719 (Red Hat 11.5.0-11) Ubuntu 24.04 Kernel: 5.15 Compiler: gcc gcc (Ubuntu 13.3.0-6ubuntu2~24.04) 13.3.0 CentOS Stream 10 Kernel: 5.15 Compiler: gcc gcc (GCC) 14.2.1 20250110 (Red Hat 14.2.1-8) Red Hat Enterprise Linux 9.5 Kernel: 5.15 Compiler: gcc gcc (GCC) 11.5.0 20240719 (Red Hat 11.5.0-2) Ubuntu 20.04 Kernel: 5.15 Compiler: gcc gcc (Ubuntu 9.4.0-1ubuntu1~20.04.2) 9.4.0 Ubuntu 22.04 Kernel: 5.15 Compiler: gcc gcc (Ubuntu 11.4.0-1ubuntu1~22.04) 11.4.0 Windows Server 2022 Kernel: 10.0.20348.2031 Compiler: clang 15.0.7, gcc 14.1.0 (MinGW), and MSVC VS 19.39.33521 To view detailed results, visit: https://lab.dpdk.org/results/dashboard/patchsets/34593/ UNH-IOL DPDK Community Lab To manage your email subscriptions, visit: https://lab.dpdk.org/results/dashboard/preferences/subscriptions/