From mboxrd@z Thu Jan 1 00:00:00 1970 Return-Path: Received: from mails.dpdk.org (mails.dpdk.org [217.70.189.124]) by inbox.dpdk.org (Postfix) with ESMTP id C637F48B16 for ; Sat, 15 Nov 2025 09:28:33 +0100 (CET) Received: from mails.dpdk.org (localhost [127.0.0.1]) by mails.dpdk.org (Postfix) with ESMTP id C13CC400D6; Sat, 15 Nov 2025 09:28:33 +0100 (CET) Received: from mail-pf1-f226.google.com (mail-pf1-f226.google.com [209.85.210.226]) by mails.dpdk.org (Postfix) with ESMTP id A758D400D6 for ; Sat, 15 Nov 2025 09:28:32 +0100 (CET) Received: by mail-pf1-f226.google.com with SMTP id d2e1a72fcca58-7ba49f92362so1653601b3a.1 for ; Sat, 15 Nov 2025 00:28:32 -0800 (PST) DKIM-Signature: v=1; a=rsa-sha256; c=relaxed/relaxed; d=iol.unh.edu; s=unh-iol; t=1763195312; x=1763800112; darn=dpdk.org; h=references:in-reply-to:cc:to:from:subject:message-id:date:from:to :cc:subject:date:message-id:reply-to; bh=wmAsp3iF8jOPeSREXFTV/xz1o+bGnI4j/+rNB8COrJk=; b=BiBkAN3E1fFUA16jElHF6swvsl9voIH0fclbGYvFOKpnxgzJs0gRzoD3Xq98g4UTNJ ANxHTUwoD3cDpbW9TcaYWxXvDHghDiHrV6iOtZ9quoJ7C2fU98CCJv7lWOZtbTAn47w9 ifWme/X9FVBAf1OpOKxai9VMQuO7wPmvzm2UY= X-Google-DKIM-Signature: v=1; a=rsa-sha256; c=relaxed/relaxed; d=1e100.net; s=20230601; t=1763195312; x=1763800112; h=references:in-reply-to:cc:to:from:subject:message-id:date:x-gm-gg :x-gm-message-state:from:to:cc:subject:date:message-id:reply-to; bh=wmAsp3iF8jOPeSREXFTV/xz1o+bGnI4j/+rNB8COrJk=; b=QZuVxJJaPUPY4eF3ugPi2Z6itS+auqxHyp3ODU61k7PHBzU72hQHIx8hkh+KXdwYaN 3HMIKYkk2NPs/ZprfHnb6iz9xLIPHdr0mXLUxoxO3O0PcXJYbkQ5x2eG8RhWWFFPAlFU lnPpBAASVHDltOS2PVp8hy8+HtLrfMADjWFbaDoLZwAGdOuJj3Zjh3BjlhbXL2nuLWU3 MTHdmTOYnqgHiQ35tKSAASrn7ngwn6XW4fMgUIuYZGmmUCqlzS3ltWVTQgEuHZC8AlRd gmxNa+sZPyxcJK3RJZs3Rxxe8/T/ahVolxulgaNqAHcFplhLpJj3wIPMb74KenCIbZ3b 45lA== X-Gm-Message-State: AOJu0YzOmoYfjxZPgcByP2MSARUiflKa4graf5NxV+cBDy6yppCdFCo7 HpGVwIm4sRhC/dJkMdyIk4USDsD1vBVhMWG84ZRMv2L4vkmoGEzdY3ziAX5s+U9P0FHMsHsj+uL S1GKLCoxrXnqzNC4r67nLS/3dgUKIHL1+S3DrFTBrMe95 X-Gm-Gg: ASbGnct/tNdPFlG57CVPnPocq3MhRrE8ij0WaypUXOVYTy7o+t1YXUbfF10ltEr4RF/ ebnShK7N8rWpA3FFwxZJlVDgPnoPm+tJGOllp7xzgu7fuSduNNf6wXafsdTdKvzaE/0xgg6XGUY BS0tIk0lneFMnCh7BfP6mCXmksQkhHG33BrSiceLhnpTB4CGurYYX15S0JfK3NyWfQQJEIq2+mn WJ1p5ysGjtkhJz7uFB0GmGTqJ8B5qot5L9iLZgtmj0di2QNBKIaXt44d0FfKvlvkFz9roZJQoTX o1KQZKLRpK4xKCUNIVm33QD/Xj6iZpX0gJYMlEy4RYG6pKXxlRebj0YFCLLXbmf1smmPZDj80EI 37rBLon5XCcN5mDrrhuzU8tvjFYPPyic= X-Google-Smtp-Source: AGHT+IGa1mnf0Ags0YlsQom67ICbfcGVNgMHd1J19ztqxrBAvgq3KUPGLe7epxmWYu8ZnJplYSoiL5y/bbLT X-Received: by 2002:a05:6a20:6a1f:b0:343:6c90:77aa with SMTP id adf61e73a8af0-35ba2a89237mr7763619637.29.1763195311778; Sat, 15 Nov 2025 00:28:31 -0800 (PST) Received: from postal.iol.unh.edu (postal.iol.unh.edu. [132.177.123.84]) by smtp-relay.gmail.com with ESMTPS id d2e1a72fcca58-7b927c22fd4sm588353b3a.7.2025.11.15.00.28.31 (version=TLS1_2 cipher=ECDHE-ECDSA-AES128-GCM-SHA256 bits=128/128); Sat, 15 Nov 2025 00:28:31 -0800 (PST) X-Relaying-Domain: iol.unh.edu Date: Sat, 15 Nov 2025 00:28:31 -0800 (PST) Message-ID: <691839af.050a0220.284802.cbc9SMTPIN_ADDED_MISSING@mx.google.com> Received: from [172.21.0.2] (unknown [172.18.0.240]) by postal.iol.unh.edu (Postfix) with ESMTP id 00B3A6051830; Sat, 15 Nov 2025 03:28:30 -0500 (EST) Subject: |SUCCESS| pw158761-158764 [PATCH] [v5,4/4] vhost_user: Function defs From: dpdklab@iol.unh.edu To: Test Report Cc: dpdk-test-reports@iol.unh.edu, Chenbo Xia , Maxime Coquelin In-Reply-To: <20251113124210.2913846-5-pravin.bathija@dell.com> References: <20251113124210.2913846-5-pravin.bathija@dell.com> Content-Type: text/plain X-BeenThere: test-report@dpdk.org X-Mailman-Version: 2.1.29 Precedence: list List-Id: automatic DPDK test reports List-Unsubscribe: , List-Archive: List-Post: List-Help: List-Subscribe: , Errors-To: test-report-bounces@dpdk.org Test-Label: iol-compile-amd64-testing Test-Status: SUCCESS http://dpdk.org/patch/158764 _Testing PASS_ Submitter: Bathija, Pravin Date: Thursday, November 13 2025 12:42:10 DPDK git baseline: Repo:dpdk-next-virtio Branch: master CommitID:6b37c26a95388aa41bb5267c7c42f604fd571a38 158761-158764 --> testing pass Upstream job id: Windows-Compile-DPDK-Native#32371 Test environment and result as below: +-------------------------------+--------------------+------------------+-------------------+-------------------------+ | Environment | dpdk_meson_compile | dpdk_compile_ovs | dpdk_msvc_compile | dpdk_llvm_clang_compile | +===============================+====================+==================+===================+=========================+ | FreeBSD 14.2 | PASS | SKIPPED | SKIPPED | SKIPPED | +-------------------------------+--------------------+------------------+-------------------+-------------------------+ | Ubuntu 20.04 | PASS | SKIPPED | SKIPPED | SKIPPED | +-------------------------------+--------------------+------------------+-------------------+-------------------------+ | CentOS Stream 9 | PASS | SKIPPED | SKIPPED | SKIPPED | +-------------------------------+--------------------+------------------+-------------------+-------------------------+ | CentOS Stream 10 | PASS | SKIPPED | SKIPPED | SKIPPED | +-------------------------------+--------------------+------------------+-------------------+-------------------------+ | Debian GNU/Linux 12 | PASS | SKIPPED | SKIPPED | SKIPPED | +-------------------------------+--------------------+------------------+-------------------+-------------------------+ | Fedora Linux 42 | PASS | PASS | SKIPPED | SKIPPED | +-------------------------------+--------------------+------------------+-------------------+-------------------------+ | openSUSE Leap 15.6 | PASS | SKIPPED | SKIPPED | SKIPPED | +-------------------------------+--------------------+------------------+-------------------+-------------------------+ | Red Hat Enterprise Linux 8.10 | PASS | SKIPPED | SKIPPED | SKIPPED | +-------------------------------+--------------------+------------------+-------------------+-------------------------+ | Red Hat Enterprise Linux 9.5 | PASS | SKIPPED | SKIPPED | SKIPPED | +-------------------------------+--------------------+------------------+-------------------+-------------------------+ | Ubuntu 22.04 | PASS | SKIPPED | SKIPPED | SKIPPED | +-------------------------------+--------------------+------------------+-------------------+-------------------------+ | Ubuntu 24.04 | PASS | PASS | SKIPPED | SKIPPED | +-------------------------------+--------------------+------------------+-------------------+-------------------------+ | Alpine Linux 3.22.0 | PASS | SKIPPED | SKIPPED | SKIPPED | +-------------------------------+--------------------+------------------+-------------------+-------------------------+ | Windows Server 2022 | SKIPPED | SKIPPED | PASS | PASS | +-------------------------------+--------------------+------------------+-------------------+-------------------------+ FreeBSD 14.2 Kernel: 14.2-RELEASE Compiler: clang 18.1.6 Ubuntu 20.04 Kernel: 4.19 Compiler: gcc gcc (Ubuntu 9.4.0-1ubuntu1~20.04.2) 9.4.0 CentOS Stream 9 Kernel: 5.15 Compiler: gcc gcc (GCC) 11.5.0 20240719 (Red Hat 11.5.0-11) CentOS Stream 10 Kernel: 5.15 Compiler: gcc gcc (GCC) 14.2.1 20250110 (Red Hat 14.2.1-8) Debian GNU/Linux 12 Kernel: 5.15 Compiler: gcc gcc (Debian 12.2.0-14+deb12u1) 12.2.0 Fedora Linux 42 Kernel: 5.15 Compiler: clang gcc (GCC) 15.2.1 20250808 (Red Hat 15.2.1-1) openSUSE Leap 15.6 Kernel: 5.15 Compiler: gcc gcc (SUSE Linux) 7.5.0 Red Hat Enterprise Linux 8.10 Kernel: 5.15 Compiler: gcc gcc (GCC) 8.5.0 20210514 (Red Hat 8.5.0-22) Red Hat Enterprise Linux 9.5 Kernel: 5.15 Compiler: gcc gcc (GCC) 11.5.0 20240719 (Red Hat 11.5.0-2) Ubuntu 22.04 Kernel: 5.15 Compiler: gcc gcc (Ubuntu 11.4.0-1ubuntu1~22.04) 11.4.0 Ubuntu 24.04 Kernel: 5.15 Compiler: gcc gcc (Ubuntu 13.3.0-6ubuntu2~24.04) 13.3.0 Alpine Linux 3.22.0 Kernel: 5.15 Compiler: gcc gcc (Alpine 14.2.0) 14.2.0 Windows Server 2022 Kernel: 10.0.20348.2031 Compiler: clang 15.0.7, gcc 14.1.0 (MinGW), and MSVC VS 19.39.33521 To view detailed results, visit: https://lab.dpdk.org/results/dashboard/patchsets/34574/ UNH-IOL DPDK Community Lab To manage your email subscriptions, visit: https://lab.dpdk.org/results/dashboard/preferences/subscriptions/