From mboxrd@z Thu Jan 1 00:00:00 1970 Return-Path: Received: from mails.dpdk.org (mails.dpdk.org [217.70.189.124]) by inbox.dpdk.org (Postfix) with ESMTP id BB17048B16 for ; Sat, 15 Nov 2025 09:37:33 +0100 (CET) Received: from mails.dpdk.org (localhost [127.0.0.1]) by mails.dpdk.org (Postfix) with ESMTP id B80D8400D6; Sat, 15 Nov 2025 09:37:33 +0100 (CET) Received: from mail-io1-f99.google.com (mail-io1-f99.google.com [209.85.166.99]) by mails.dpdk.org (Postfix) with ESMTP id 910B6400D6 for ; Sat, 15 Nov 2025 09:37:32 +0100 (CET) Received: by mail-io1-f99.google.com with SMTP id ca18e2360f4ac-94895f6b144so117372139f.0 for ; Sat, 15 Nov 2025 00:37:32 -0800 (PST) DKIM-Signature: v=1; a=rsa-sha256; c=relaxed/relaxed; d=iol.unh.edu; s=unh-iol; t=1763195852; x=1763800652; darn=dpdk.org; h=references:in-reply-to:cc:to:from:subject:message-id:date:from:to :cc:subject:date:message-id:reply-to; bh=zCj89MgfuGkXmzXaCss9eHHFCiMxkA4zyeZ1C2umiME=; b=UO5yu3/bAuJFmkC7adR54CPy62eBD/mT09O7A1d1I0XZnctqaBSwwgFjC3a4ootJKS Bu5lR2av/f3IzhDqAq1UqG/+Lnvmg10Ift1kjPaDlny2HlsPtjIpvjooJxlH9L9zw5Ku PoFcEpiLVcWmZo2wwF+7Cntn15e5hKbsbnAXo= X-Google-DKIM-Signature: v=1; a=rsa-sha256; c=relaxed/relaxed; d=1e100.net; s=20230601; t=1763195852; x=1763800652; h=references:in-reply-to:cc:to:from:subject:message-id:date:x-gm-gg :x-gm-message-state:from:to:cc:subject:date:message-id:reply-to; bh=zCj89MgfuGkXmzXaCss9eHHFCiMxkA4zyeZ1C2umiME=; b=eaOjOGgI1mpBCPR7ahUImggLaf+JOmM3dJtxWRrBkA+t/LuYduTGh9bw1gl2paK7AY 3PPKi/I6w6/g4c0l6pE7wUvbC0kjbabTKUZy7USR4rU1O62Z6yE7xBBXn6xxupA00H3W 478/MjXAhVZ8S82wDwV9zwCQCsCb+3ezB80ws7J3F1Mjx7f9Gxjk5ZMij/k0w4Q9fK/Y inQaBGR9IXlbC8OBMw+P3VHnkQg4m9PQxLIV0gxvXgeaDxURwpGerZxB4MPIV7AcA3v9 qGRMJuvh9zE2edmHe2Lhh1bl2cMkL49GSZ7dSmOic4Yna6IubY1q2vYGOsfIGJEm0shl mXRw== X-Gm-Message-State: AOJu0Yw7vISRliC1Mw8cZDhWol2z/E613l6YdO1XsM9W6EZFiXocATfI /6f+C02Q1NQi6BUIl1x/MhbUslin9JyysvW9GjpjrA7smTzuSD+QgVlPIzes3/86dY06DwrY2dd GdsyVFoHJJ+GzODlvqPa453YlqkLeE20rIMb9TkqSk8JY X-Gm-Gg: ASbGnctjpYEix+kYrOyAOt7a0/rImOkft7oxDndbzagLSxO2wsNSInI/GqrrMI1cHi7 T4cC2HcEE810GXIeFwegRrEPYRDMX69cpf1BrGH7f3k8iCroqAyfDBY9mg7xZF7N5IakhfoqBk4 elXsj6BkenlGqVJd5Z8GJnHAt/hyjsThTtYYUed7xueuYQFF3EZkeI/9e6DHKmyK5zAqnKJqVRF ZmhyXJavaQkWs2TxBsE1nr4ZfF+rPxHoPXsDkc5re4Y0+9w797A21+XPUCi9cdxtoLx7ygts54J 7XzRl5wsO4zwElBFuHyUJFjjnmBSVobDCdZu795Rg66chA8iuyEIc6rlZ7j9mEaAffsUjST81Wj vS+bwxxwl7niVK6ikRe3IsG2cwCOlP6c= X-Google-Smtp-Source: AGHT+IHdHLREnEmtUlZKAvWLnsF37ZEUIy4tpKaYGjyI4qne4B+f8hcnQI2A0hvo6C09sL7MGfjBO6SMCouY X-Received: by 2002:a05:6638:982a:b0:5b7:bc45:7128 with SMTP id 8926c6da1cb9f-5b7c9e0350emr1899446173.17.1763195851884; Sat, 15 Nov 2025 00:37:31 -0800 (PST) Received: from postal.iol.unh.edu (postal.iol.unh.edu. [132.177.123.84]) by smtp-relay.gmail.com with ESMTPS id 8926c6da1cb9f-5b7bd319dfbsm360777173.21.2025.11.15.00.37.31 (version=TLS1_2 cipher=ECDHE-ECDSA-AES128-GCM-SHA256 bits=128/128); Sat, 15 Nov 2025 00:37:31 -0800 (PST) X-Relaying-Domain: iol.unh.edu Date: Sat, 15 Nov 2025 00:37:31 -0800 (PST) Message-ID: <69183bcb.050a0220.8605a.12eeSMTPIN_ADDED_MISSING@mx.google.com> Received: from [172.21.0.3] (unknown [172.18.0.240]) by postal.iol.unh.edu (Postfix) with ESMTP id 723956051830; Sat, 15 Nov 2025 03:37:31 -0500 (EST) Subject: |SUCCESS| pw158820 [PATCH] [v2] devtools: ignore new warnings on rep From: dpdklab@iol.unh.edu To: Test Report Cc: dpdk-test-reports@iol.unh.edu In-Reply-To: <20251114200640.1639056-1-dsosnowski@nvidia.com> References: <20251114200640.1639056-1-dsosnowski@nvidia.com> Content-Type: text/plain X-BeenThere: test-report@dpdk.org X-Mailman-Version: 2.1.29 Precedence: list List-Id: automatic DPDK test reports List-Unsubscribe: , List-Archive: List-Post: List-Help: List-Subscribe: , Errors-To: test-report-bounces@dpdk.org Test-Label: iol-compile-amd64-testing Test-Status: SUCCESS http://dpdk.org/patch/158820 _Testing PASS_ Submitter: Dariusz Sosnowski Date: Friday, November 14 2025 20:06:40 DPDK git baseline: Repo:dpdk Branch: master CommitID:be0112878b4fc3a1b918370ed2fe615c52039d77 158820 --> testing pass Upstream job id: Generic-DPDK-Compile-Meson#444748 Test environment and result as below: +-------------------------------+--------------------+-------------------+------------------+ | Environment | dpdk_meson_compile | dpdk_msvc_compile | dpdk_compile_ovs | +===============================+====================+===================+==================+ | FreeBSD 14.2 | PASS | SKIPPED | SKIPPED | +-------------------------------+--------------------+-------------------+------------------+ | Ubuntu 20.04 | PASS | SKIPPED | SKIPPED | +-------------------------------+--------------------+-------------------+------------------+ | CentOS Stream 9 | PASS | SKIPPED | SKIPPED | +-------------------------------+--------------------+-------------------+------------------+ | CentOS Stream 10 | PASS | SKIPPED | SKIPPED | +-------------------------------+--------------------+-------------------+------------------+ | Debian GNU/Linux 12 | PASS | SKIPPED | SKIPPED | +-------------------------------+--------------------+-------------------+------------------+ | Fedora Linux 42 | PASS | SKIPPED | PASS | +-------------------------------+--------------------+-------------------+------------------+ | openSUSE Leap 15.6 | PASS | SKIPPED | SKIPPED | +-------------------------------+--------------------+-------------------+------------------+ | Red Hat Enterprise Linux 8.10 | PASS | SKIPPED | SKIPPED | +-------------------------------+--------------------+-------------------+------------------+ | Red Hat Enterprise Linux 9.5 | PASS | SKIPPED | SKIPPED | +-------------------------------+--------------------+-------------------+------------------+ | Ubuntu 22.04 | PASS | SKIPPED | SKIPPED | +-------------------------------+--------------------+-------------------+------------------+ | Ubuntu 24.04 | PASS | SKIPPED | PASS | +-------------------------------+--------------------+-------------------+------------------+ | Alpine Linux 3.22.0 | PASS | SKIPPED | SKIPPED | +-------------------------------+--------------------+-------------------+------------------+ | Windows Server 2022 | SKIPPED | PASS | SKIPPED | +-------------------------------+--------------------+-------------------+------------------+ FreeBSD 14.2 Kernel: 14.2-RELEASE Compiler: clang 18.1.6 Ubuntu 20.04 Kernel: 4.19 Compiler: gcc gcc (Ubuntu 9.4.0-1ubuntu1~20.04.2) 9.4.0 CentOS Stream 9 Kernel: 5.15 Compiler: gcc gcc (GCC) 11.5.0 20240719 (Red Hat 11.5.0-11) CentOS Stream 10 Kernel: 5.15 Compiler: gcc gcc (GCC) 14.2.1 20250110 (Red Hat 14.2.1-8) Debian GNU/Linux 12 Kernel: 5.15 Compiler: gcc gcc (Debian 12.2.0-14+deb12u1) 12.2.0 Fedora Linux 42 Kernel: 5.15 Compiler: clang gcc (GCC) 15.2.1 20250808 (Red Hat 15.2.1-1) openSUSE Leap 15.6 Kernel: 5.15 Compiler: gcc gcc (SUSE Linux) 7.5.0 Red Hat Enterprise Linux 8.10 Kernel: 5.15 Compiler: gcc gcc (GCC) 8.5.0 20210514 (Red Hat 8.5.0-22) Red Hat Enterprise Linux 9.5 Kernel: 5.15 Compiler: gcc gcc (GCC) 11.5.0 20240719 (Red Hat 11.5.0-2) Ubuntu 22.04 Kernel: 5.15 Compiler: gcc gcc (Ubuntu 11.4.0-1ubuntu1~22.04) 11.4.0 Ubuntu 24.04 Kernel: 5.15 Compiler: gcc gcc (Ubuntu 13.3.0-6ubuntu2~24.04) 13.3.0 Alpine Linux 3.22.0 Kernel: 5.15 Compiler: gcc gcc (Alpine 14.2.0) 14.2.0 Windows Server 2022 Kernel: 10.0.20348.2031 Compiler: clang 15.0.7, gcc 14.1.0 (MinGW), and MSVC VS 19.39.33521 To view detailed results, visit: https://lab.dpdk.org/results/dashboard/patchsets/34602/ UNH-IOL DPDK Community Lab To manage your email subscriptions, visit: https://lab.dpdk.org/results/dashboard/preferences/subscriptions/