From mboxrd@z Thu Jan 1 00:00:00 1970 Return-Path: Received: from mails.dpdk.org (mails.dpdk.org [217.70.189.124]) by inbox.dpdk.org (Postfix) with ESMTP id BB03D48B16 for ; Sat, 15 Nov 2025 09:45:23 +0100 (CET) Received: from mails.dpdk.org (localhost [127.0.0.1]) by mails.dpdk.org (Postfix) with ESMTP id 9A0D7400D6; Sat, 15 Nov 2025 09:45:23 +0100 (CET) Received: from mail-pl1-f226.google.com (mail-pl1-f226.google.com [209.85.214.226]) by mails.dpdk.org (Postfix) with ESMTP id B07B2400D6 for ; Sat, 15 Nov 2025 09:45:21 +0100 (CET) Received: by mail-pl1-f226.google.com with SMTP id d9443c01a7336-2957850c63bso29451715ad.0 for ; Sat, 15 Nov 2025 00:45:21 -0800 (PST) DKIM-Signature: v=1; a=rsa-sha256; c=relaxed/relaxed; d=iol.unh.edu; s=unh-iol; t=1763196321; x=1763801121; darn=dpdk.org; h=references:in-reply-to:cc:to:from:subject:message-id:date:from:to :cc:subject:date:message-id:reply-to; bh=e3seZM0V2vKuYBuSVjWkdBfQAv/adc4UEK/jUxL9vto=; b=IIMaxrIwk61On7nitC/F8VaUNXJK9+BJ9suzH9hAk5RPYp5nnWcvCM7AY6g0sWwZUi QrjA9nZtn/mSCgCqco02+Opp9tUUsA2bp0BvjIRfF+5dZ/Sowb4+6rkgAPnlVT2tmnA1 w9ABxDfvL0cIt/FDJ8Q5SoQeAfpHLxX24OLpU= X-Google-DKIM-Signature: v=1; a=rsa-sha256; c=relaxed/relaxed; d=1e100.net; s=20230601; t=1763196321; x=1763801121; h=references:in-reply-to:cc:to:from:subject:message-id:date:x-gm-gg :x-gm-message-state:from:to:cc:subject:date:message-id:reply-to; bh=e3seZM0V2vKuYBuSVjWkdBfQAv/adc4UEK/jUxL9vto=; b=w2TEy5eVT+h/sU1vgOwRcwc1vZH9DeOT8zA7THvqKVDXCkrXUU7I4ro6OY30W7DHSy xIZJkaVbPFwdNq5qqv7p4zN4I8F+4pgJ0B5/FzzI2tJ42BpKdqY4jW+rRlBd9/GD5LB/ H1J2ds8vZ4vYpHh7QYpNV/kIvGPgXIJv2uRbUXrdWB5BBA7GZCYyYpPMpE2tSvL0QLe9 w90elriyf/RsRiE3+iz/BBlCPPXw6B87IJxOP1XbYdlFelMvlo9QUYO1xNEp7im8cDBP +gOuqNC/jHCVxWFE9o2CDLGG3u0Rx2Ck9+Jids96GZC55GBVqDJzVx7HE03Nvqqj4QPW 2LOw== X-Gm-Message-State: AOJu0Yx4/Ty96ei0Yg89cDKeVC1gcO7QL5CBbqizf/2TGv9P+UddPa4b GQmylgPj7vHPwbZ4oblfqAJzWOrA0PxnEXSslKib8OMI0DQBWJh6PSVH9k/GP3feasLx8CdaBWU jB1OQ0WmaSlm438dkM+ZbpldCW+3MTxsLwtROKYjLIQRIfKi8orFja7w/dndm X-Gm-Gg: ASbGncse54lWmuXp3mpe2NysDWAlRShhOsSRtQ5oszRIXaNj5jFcpZHLhcz/Mc5HUcy 08ZikeFs7OET8DhW5aPKHQygUCe/Y6tH07FYmUMfp2fUOC4Va3wjdPXcwdGOJgXJVOMgcNZrnFR bDImaRK5gN5vdbYytIKEh3aFJLksmv6NnLjrFxMgKkBFtdj7QYwtE74yyCDgmom5PIjaoflcFfL j0wYAy+6lszJC3y+MmuL5rfCOQesv+4B4gCRpo50qbKuZe0koDDM1P/XZ6xqvvl9EpyfMgWTAon FuZzPuK35EAZnZoqvYlxJoUAdvdYbfAWaM3+4WkeO3G8prEDvlN88dXV25Cti4XDgViZT35Kj+r U4Ef/N9PA X-Google-Smtp-Source: AGHT+IEwJ41Tv4kqlQ9ljBFG0tretn2zExh5s9qM7F9F/njrihILwFyjzOvdRwnrHUVkgkcaRq0ezEiUKA8F X-Received: by 2002:a17:902:d4d0:b0:297:f856:fbc1 with SMTP id d9443c01a7336-2985a52b963mr130747145ad.15.1763196320827; Sat, 15 Nov 2025 00:45:20 -0800 (PST) Received: from postal.iol.unh.edu (postal.iol.unh.edu. [2606:4100:3880:1234::84]) by smtp-relay.gmail.com with ESMTPS id d9443c01a7336-2985c245e10sm8424655ad.20.2025.11.15.00.45.20 (version=TLS1_2 cipher=ECDHE-ECDSA-AES128-GCM-SHA256 bits=128/128); Sat, 15 Nov 2025 00:45:20 -0800 (PST) X-Relaying-Domain: iol.unh.edu Date: Sat, 15 Nov 2025 00:45:20 -0800 (PST) Message-ID: <69183da0.170a0220.31ee86.ad41SMTPIN_ADDED_MISSING@mx.google.com> Received: from [172.21.0.3] (unknown [172.18.0.240]) by postal.iol.unh.edu (Postfix) with ESMTP id 177226051830; Sat, 15 Nov 2025 03:45:20 -0500 (EST) Subject: |SUCCESS| pw158813 [PATCH] [v2] net/mlx5: fix warning from uninitial From: dpdklab@iol.unh.edu To: Test Report Cc: dpdk-test-reports@iol.unh.edu In-Reply-To: <20251114174912.1103626-1-stephen@networkplumber.org> References: <20251114174912.1103626-1-stephen@networkplumber.org> Content-Type: text/plain X-BeenThere: test-report@dpdk.org X-Mailman-Version: 2.1.29 Precedence: list List-Id: automatic DPDK test reports List-Unsubscribe: , List-Archive: List-Post: List-Help: List-Subscribe: , Errors-To: test-report-bounces@dpdk.org Test-Label: iol-unit-amd64-testing Test-Status: SUCCESS http://dpdk.org/patch/158813 _Testing PASS_ Submitter: Stephen Hemminger Date: Friday, November 14 2025 17:49:12 DPDK git baseline: Repo:dpdk-next-net-mlx Branch: master CommitID:ae657d56b1f0ea979b3f611edf28d773efc2ddcf 158813 --> testing pass Upstream job id: Generic-VM-Unit-Test-DPDK#32583 Test environment and result as below: +-------------------------------+----------------+ | Environment | dpdk_unit_test | +===============================+================+ | Debian GNU/Linux 12 | PASS | +-------------------------------+----------------+ | Fedora Linux 40 | PASS | +-------------------------------+----------------+ | CentOS Stream 10 | PASS | +-------------------------------+----------------+ | CentOS Stream 9 | PASS | +-------------------------------+----------------+ | Fedora Linux 41 | PASS | +-------------------------------+----------------+ | Red Hat Enterprise Linux 9.5 | PASS | +-------------------------------+----------------+ | Fedora Linux 42 | PASS | +-------------------------------+----------------+ | Red Hat Enterprise Linux 8.10 | PASS | +-------------------------------+----------------+ | Ubuntu 20.04 | PASS | +-------------------------------+----------------+ | Ubuntu 22.04 | PASS | +-------------------------------+----------------+ | Ubuntu 24.04 | PASS | +-------------------------------+----------------+ | Windows Server 2022 | PASS | +-------------------------------+----------------+ Debian GNU/Linux 12 Kernel: 5.15 Compiler: gcc gcc (Debian 12.2.0-14+deb12u1) 12.2.0 Fedora Linux 40 Kernel: 5.15 Compiler: gcc gcc (GCC) 14.2.1 20240912 (Red Hat 14.2.1-3) CentOS Stream 10 Kernel: 5.15 Compiler: gcc gcc (GCC) 14.2.1 20250110 (Red Hat 14.2.1-8) CentOS Stream 9 Kernel: 5.15 Compiler: gcc gcc (GCC) 11.5.0 20240719 (Red Hat 11.5.0-11) Fedora Linux 41 Kernel: 5.15 Compiler: gcc gcc (GCC) 14.3.1 20250523 (Red Hat 14.3.1-1) Red Hat Enterprise Linux 9.5 Kernel: 5.15 Compiler: gcc gcc (GCC) 11.5.0 20240719 (Red Hat 11.5.0-2) Fedora Linux 42 Kernel: 5.15 Compiler: gcc gcc (GCC) 15.2.1 20250808 (Red Hat 15.2.1-1) Red Hat Enterprise Linux 8.10 Kernel: 5.15 Compiler: gcc gcc (GCC) 8.5.0 20210514 (Red Hat 8.5.0-22) Ubuntu 20.04 Kernel: 5.15 Compiler: gcc gcc (Ubuntu 9.4.0-1ubuntu1~20.04.2) 9.4.0 Ubuntu 22.04 Kernel: 5.15 Compiler: gcc gcc (Ubuntu 11.4.0-1ubuntu1~22.04) 11.4.0 Ubuntu 24.04 Kernel: 5.15 Compiler: gcc gcc (Ubuntu 13.3.0-6ubuntu2~24.04) 13.3.0 Windows Server 2022 Kernel: 10.0.20348.2031 Compiler: clang 15.0.7, gcc 14.1.0 (MinGW), and MSVC VS 19.39.33521 To view detailed results, visit: https://lab.dpdk.org/results/dashboard/patchsets/34595/ UNH-IOL DPDK Community Lab To manage your email subscriptions, visit: https://lab.dpdk.org/results/dashboard/preferences/subscriptions/