From mboxrd@z Thu Jan 1 00:00:00 1970 Return-Path: Received: from mails.dpdk.org (mails.dpdk.org [217.70.189.124]) by inbox.dpdk.org (Postfix) with ESMTP id 627FA48B16 for ; Sat, 15 Nov 2025 09:52:00 +0100 (CET) Received: from mails.dpdk.org (localhost [127.0.0.1]) by mails.dpdk.org (Postfix) with ESMTP id 43456400D6; Sat, 15 Nov 2025 09:52:00 +0100 (CET) Received: from mail-io1-f97.google.com (mail-io1-f97.google.com [209.85.166.97]) by mails.dpdk.org (Postfix) with ESMTP id 00F6D400D6 for ; Sat, 15 Nov 2025 09:51:58 +0100 (CET) Received: by mail-io1-f97.google.com with SMTP id ca18e2360f4ac-948fb1f6c44so2841539f.2 for ; Sat, 15 Nov 2025 00:51:58 -0800 (PST) DKIM-Signature: v=1; a=rsa-sha256; c=relaxed/relaxed; d=iol.unh.edu; s=unh-iol; t=1763196718; x=1763801518; darn=dpdk.org; h=references:in-reply-to:cc:to:from:subject:message-id:date:from:to :cc:subject:date:message-id:reply-to; bh=4exCd05xo4mYPVResaqGgdXjHVQhWJ6Ph8Mnk2v4yec=; b=jVRrIjZ1rCvMfgrHk+lgvA8DVG8DeOE5J+zXMyGJzkPKzumbTQW6mJx23S911+ubqT V2kRMJWsC53rtP4ALEPZMyRgiJ+alxHvsLkmhFpuc7anP7rlTXsLo8wxIgKD69TCWkyo 97A2IB8V42H9y78Ov34pviwFi71ftk7BJIp6k= X-Google-DKIM-Signature: v=1; a=rsa-sha256; c=relaxed/relaxed; d=1e100.net; s=20230601; t=1763196718; x=1763801518; h=references:in-reply-to:cc:to:from:subject:message-id:date:x-gm-gg :x-gm-message-state:from:to:cc:subject:date:message-id:reply-to; bh=4exCd05xo4mYPVResaqGgdXjHVQhWJ6Ph8Mnk2v4yec=; b=lzD2TOwtW4aE6y+IBa22MDYEXZyzfgTWRX4wWmPGrzgOmlW4mdlZ4E1Z1HiSRfm/3t vNB5NN343ut9PUkU+9pQDKChSngX9cRx4a0Y81n0PwxK1buPa4xyMpSwNAg23d9wOA7X GiVReS2tfr2GyXTk4ujn68piPn+7WkX+JoAHABwvkqctc8dyKQdT/toeyeI2MaAnc5NM HTWuZsJftJZ6ZVW7UXql3d/BQwKzBM6tp9XScnw43EwlvK9RfRf9tyJ2XjwrASSkypZY xT4yFy6aSZAFq3NxNoiL6lGI7IxwK06uAwiy0KQIu/ipx70ztd2mRta+tzQ3nwxhGDWK 0Q9w== X-Gm-Message-State: AOJu0YzOQsSGY7D28OgRMODRyWx5g12TstAqEKflS8/0kBIGyXCVIJnl PkFeM/IimwrkGT0vChD8ixpaEE1h58Yhzk+RHA72jMrQWj1QQVfECynUIh1Vm0mK7lZKTkIUBPB 1pDcIw97BeAvKb0AlciAtPBj82ReNvM2tgEIRMVWqbfai X-Gm-Gg: ASbGnctDDnjd6L/25igUp+YsrhfSoi783xnG0bsBHAS7xSTlojZGjsxy3T+sm3o7JPM PC6GpxJWyUeG6n+OcEZ9c/NY+K4f6m15JCNvi2o8H3GaAns3vMTTsvV0RhLkjUhQ5DYhN+8Z/4O gUq6YpgduSq9GFqCXAtOmBt0r2lAzzcV+4GrgBdmp24x98y+1U7MSEbCms3Dz5oNwY+RGVapyGj nfEo1RP/pjQv1UYaxpXvatwfbk9RYBlLAm3wEhccYbpwDvEd8p0ukXKQuvNlwYahX7ZpQkq5h3E 8yfIfWCoA7HCgECWwfsiuFUX91+ZoTtz2Si7TnfD2wdzzvgO6Bc6sY13yJJ9CWZgbtcGwOBNX4I 5MbycIN85efmRBrM3PO5XqE8ESi3hl4o= X-Google-Smtp-Source: AGHT+IGH3zPYJpIOIETXFvKkJkzhuCllBxSXtv98zZmR4aW9GnwN7wboBrrOId5PR6S8j0fVo5jmkRP8nuY7 X-Received: by 2002:a05:6638:b1e4:b0:5b7:2602:9478 with SMTP id 8926c6da1cb9f-5b7c9c4a50fmr1521875173.1.1763196718210; Sat, 15 Nov 2025 00:51:58 -0800 (PST) Received: from postal.iol.unh.edu (postal.iol.unh.edu. [132.177.123.84]) by smtp-relay.gmail.com with ESMTPS id 8926c6da1cb9f-5b7bd27fb22sm399393173.18.2025.11.15.00.51.58 (version=TLS1_2 cipher=ECDHE-ECDSA-AES128-GCM-SHA256 bits=128/128); Sat, 15 Nov 2025 00:51:58 -0800 (PST) X-Relaying-Domain: iol.unh.edu Date: Sat, 15 Nov 2025 00:51:58 -0800 (PST) Message-ID: <69183f2e.050a0220.142f44.35ceSMTPIN_ADDED_MISSING@mx.google.com> Received: from [172.21.0.4] (unknown [172.18.0.240]) by postal.iol.unh.edu (Postfix) with ESMTP id BD77E6051830; Sat, 15 Nov 2025 03:51:57 -0500 (EST) Subject: |SUCCESS| pw158765-158768 [PATCH] [v5,4/4] vhost_user: Function defs From: dpdklab@iol.unh.edu To: Test Report Cc: dpdk-test-reports@iol.unh.edu, Chenbo Xia , Maxime Coquelin In-Reply-To: <20251113124425.2913881-5-pravin.bathija@dell.com> References: <20251113124425.2913881-5-pravin.bathija@dell.com> Content-Type: text/plain X-BeenThere: test-report@dpdk.org X-Mailman-Version: 2.1.29 Precedence: list List-Id: automatic DPDK test reports List-Unsubscribe: , List-Archive: List-Post: List-Help: List-Subscribe: , Errors-To: test-report-bounces@dpdk.org Test-Label: iol-compile-amd64-testing Test-Status: SUCCESS http://dpdk.org/patch/158768 _Testing PASS_ Submitter: Bathija, Pravin Date: Thursday, November 13 2025 12:44:25 DPDK git baseline: Repo:dpdk-next-virtio Branch: master CommitID:6b37c26a95388aa41bb5267c7c42f604fd571a38 158765-158768 --> testing pass Upstream job id: Windows-Compile-DPDK-Native#32373 Test environment and result as below: +-------------------------------+--------------------+------------------+-------------------+-------------------------+ | Environment | dpdk_meson_compile | dpdk_compile_ovs | dpdk_msvc_compile | dpdk_llvm_clang_compile | +===============================+====================+==================+===================+=========================+ | Ubuntu 20.04 | PASS | SKIPPED | SKIPPED | SKIPPED | +-------------------------------+--------------------+------------------+-------------------+-------------------------+ | FreeBSD 14.2 | PASS | SKIPPED | SKIPPED | SKIPPED | +-------------------------------+--------------------+------------------+-------------------+-------------------------+ | CentOS Stream 9 | PASS | SKIPPED | SKIPPED | SKIPPED | +-------------------------------+--------------------+------------------+-------------------+-------------------------+ | CentOS Stream 10 | PASS | SKIPPED | SKIPPED | SKIPPED | +-------------------------------+--------------------+------------------+-------------------+-------------------------+ | Debian GNU/Linux 12 | PASS | SKIPPED | SKIPPED | SKIPPED | +-------------------------------+--------------------+------------------+-------------------+-------------------------+ | Fedora Linux 42 | PASS | PASS | SKIPPED | SKIPPED | +-------------------------------+--------------------+------------------+-------------------+-------------------------+ | openSUSE Leap 15.6 | PASS | SKIPPED | SKIPPED | SKIPPED | +-------------------------------+--------------------+------------------+-------------------+-------------------------+ | Red Hat Enterprise Linux 8.10 | PASS | SKIPPED | SKIPPED | SKIPPED | +-------------------------------+--------------------+------------------+-------------------+-------------------------+ | Red Hat Enterprise Linux 9.5 | PASS | SKIPPED | SKIPPED | SKIPPED | +-------------------------------+--------------------+------------------+-------------------+-------------------------+ | Ubuntu 22.04 | PASS | SKIPPED | SKIPPED | SKIPPED | +-------------------------------+--------------------+------------------+-------------------+-------------------------+ | Ubuntu 24.04 | PASS | PASS | SKIPPED | SKIPPED | +-------------------------------+--------------------+------------------+-------------------+-------------------------+ | Alpine Linux 3.22.0 | PASS | SKIPPED | SKIPPED | SKIPPED | +-------------------------------+--------------------+------------------+-------------------+-------------------------+ | Windows Server 2022 | SKIPPED | SKIPPED | PASS | PASS | +-------------------------------+--------------------+------------------+-------------------+-------------------------+ Ubuntu 20.04 Kernel: 4.19 Compiler: gcc gcc (Ubuntu 9.4.0-1ubuntu1~20.04.2) 9.4.0 FreeBSD 14.2 Kernel: 14.2-RELEASE Compiler: clang 18.1.6 CentOS Stream 9 Kernel: 5.15 Compiler: gcc gcc (GCC) 11.5.0 20240719 (Red Hat 11.5.0-11) CentOS Stream 10 Kernel: 5.15 Compiler: gcc gcc (GCC) 14.2.1 20250110 (Red Hat 14.2.1-8) Debian GNU/Linux 12 Kernel: 5.15 Compiler: gcc gcc (Debian 12.2.0-14+deb12u1) 12.2.0 Fedora Linux 42 Kernel: 5.15 Compiler: clang gcc (GCC) 15.2.1 20250808 (Red Hat 15.2.1-1) openSUSE Leap 15.6 Kernel: 5.15 Compiler: gcc gcc (SUSE Linux) 7.5.0 Red Hat Enterprise Linux 8.10 Kernel: 5.15 Compiler: gcc gcc (GCC) 8.5.0 20210514 (Red Hat 8.5.0-22) Red Hat Enterprise Linux 9.5 Kernel: 5.15 Compiler: gcc gcc (GCC) 11.5.0 20240719 (Red Hat 11.5.0-2) Ubuntu 22.04 Kernel: 5.15 Compiler: gcc gcc (Ubuntu 11.4.0-1ubuntu1~22.04) 11.4.0 Ubuntu 24.04 Kernel: 5.15 Compiler: gcc gcc (Ubuntu 13.3.0-6ubuntu2~24.04) 13.3.0 Alpine Linux 3.22.0 Kernel: 5.15 Compiler: gcc gcc (Alpine 14.2.0) 14.2.0 Windows Server 2022 Kernel: 10.0.20348.2031 Compiler: clang 15.0.7, gcc 14.1.0 (MinGW), and MSVC VS 19.39.33521 To view detailed results, visit: https://lab.dpdk.org/results/dashboard/patchsets/34576/ UNH-IOL DPDK Community Lab To manage your email subscriptions, visit: https://lab.dpdk.org/results/dashboard/preferences/subscriptions/