From mboxrd@z Thu Jan 1 00:00:00 1970 Return-Path: Received: from mails.dpdk.org (mails.dpdk.org [217.70.189.124]) by inbox.dpdk.org (Postfix) with ESMTP id C765148B16 for ; Sat, 15 Nov 2025 09:55:45 +0100 (CET) Received: from mails.dpdk.org (localhost [127.0.0.1]) by mails.dpdk.org (Postfix) with ESMTP id A369F400D6; Sat, 15 Nov 2025 09:55:45 +0100 (CET) Received: from mail-yx1-f97.google.com (mail-yx1-f97.google.com [74.125.224.97]) by mails.dpdk.org (Postfix) with ESMTP id DFD8B400D6 for ; Sat, 15 Nov 2025 09:55:44 +0100 (CET) Received: by mail-yx1-f97.google.com with SMTP id 956f58d0204a3-641e4744e59so1883964d50.2 for ; Sat, 15 Nov 2025 00:55:44 -0800 (PST) DKIM-Signature: v=1; a=rsa-sha256; c=relaxed/relaxed; d=iol.unh.edu; s=unh-iol; t=1763196944; x=1763801744; darn=dpdk.org; h=references:in-reply-to:cc:to:from:subject:message-id:date:from:to :cc:subject:date:message-id:reply-to; bh=8JgdaYOACixIDOjrCpa7hf9LJVk1Yv88uVz3K8k0eRI=; b=euP1xP/t6Dte1aSPSZ4m4njV01kGPogCsa5j3Z8Be1NgXKvQi8s4pQzotOqVAEp6+i x3T21aFbkR3u4m6aBh1itx8X+q4fN7ST1jHtNV4dQcq+cgnlRUUMHBbqda84Bjq5OCM0 rbW07yxo3JBoQw0NxRe1lNe4T4Pk6pACoSeU0= X-Google-DKIM-Signature: v=1; a=rsa-sha256; c=relaxed/relaxed; d=1e100.net; s=20230601; t=1763196944; x=1763801744; h=references:in-reply-to:cc:to:from:subject:message-id:date:x-gm-gg :x-gm-message-state:from:to:cc:subject:date:message-id:reply-to; bh=8JgdaYOACixIDOjrCpa7hf9LJVk1Yv88uVz3K8k0eRI=; b=JMOoYG+cgjNVxdw+orOWgKlSTDAi0O5poa9iPb6SkwIe5rUoQFsSW2vdEUBm8jGV+4 wGgM5iecbwkC6m8WEBgC6VrKAtDDJsBxJym1lkAPfdETM+8VaotopCzeTOtQ4gVZU35Y 5n6p3m7JRiLFFGczdJFsuBbqOOLOD/Q8DEsop0tGBMKY2CPsEx9arw5TY2ZBKulDUE7E L533eXUB6G54VYUPvkDaTVPkVPlvVtdSlAsq4TtodJ3T0oc+lQEyZMN5cz4iE5mYOKN6 fW7nYTDVOxj/QN3aLf9zNnkdA5NVvr/bDfrmAH3fZNZDhnuGbasEbAZiTC1nceuX3NRF 39nQ== X-Gm-Message-State: AOJu0YxyoM9JtVzbx6tlYnFXzfCuabUkJtS3zBZRhhY86h9pHtOpUd+b AxduBAZLNxx295wxkLoQC2tKFTlkF1zEC3HnzWzjvuON3ir0b6rGIo6w9MjrVmc7gCQEXM/j/yO 9MMXX7BC1Og2+DZ/q5UCqBBYCANbukH+8XWdyXhsWQJ2q+GrWFITOr0kwcAe9 X-Gm-Gg: ASbGnctAIODm/2P/j650Q9dwj39VgXY+Roa1dz4w4cfGqES/H9UxwNbsZd5ay1xLpGj ccUWoT+6YSF+fH0OBWliyOI8GDIPSFZY9kP2bEaCJDmlb/GCftonm9+Z8QeJI60keaxXqqFHuWX jwku9n6fpMZqTn8aSd0kGs/TnM9KNDPIzdpJl4EcSXILS2+gqfxATDzpUk3uHBYs8wijGh+sKjd XAfTVlx15SJzVvViY/Rfr86RTDF59+5QQGQFD/hg/jzsVcrbYMSV6U+u4CYIb469oFWrN0BnSu4 TXYFhBgaWvex3NhWuneHQTPktFBe4xD1kiby4REmT+Akl6/KT4EsZhd5rSX842ME4Fvf/HArrxw LfxZzF+ls X-Google-Smtp-Source: AGHT+IGz4FqknNUJkdjTxBnAGClHwkFhtw+2gnvX6lR0D2YXa+pXAP/C46RMW4GxbW+HfmergNNYO/sgdkKW X-Received: by 2002:a05:690e:1657:b0:63f:b3f0:42f9 with SMTP id 956f58d0204a3-641e76f275fmr4029783d50.57.1763196944182; Sat, 15 Nov 2025 00:55:44 -0800 (PST) Received: from postal.iol.unh.edu (postal.iol.unh.edu. [2606:4100:3880:1234::84]) by smtp-relay.gmail.com with ESMTPS id 00721157ae682-78821fb7c6esm3774807b3.25.2025.11.15.00.55.44 (version=TLS1_2 cipher=ECDHE-ECDSA-AES128-GCM-SHA256 bits=128/128); Sat, 15 Nov 2025 00:55:44 -0800 (PST) X-Relaying-Domain: iol.unh.edu Date: Sat, 15 Nov 2025 00:55:44 -0800 (PST) Message-ID: <69184010.0d0a0220.2681d8.2784SMTPIN_ADDED_MISSING@mx.google.com> Received: from [172.21.0.3] (unknown [172.18.0.240]) by postal.iol.unh.edu (Postfix) with ESMTP id 8957F6051830; Sat, 15 Nov 2025 03:55:43 -0500 (EST) Subject: |SUCCESS| pw158765-158768 [PATCH] [v5,4/4] vhost_user: Function defs From: dpdklab@iol.unh.edu To: Test Report Cc: dpdk-test-reports@iol.unh.edu, Chenbo Xia , Maxime Coquelin In-Reply-To: <20251113124425.2913881-5-pravin.bathija@dell.com> References: <20251113124425.2913881-5-pravin.bathija@dell.com> Content-Type: text/plain X-BeenThere: test-report@dpdk.org X-Mailman-Version: 2.1.29 Precedence: list List-Id: automatic DPDK test reports List-Unsubscribe: , List-Archive: List-Post: List-Help: List-Subscribe: , Errors-To: test-report-bounces@dpdk.org Test-Label: iol-compile-amd64-testing Test-Status: SUCCESS http://dpdk.org/patch/158768 _Testing PASS_ Submitter: Bathija, Pravin Date: Thursday, November 13 2025 12:44:25 DPDK git baseline: Repo:dpdk-next-virtio Branch: master CommitID:6b37c26a95388aa41bb5267c7c42f604fd571a38 158765-158768 --> testing pass Upstream job id: Windows-Compile-DPDK-Native#32374 Test environment and result as below: +-------------------------------+--------------------+------------------+-------------------+-------------------------+----------------------+ | Environment | dpdk_meson_compile | dpdk_compile_ovs | dpdk_msvc_compile | dpdk_llvm_clang_compile | dpdk_mingw64_compile | +===============================+====================+==================+===================+=========================+======================+ | Ubuntu 20.04 | PASS | SKIPPED | SKIPPED | SKIPPED | SKIPPED | +-------------------------------+--------------------+------------------+-------------------+-------------------------+----------------------+ | FreeBSD 14.2 | PASS | SKIPPED | SKIPPED | SKIPPED | SKIPPED | +-------------------------------+--------------------+------------------+-------------------+-------------------------+----------------------+ | CentOS Stream 9 | PASS | SKIPPED | SKIPPED | SKIPPED | SKIPPED | +-------------------------------+--------------------+------------------+-------------------+-------------------------+----------------------+ | CentOS Stream 10 | PASS | SKIPPED | SKIPPED | SKIPPED | SKIPPED | +-------------------------------+--------------------+------------------+-------------------+-------------------------+----------------------+ | Debian GNU/Linux 12 | PASS | SKIPPED | SKIPPED | SKIPPED | SKIPPED | +-------------------------------+--------------------+------------------+-------------------+-------------------------+----------------------+ | Fedora Linux 42 | PASS | PASS | SKIPPED | SKIPPED | SKIPPED | +-------------------------------+--------------------+------------------+-------------------+-------------------------+----------------------+ | openSUSE Leap 15.6 | PASS | SKIPPED | SKIPPED | SKIPPED | SKIPPED | +-------------------------------+--------------------+------------------+-------------------+-------------------------+----------------------+ | Red Hat Enterprise Linux 8.10 | PASS | SKIPPED | SKIPPED | SKIPPED | SKIPPED | +-------------------------------+--------------------+------------------+-------------------+-------------------------+----------------------+ | Red Hat Enterprise Linux 9.5 | PASS | SKIPPED | SKIPPED | SKIPPED | SKIPPED | +-------------------------------+--------------------+------------------+-------------------+-------------------------+----------------------+ | Ubuntu 22.04 | PASS | SKIPPED | SKIPPED | SKIPPED | SKIPPED | +-------------------------------+--------------------+------------------+-------------------+-------------------------+----------------------+ | Ubuntu 24.04 | PASS | PASS | SKIPPED | SKIPPED | SKIPPED | +-------------------------------+--------------------+------------------+-------------------+-------------------------+----------------------+ | Alpine Linux 3.22.0 | PASS | SKIPPED | SKIPPED | SKIPPED | SKIPPED | +-------------------------------+--------------------+------------------+-------------------+-------------------------+----------------------+ | Windows Server 2022 | SKIPPED | SKIPPED | PASS | PASS | PASS | +-------------------------------+--------------------+------------------+-------------------+-------------------------+----------------------+ Ubuntu 20.04 Kernel: 4.19 Compiler: gcc gcc (Ubuntu 9.4.0-1ubuntu1~20.04.2) 9.4.0 FreeBSD 14.2 Kernel: 14.2-RELEASE Compiler: clang 18.1.6 CentOS Stream 9 Kernel: 5.15 Compiler: gcc gcc (GCC) 11.5.0 20240719 (Red Hat 11.5.0-11) CentOS Stream 10 Kernel: 5.15 Compiler: gcc gcc (GCC) 14.2.1 20250110 (Red Hat 14.2.1-8) Debian GNU/Linux 12 Kernel: 5.15 Compiler: gcc gcc (Debian 12.2.0-14+deb12u1) 12.2.0 Fedora Linux 42 Kernel: 5.15 Compiler: clang gcc (GCC) 15.2.1 20250808 (Red Hat 15.2.1-1) openSUSE Leap 15.6 Kernel: 5.15 Compiler: gcc gcc (SUSE Linux) 7.5.0 Red Hat Enterprise Linux 8.10 Kernel: 5.15 Compiler: gcc gcc (GCC) 8.5.0 20210514 (Red Hat 8.5.0-22) Red Hat Enterprise Linux 9.5 Kernel: 5.15 Compiler: gcc gcc (GCC) 11.5.0 20240719 (Red Hat 11.5.0-2) Ubuntu 22.04 Kernel: 5.15 Compiler: gcc gcc (Ubuntu 11.4.0-1ubuntu1~22.04) 11.4.0 Ubuntu 24.04 Kernel: 5.15 Compiler: gcc gcc (Ubuntu 13.3.0-6ubuntu2~24.04) 13.3.0 Alpine Linux 3.22.0 Kernel: 5.15 Compiler: gcc gcc (Alpine 14.2.0) 14.2.0 Windows Server 2022 Kernel: 10.0.20348.2031 Compiler: clang 15.0.7, gcc 14.1.0 (MinGW), and MSVC VS 19.39.33521 To view detailed results, visit: https://lab.dpdk.org/results/dashboard/patchsets/34576/ UNH-IOL DPDK Community Lab To manage your email subscriptions, visit: https://lab.dpdk.org/results/dashboard/preferences/subscriptions/