From mboxrd@z Thu Jan 1 00:00:00 1970 Return-Path: Received: from mails.dpdk.org (mails.dpdk.org [217.70.189.124]) by inbox.dpdk.org (Postfix) with ESMTP id 1A37A48B16 for ; Sat, 15 Nov 2025 09:59:24 +0100 (CET) Received: from mails.dpdk.org (localhost [127.0.0.1]) by mails.dpdk.org (Postfix) with ESMTP id 15ABA40A89; Sat, 15 Nov 2025 09:59:24 +0100 (CET) Received: from mail-il1-f226.google.com (mail-il1-f226.google.com [209.85.166.226]) by mails.dpdk.org (Postfix) with ESMTP id 3B6AE40A89 for ; Sat, 15 Nov 2025 09:59:23 +0100 (CET) Received: by mail-il1-f226.google.com with SMTP id e9e14a558f8ab-433692bbe4fso12844445ab.0 for ; Sat, 15 Nov 2025 00:59:23 -0800 (PST) DKIM-Signature: v=1; a=rsa-sha256; c=relaxed/relaxed; d=iol.unh.edu; s=unh-iol; t=1763197162; x=1763801962; darn=dpdk.org; h=references:in-reply-to:cc:to:from:subject:message-id:date:from:to :cc:subject:date:message-id:reply-to; bh=PKpie434xTy/YPaJ/QzWTaZeEXFPYHmPTuU/doQ/730=; b=UkTQI9JAKMyr8lmQDGaYzFLLaRHBx/fUhWtau+Y/KrGX+tpw+2fatKbOx07t9Rs6jM EoRXkZnpEMk1okjUiTFQ2DOW05KsQO+QdZeViRwdMCBxrWyeiVVQss/P/QvUoZCkfojr XrTcb/rJAZ5AcyQXncCuHqMdErqTaXVQWAtfs= X-Google-DKIM-Signature: v=1; a=rsa-sha256; c=relaxed/relaxed; d=1e100.net; s=20230601; t=1763197162; x=1763801962; h=references:in-reply-to:cc:to:from:subject:message-id:date:x-gm-gg :x-gm-message-state:from:to:cc:subject:date:message-id:reply-to; bh=PKpie434xTy/YPaJ/QzWTaZeEXFPYHmPTuU/doQ/730=; b=nCdioMYLmHZGbKl5osA32nS9cq0q+8tFdqjtXvaclpEwQZD+W/9jQqwx3WuFJwPlO5 /mOunYUl1hSnwoSKoZtm6EYjVoJ2QbsYRLFpg+9DqpRjmcaWg2WLTpcjLnQaLQOzedMN OKV2wXGbkUYXG2T+8E2hkD+J5FgauDNVMzO3GdmlZ0gNzhhCj0GFJrmcTIk1dyiMyQvw nQirfEtglZtmKV6x/rhqb7Ypmd7PIzXic8V1rNg7dfumQO6zNAvNR79MsrLtXJ+R6tAU Ss8mtfcSPDGAHX5Wak+5ABNl0kUy6VEIiXrOlROoIursSJtURTDr2AnOuyX0aWA6DyZk JfHg== X-Gm-Message-State: AOJu0YxqxAkCIW6E7mfOLkYaXuYt9BdZU242F4K7qi2i+tcUhJf/aLjw Nrdx7qSh5wprf57OyuAPjIzAwFofdNPKW7etpAOI1XA4buvT/a6JzF495Xq0nEpQ2Qs90TA5Pxx xiejgraNdgfzFhI4tzhV/hFF8+PgMny+/F3DPlD9MhPmFbOsFh0puxGTUuTJY X-Gm-Gg: ASbGncuIxTzEn7W+pqNFfDs8c0NBvHXkt5pAp807tQcmsAe2QCcwCifavEODuwKH3xu jHWGto20lkZcLTkhBLc6T186yzqBCcvEPbS9NlezjqwjvpzpKPCMRCa2M56yB/zgheC/67dqiQy 9zAYQydO3iT6Dz9QVITZFnhrTwXNrpSnvC3la+o5x7vapi21Cv5o76RJG9+tZabXsbGezgjiWAj gHbrARAXXBqCmlm7AdCryG8ycprwghpTbVIFU2j+pdbuSKaKXVWj6bOP8JAwZ3OUAjxhIUVRKfA MBoy1GhIWrpw9Kc9CtB6U9CmQHr7/WsLeOTmm4Illzan2/hQaqZEavDfVSzQtllTJVeuxCRE1qF P0003S33e X-Google-Smtp-Source: AGHT+IGYJ90XjbNUEQIPyE3pIbG9DZGpbJSWU3I762iJZVizp8KI2b67pogcrVjeGlW3vtMsgj2k/xvKrFqR X-Received: by 2002:a05:6e02:3812:b0:433:7b22:c2cd with SMTP id e9e14a558f8ab-4348c8be2b8mr85712045ab.8.1763197162541; Sat, 15 Nov 2025 00:59:22 -0800 (PST) Received: from postal.iol.unh.edu (postal.iol.unh.edu. [2606:4100:3880:1234::84]) by smtp-relay.gmail.com with ESMTPS id e9e14a558f8ab-434833ebfd3sm6630025ab.10.2025.11.15.00.59.22 (version=TLS1_2 cipher=ECDHE-ECDSA-AES128-GCM-SHA256 bits=128/128); Sat, 15 Nov 2025 00:59:22 -0800 (PST) X-Relaying-Domain: iol.unh.edu Date: Sat, 15 Nov 2025 00:59:22 -0800 (PST) Message-ID: <691840ea.920a0220.a3df1.0d87SMTPIN_ADDED_MISSING@mx.google.com> Received: from [172.21.0.3] (unknown [172.18.0.240]) by postal.iol.unh.edu (Postfix) with ESMTP id 1FE516051830; Sat, 15 Nov 2025 03:59:22 -0500 (EST) Subject: |SUCCESS| pw158783 [PATCH] [v2] ethdev: add GENEVE encapsulation and From: dpdklab@iol.unh.edu To: Test Report Cc: dpdk-test-reports@iol.unh.edu, Stephen Hemminger In-Reply-To: <20251114061917.20948-1-sunyang.wu@jaguarmicro.com> References: <20251114061917.20948-1-sunyang.wu@jaguarmicro.com> Content-Type: text/plain X-BeenThere: test-report@dpdk.org X-Mailman-Version: 2.1.29 Precedence: list List-Id: automatic DPDK test reports List-Unsubscribe: , List-Archive: List-Post: List-Help: List-Subscribe: , Errors-To: test-report-bounces@dpdk.org Test-Label: iol-compile-arm64-testing Test-Status: SUCCESS http://dpdk.org/patch/158783 _Testing PASS_ Submitter: Sunyang Wu Date: Friday, November 14 2025 06:19:17 DPDK git baseline: Repo:dpdk-next-net Branch: master CommitID:fca6f2910345c25a5050a0b586e0d324ca616cbb 158783 --> testing pass Upstream job id: Generic-DPDK-Compile-Meson#444484 Test environment and result as below: +------------------------------+--------------------+ | Environment | dpdk_meson_compile | +==============================+====================+ | Ubuntu 20.04 | PASS | +------------------------------+--------------------+ | Red Hat Enterprise Linux 9.5 | PASS | +------------------------------+--------------------+ | Debian GNU/Linux 12 | PASS | +------------------------------+--------------------+ | Fedora Linux 42 | PASS | +------------------------------+--------------------+ | Ubuntu 22.04 | PASS | +------------------------------+--------------------+ | Ubuntu 24.04 | PASS | +------------------------------+--------------------+ | CentOS Stream 9 | PASS | +------------------------------+--------------------+ | CentOS Stream 10 | PASS | +------------------------------+--------------------+ Ubuntu 20.04 Kernel: 5.15 Compiler: aarch64-linux-gnu-gcc gcc (Ubuntu 9.4.0-1ubuntu1~20.04.2) 9.4.0 Red Hat Enterprise Linux 9.5 Kernel: 5.4 Compiler: gcc gcc (GCC) 11.5.0 20240719 (Red Hat 11.5.0-2) Debian GNU/Linux 12 Kernel: 5.4 Compiler: gcc gcc (Debian 12.2.0-14+deb12u1) 12.2.0 Fedora Linux 42 Kernel: 5.4 Compiler: gcc gcc (GCC) 15.2.1 20250808 (Red Hat 15.2.1-1) Ubuntu 22.04 Kernel: 5.4 Compiler: gcc gcc (Ubuntu 11.4.0-1ubuntu1~22.04) 11.4.0 Ubuntu 24.04 Kernel: 5.4 Compiler: gcc gcc (Ubuntu 13.3.0-6ubuntu2~24.04) 13.3.0 CentOS Stream 9 Kernel: 5.4 Compiler: gcc gcc (GCC) 11.5.0 20240719 (Red Hat 11.5.0-11) CentOS Stream 10 Kernel: 5.4 Compiler: gcc gcc (GCC) 14.2.1 20250110 (Red Hat 14.2.1-8) To view detailed results, visit: https://lab.dpdk.org/results/dashboard/patchsets/34587/ UNH-IOL DPDK Community Lab To manage your email subscriptions, visit: https://lab.dpdk.org/results/dashboard/preferences/subscriptions/