From mboxrd@z Thu Jan 1 00:00:00 1970 Return-Path: Received: from mails.dpdk.org (mails.dpdk.org [217.70.189.124]) by inbox.dpdk.org (Postfix) with ESMTP id D243F48B17 for ; Sat, 15 Nov 2025 10:06:31 +0100 (CET) Received: from mails.dpdk.org (localhost [127.0.0.1]) by mails.dpdk.org (Postfix) with ESMTP id CC7AA40A89; Sat, 15 Nov 2025 10:06:31 +0100 (CET) Received: from mail-io1-f100.google.com (mail-io1-f100.google.com [209.85.166.100]) by mails.dpdk.org (Postfix) with ESMTP id 4559F40A89 for ; Sat, 15 Nov 2025 10:06:30 +0100 (CET) Received: by mail-io1-f100.google.com with SMTP id ca18e2360f4ac-948a3979af4so144720139f.0 for ; Sat, 15 Nov 2025 01:06:30 -0800 (PST) DKIM-Signature: v=1; a=rsa-sha256; c=relaxed/relaxed; d=iol.unh.edu; s=unh-iol; t=1763197589; x=1763802389; darn=dpdk.org; h=references:in-reply-to:cc:to:from:subject:message-id:date:from:to :cc:subject:date:message-id:reply-to; bh=LTkzvqNHZNViDMj+HckBAYzFt4QTxXV+5uXjcAyeuYM=; b=OKmIqx/lggeX50lUtvSTpXMCs0Y0OL8OPieNh5q22Tz5deBeoWKw7gVV7Y7Be62MK0 kyOMZZy+v+MHatpj8kHRawPScgXFz5A43H/ReGqqsn+j+BxVy4gblbaAGZ9ng07Y4hE6 9fO81vhxmR6vb+x4lQf4kZyjFpgiduox5q7B4= X-Google-DKIM-Signature: v=1; a=rsa-sha256; c=relaxed/relaxed; d=1e100.net; s=20230601; t=1763197589; x=1763802389; h=references:in-reply-to:cc:to:from:subject:message-id:date:x-gm-gg :x-gm-message-state:from:to:cc:subject:date:message-id:reply-to; bh=LTkzvqNHZNViDMj+HckBAYzFt4QTxXV+5uXjcAyeuYM=; b=efyrT71tjpNaanl6pxgYzpSCBlM1U8CNSiAk3xzK4QbuoXU4a9Dd6aoRRyLrLLHd8S 1SK7DWjZK5XCcdkBfGdZcT2Co5uNbGdKeMLXDxm+2yqugqxKSty06MnDjbCiB30LC/0E rPEp207qRcY8Xk8dH8CnGLCF+QwCNNHvOdKhxw76CFnhe6YGSbRDWvp1OEH5Vh08o4VZ juwcqyCGIoRre5dvg+JSZmnNxEc0dNJX8Pq1gmS0zn/nWFzMotIzGAxVclVYW6vwHyfZ 2TwgwTFJVBucBaqulg0ZI7x0u8J+X0ueBud1FmyojWZnEFELfjiupkFZW+aH4Cr0BezB nQTQ== X-Gm-Message-State: AOJu0YxXLFVa3Bdhy0IFnnd0y8vyA3rHJpPPCjXzMauUYpdP9R4rTbOB vIB9bplf1oSkO632QMK3ZHGD6tYjvutXfH1tsnnQ+4aZxVtRwwg9MqfUe/ZB9JHLpEGMCaXHfMc ByGGxSbWRxIn0X8242RdWGN54zT5CQXyqNauXi4VHe3rq X-Gm-Gg: ASbGnct9iScK7svkhdYqzXwFfR3VyRipJRpjTfEvv0aM0OXx2a8qfi/zc6RBP07Nb8Y zolc+DQoZJAD0791/HD6PnXXpRni5uTxKeyhTFwcnKSNH4ayfJIurFnxla/tRW1fMkpx3reSUXZ QVdOQ0H0JZs/9btJp+50g06muWlIsAJPk0+G2KD05JDGlp62rWa/cwMXyI0d+HnIIv5Ajynos3Z rKB3wgrQnAcYgvHDq5mpXSS4JX3pkj6bzc6+pWlfE/wpMmcjuH4CR+6NTtklz9zpIXOkiU1Zk6T R51hCyw+fdb4bPVDvhPdbfZaHGPwQWVDycy3C6HeIn1OtJvbar56Zwx+iu3IA6e20eqo96nBvW5 RWS8dhXiuHmIPeyfjViSfSntk5FIzjR8= X-Google-Smtp-Source: AGHT+IGn/lYI+RjkDf0ldck7x0Y1pY5dF+O17hfRtxJlA9V3J96Eci44S87a61LtbDRPrLmcqkH3urQwxe1+ X-Received: by 2002:a05:6638:c783:20b0:5b7:1bb7:db25 with SMTP id 8926c6da1cb9f-5b7c82a5535mr1451436173.4.1763197589559; Sat, 15 Nov 2025 01:06:29 -0800 (PST) Received: from postal.iol.unh.edu (postal.iol.unh.edu. [132.177.123.84]) by smtp-relay.gmail.com with ESMTPS id 8926c6da1cb9f-5b7bd3347f4sm387930173.28.2025.11.15.01.06.29 (version=TLS1_2 cipher=ECDHE-ECDSA-AES128-GCM-SHA256 bits=128/128); Sat, 15 Nov 2025 01:06:29 -0800 (PST) X-Relaying-Domain: iol.unh.edu Date: Sat, 15 Nov 2025 01:06:29 -0800 (PST) Message-ID: <69184295.050a0220.32d6d6.27dcSMTPIN_ADDED_MISSING@mx.google.com> Received: from [172.21.0.4] (unknown [172.18.0.240]) by postal.iol.unh.edu (Postfix) with ESMTP id 23B2D6051830; Sat, 15 Nov 2025 04:06:29 -0500 (EST) Subject: |SUCCESS| pw158784-158787 [PATCH] [v5,4/4] bus/fslmc: add support fo From: dpdklab@iol.unh.edu To: Test Report Cc: dpdk-test-reports@iol.unh.edu, Stephen Hemminger In-Reply-To: <20251114062454.2731559-4-hemant.agrawal@nxp.com> References: <20251114062454.2731559-4-hemant.agrawal@nxp.com> Content-Type: text/plain X-BeenThere: test-report@dpdk.org X-Mailman-Version: 2.1.29 Precedence: list List-Id: automatic DPDK test reports List-Unsubscribe: , List-Archive: List-Post: List-Help: List-Subscribe: , Errors-To: test-report-bounces@dpdk.org Test-Label: iol-unit-arm64-testing Test-Status: SUCCESS http://dpdk.org/patch/158787 _Testing PASS_ Submitter: Hemant Agrawal Date: Friday, November 14 2025 06:24:54 DPDK git baseline: Repo:dpdk-next-net Branch: master CommitID:fca6f2910345c25a5050a0b586e0d324ca616cbb 158784-158787 --> testing pass Upstream job id: Generic-Unit-Test-DPDK#392738 Test environment and result as below: +------------------------------+----------------+------------------------------+--------------+---------------------------+ | Environment | dpdk_unit_test | cryptodev_sw_snow3g_autotest | lpm_autotest | cryptodev_sw_zuc_autotest | +==============================+================+==============================+==============+===========================+ | Debian GNU/Linux 12 | PASS | SKIPPED | SKIPPED | SKIPPED | +------------------------------+----------------+------------------------------+--------------+---------------------------+ | CentOS Stream 9 | PASS | SKIPPED | SKIPPED | SKIPPED | +------------------------------+----------------+------------------------------+--------------+---------------------------+ | CentOS Stream 10 | PASS | SKIPPED | SKIPPED | SKIPPED | +------------------------------+----------------+------------------------------+--------------+---------------------------+ | Fedora Linux 40 | PASS | SKIPPED | SKIPPED | SKIPPED | +------------------------------+----------------+------------------------------+--------------+---------------------------+ | Fedora Linux 41 | PASS | SKIPPED | SKIPPED | SKIPPED | +------------------------------+----------------+------------------------------+--------------+---------------------------+ | Fedora Linux 42 | PASS | SKIPPED | SKIPPED | SKIPPED | +------------------------------+----------------+------------------------------+--------------+---------------------------+ | Ubuntu 20.04 | PASS | SKIPPED | PASS | SKIPPED | +------------------------------+----------------+------------------------------+--------------+---------------------------+ | Ubuntu 22.04 | PASS | SKIPPED | SKIPPED | SKIPPED | +------------------------------+----------------+------------------------------+--------------+---------------------------+ | Red Hat Enterprise Linux 9.5 | PASS | SKIPPED | SKIPPED | SKIPPED | +------------------------------+----------------+------------------------------+--------------+---------------------------+ | Ubuntu 24.04 | PASS | SKIPPED | SKIPPED | SKIPPED | +------------------------------+----------------+------------------------------+--------------+---------------------------+ | Debian 12 (arm) | SKIPPED | PASS | SKIPPED | PASS | +------------------------------+----------------+------------------------------+--------------+---------------------------+ Debian GNU/Linux 12 Kernel: 5.4 Compiler: gcc gcc (Debian 12.2.0-14+deb12u1) 12.2.0 CentOS Stream 9 Kernel: 5.4 Compiler: gcc gcc (GCC) 11.5.0 20240719 (Red Hat 11.5.0-11) CentOS Stream 10 Kernel: 5.4 Compiler: gcc gcc (GCC) 14.2.1 20250110 (Red Hat 14.2.1-8) Fedora Linux 40 Kernel: 5.4 Compiler: clang gcc (GCC) 14.2.1 20240912 (Red Hat 14.2.1-3) Fedora Linux 41 Kernel: 5.4 Compiler: gcc gcc (GCC) 14.3.1 20250523 (Red Hat 14.3.1-1) Fedora Linux 42 Kernel: 5.4 Compiler: gcc gcc (GCC) 15.2.1 20250808 (Red Hat 15.2.1-1) Ubuntu 20.04 Kernel: 5.4 Compiler: gcc gcc (Ubuntu 9.4.0-1ubuntu1~20.04.2) 9.4.0 Ubuntu 22.04 Kernel: 5.15 Compiler: gcc gcc (Ubuntu 11.4.0-1ubuntu1~22.04.2) 11.4.0 Red Hat Enterprise Linux 9.5 Kernel: 5.4 Compiler: gcc gcc (GCC) 11.5.0 20240719 (Red Hat 11.5.0-2) Ubuntu 24.04 Kernel: 5.4 Compiler: gcc gcc (Ubuntu 13.3.0-6ubuntu2~24.04) 13.3.0 Debian 12 (arm) Kernel: Depends on container host Compiler: gcc (Debian 12.2.0-14) 12.2.0 To view detailed results, visit: https://lab.dpdk.org/results/dashboard/patchsets/34589/ UNH-IOL DPDK Community Lab To manage your email subscriptions, visit: https://lab.dpdk.org/results/dashboard/preferences/subscriptions/