From mboxrd@z Thu Jan 1 00:00:00 1970 Return-Path: Received: from mails.dpdk.org (mails.dpdk.org [217.70.189.124]) by inbox.dpdk.org (Postfix) with ESMTP id 203C348B17 for ; Sat, 15 Nov 2025 10:07:55 +0100 (CET) Received: from mails.dpdk.org (localhost [127.0.0.1]) by mails.dpdk.org (Postfix) with ESMTP id 1DC2A40A89; Sat, 15 Nov 2025 10:07:55 +0100 (CET) Received: from mail-qv1-f97.google.com (mail-qv1-f97.google.com [209.85.219.97]) by mails.dpdk.org (Postfix) with ESMTP id D1CE340A89 for ; Sat, 15 Nov 2025 10:07:53 +0100 (CET) Received: by mail-qv1-f97.google.com with SMTP id 6a1803df08f44-8823dfa84c5so31419126d6.3 for ; Sat, 15 Nov 2025 01:07:53 -0800 (PST) DKIM-Signature: v=1; a=rsa-sha256; c=relaxed/relaxed; d=iol.unh.edu; s=unh-iol; t=1763197673; x=1763802473; darn=dpdk.org; h=references:in-reply-to:cc:to:from:subject:message-id:date:from:to :cc:subject:date:message-id:reply-to; bh=47/9FeXHywZxTpjpOIXPOlnSwGEfMorCUo8Vyf3kewo=; b=R+t0ZXtZELHuw6cP0rsrfjGBlP41urnE+eO76eLFHGIldvm6oTPUa73FPdnvPakZIq i+GZVt5baySQBHF8nN1GVqp+iI65gg1geYrum85VAi3yMg17pwMzCrGmv1Qs3I8KY1hu pPnDAusz86MMpjmmri3/ktAxtXbfgl3FkHfyc= X-Google-DKIM-Signature: v=1; a=rsa-sha256; c=relaxed/relaxed; d=1e100.net; s=20230601; t=1763197673; x=1763802473; h=references:in-reply-to:cc:to:from:subject:message-id:date:x-gm-gg :x-gm-message-state:from:to:cc:subject:date:message-id:reply-to; bh=47/9FeXHywZxTpjpOIXPOlnSwGEfMorCUo8Vyf3kewo=; b=ASOrB62iJ1LACkI1YdzwkH5f1C45bs/cOQHyVfqN/cooVU20t8PZIUVUqZ8VPBHYDZ bbMS2RxEyK2H0kA1Wr9ylT/1cKFBzHNDjpo5rNn5+Ui7z/BP8BTjhxMqvSmNcpizqJlO auzqUfy4B5chM22u4SHktAUfIILRFgxDfA8JAmrBGIWyonZXwFXrFCiFl3/nw16/iGQV /LwOzj63hAB7R251yIr61LIwi5lqUvMd9NM3sKXrWzp3NdrPamNOpt6XXADAeUy1as0d trcjjony7iONbE0x02Ybx48GUHUAB8ro3Mhy22N/op9jUh/L92rHG314lJKsiIMni/vb uOgA== X-Gm-Message-State: AOJu0YwqlaLRlwIev9z+cD2QsRZfhyLTavacCUZSPsVYRXAnoNZBLljE h/2YCSp94eqP/WweERiSwE75FU/mE2W5AlmwCzDe+91PUugK41RlXU4aHU0oxViRb8RRBGRsvK0 iKoQDniXUukQr+Cip/w0J3hSSNAs+Rn0sQddj/Hn/x2I3bXjIAlwRhyRwzZzH X-Gm-Gg: ASbGnct3EThnXl8DZqhOP+xGiTxfqKje+ThNd46sL2qaPALyM9+RqHWpSKhd7qLRzcq JdYqjhb1UNzmbDZerofTjcRwrhYLavCoT8VwE3TiskkUzwFwiTt3l9ITxjJSPKaUHiZLiPPQGU9 2/n1qiDSSEWnC5DSM62p3hYEuFP1lM4zDfJnff7GFY+ZkdXSoa/fztC9w6glnnqsSZRCVC80mOY AFz0e/tPe65nYFgTluqHiiqK+7Q2MuMnQQvD52oT0OLKx4evaS1lezsGNDOogqjEvfxzh8EhdQC SWb/6g/HZnLs5MiYFib3LyR4QARzqm2JnU08iMNzzc+z3lcJK+rqvH+bEmN7zKpX5/SlaNE2a0D gK/Ak8PEK X-Google-Smtp-Source: AGHT+IFa+uRCawsKsrEYgxYDNUchM/0iMZiz0kPnrlXqD8e9FMhgLLK8k/W+LwEKoiUtpP+hUt+xCCCzgwRe X-Received: by 2002:a05:6214:2a8b:b0:882:3ecd:20eb with SMTP id 6a1803df08f44-8829261d17fmr61724966d6.25.1763197673183; Sat, 15 Nov 2025 01:07:53 -0800 (PST) Received: from postal.iol.unh.edu (postal.iol.unh.edu. [2606:4100:3880:1234::84]) by smtp-relay.gmail.com with ESMTPS id 6a1803df08f44-88286572dd5sm8369686d6.25.2025.11.15.01.07.53 (version=TLS1_2 cipher=ECDHE-ECDSA-AES128-GCM-SHA256 bits=128/128); Sat, 15 Nov 2025 01:07:53 -0800 (PST) X-Relaying-Domain: iol.unh.edu Date: Sat, 15 Nov 2025 01:07:53 -0800 (PST) Message-ID: <691842e9.050a0220.21433e.95cfSMTPIN_ADDED_MISSING@mx.google.com> Received: from [172.21.0.3] (unknown [172.18.0.240]) by postal.iol.unh.edu (Postfix) with ESMTP id E42C86051830; Sat, 15 Nov 2025 04:07:52 -0500 (EST) Subject: |SUCCESS| pw158760 [PATCH] net/mlx5/windows: fix match criteria in f From: dpdklab@iol.unh.edu To: Test Report Cc: dpdk-test-reports@iol.unh.edu In-Reply-To: <20251113122642.1193-1-isharoni@nvidia.com> References: <20251113122642.1193-1-isharoni@nvidia.com> Content-Type: text/plain X-BeenThere: test-report@dpdk.org X-Mailman-Version: 2.1.29 Precedence: list List-Id: automatic DPDK test reports List-Unsubscribe: , List-Archive: List-Post: List-Help: List-Subscribe: , Errors-To: test-report-bounces@dpdk.org Test-Label: iol-compile-amd64-testing Test-Status: SUCCESS http://dpdk.org/patch/158760 _Testing PASS_ Submitter: Itai Sharoni Date: Thursday, November 13 2025 12:26:41 DPDK git baseline: Repo:dpdk-next-net-mlx Branch: master CommitID:ae657d56b1f0ea979b3f611edf28d773efc2ddcf 158760 --> testing pass Upstream job id: Windows-Compile-DPDK-Native#32375 Test environment and result as below: +-------------------------------+--------------------+------------------+-------------------+-------------------------+ | Environment | dpdk_meson_compile | dpdk_compile_ovs | dpdk_msvc_compile | dpdk_llvm_clang_compile | +===============================+====================+==================+===================+=========================+ | FreeBSD 14.2 | PASS | SKIPPED | SKIPPED | SKIPPED | +-------------------------------+--------------------+------------------+-------------------+-------------------------+ | Ubuntu 20.04 | PASS | SKIPPED | SKIPPED | SKIPPED | +-------------------------------+--------------------+------------------+-------------------+-------------------------+ | CentOS Stream 9 | PASS | SKIPPED | SKIPPED | SKIPPED | +-------------------------------+--------------------+------------------+-------------------+-------------------------+ | CentOS Stream 10 | PASS | SKIPPED | SKIPPED | SKIPPED | +-------------------------------+--------------------+------------------+-------------------+-------------------------+ | Debian GNU/Linux 12 | PASS | SKIPPED | SKIPPED | SKIPPED | +-------------------------------+--------------------+------------------+-------------------+-------------------------+ | Fedora Linux 42 | PASS | PASS | SKIPPED | SKIPPED | +-------------------------------+--------------------+------------------+-------------------+-------------------------+ | openSUSE Leap 15.6 | PASS | SKIPPED | SKIPPED | SKIPPED | +-------------------------------+--------------------+------------------+-------------------+-------------------------+ | Red Hat Enterprise Linux 8.10 | PASS | SKIPPED | SKIPPED | SKIPPED | +-------------------------------+--------------------+------------------+-------------------+-------------------------+ | Red Hat Enterprise Linux 9.5 | PASS | SKIPPED | SKIPPED | SKIPPED | +-------------------------------+--------------------+------------------+-------------------+-------------------------+ | Ubuntu 22.04 | PASS | SKIPPED | SKIPPED | SKIPPED | +-------------------------------+--------------------+------------------+-------------------+-------------------------+ | Ubuntu 24.04 | PASS | PASS | SKIPPED | SKIPPED | +-------------------------------+--------------------+------------------+-------------------+-------------------------+ | Alpine Linux 3.22.0 | PASS | SKIPPED | SKIPPED | SKIPPED | +-------------------------------+--------------------+------------------+-------------------+-------------------------+ | Windows Server 2022 | SKIPPED | SKIPPED | PASS | PASS | +-------------------------------+--------------------+------------------+-------------------+-------------------------+ FreeBSD 14.2 Kernel: 14.2-RELEASE Compiler: clang 18.1.6 Ubuntu 20.04 Kernel: 4.19 Compiler: gcc gcc (Ubuntu 9.4.0-1ubuntu1~20.04.2) 9.4.0 CentOS Stream 9 Kernel: 5.15 Compiler: gcc gcc (GCC) 11.5.0 20240719 (Red Hat 11.5.0-11) CentOS Stream 10 Kernel: 5.15 Compiler: gcc gcc (GCC) 14.2.1 20250110 (Red Hat 14.2.1-8) Debian GNU/Linux 12 Kernel: 5.15 Compiler: gcc gcc (Debian 12.2.0-14+deb12u1) 12.2.0 Fedora Linux 42 Kernel: 5.15 Compiler: clang gcc (GCC) 15.2.1 20250808 (Red Hat 15.2.1-1) openSUSE Leap 15.6 Kernel: 5.15 Compiler: gcc gcc (SUSE Linux) 7.5.0 Red Hat Enterprise Linux 8.10 Kernel: 5.15 Compiler: gcc gcc (GCC) 8.5.0 20210514 (Red Hat 8.5.0-22) Red Hat Enterprise Linux 9.5 Kernel: 5.15 Compiler: gcc gcc (GCC) 11.5.0 20240719 (Red Hat 11.5.0-2) Ubuntu 22.04 Kernel: 5.15 Compiler: gcc gcc (Ubuntu 11.4.0-1ubuntu1~22.04) 11.4.0 Ubuntu 24.04 Kernel: 5.15 Compiler: gcc gcc (Ubuntu 13.3.0-6ubuntu2~24.04) 13.3.0 Alpine Linux 3.22.0 Kernel: 5.15 Compiler: gcc gcc (Alpine 14.2.0) 14.2.0 Windows Server 2022 Kernel: 10.0.20348.2031 Compiler: clang 15.0.7, gcc 14.1.0 (MinGW), and MSVC VS 19.39.33521 To view detailed results, visit: https://lab.dpdk.org/results/dashboard/patchsets/34575/ UNH-IOL DPDK Community Lab To manage your email subscriptions, visit: https://lab.dpdk.org/results/dashboard/preferences/subscriptions/