From mboxrd@z Thu Jan 1 00:00:00 1970 Return-Path: Received: from mails.dpdk.org (mails.dpdk.org [217.70.189.124]) by inbox.dpdk.org (Postfix) with ESMTP id 808FA48B17 for ; Sat, 15 Nov 2025 10:10:50 +0100 (CET) Received: from mails.dpdk.org (localhost [127.0.0.1]) by mails.dpdk.org (Postfix) with ESMTP id 5F68940A89; Sat, 15 Nov 2025 10:10:50 +0100 (CET) Received: from mail-oa1-f99.google.com (mail-oa1-f99.google.com [209.85.160.99]) by mails.dpdk.org (Postfix) with ESMTP id DFC8740A89 for ; Sat, 15 Nov 2025 10:10:49 +0100 (CET) Received: by mail-oa1-f99.google.com with SMTP id 586e51a60fabf-3e898ba2a03so68789fac.0 for ; Sat, 15 Nov 2025 01:10:49 -0800 (PST) DKIM-Signature: v=1; a=rsa-sha256; c=relaxed/relaxed; d=iol.unh.edu; s=unh-iol; t=1763197849; x=1763802649; darn=dpdk.org; h=references:in-reply-to:cc:to:from:subject:message-id:date:from:to :cc:subject:date:message-id:reply-to; bh=GqGiN5qiRWy7euiwNhgLBwUopJne2E3x3dCo/RRa7eU=; b=cAfUXbK8/demF4Je/q+mv2oLTDIDz6xxmOmroczMQkPaWoeIk/TxvESP/c42089lU1 XQUCwJ3xqN4YBwRUta1ISS9BWBM94o0f4RccbpP1wi4fW5NY734f70azXSBHCbmIcv+f mSrlRlSDpvmcndtc9b6ItW3qaLeAOKqPKzrAc= X-Google-DKIM-Signature: v=1; a=rsa-sha256; c=relaxed/relaxed; d=1e100.net; s=20230601; t=1763197849; x=1763802649; h=references:in-reply-to:cc:to:from:subject:message-id:date:x-gm-gg :x-gm-message-state:from:to:cc:subject:date:message-id:reply-to; bh=GqGiN5qiRWy7euiwNhgLBwUopJne2E3x3dCo/RRa7eU=; b=CH5X86cHVPaQmFy3ukg7HrNTy+kM13qhzzkZGqTX6PDuuuZoz3tShmndQCnqDkDUYV dihW2UGBmkRfCP6TNcKy6l3wP3a7WVRyoPtUOCB+u2RM4TsBJ6JKDKY+hWkRfC4IQyps vE60uHa1XEtfIe6UamkKGKsBs014l+oI0zTUz2F/reLiCJocKcZepmq0EHWiIhnoTYdF l/n7nsWCJLimYqaWQ8MVB2NIUBdF2qf8R05PyITJEiRtL5FN7rmgQrbotjXWjWxDc00G 0LdvYIiKNzcCRt8VvLRfHUsYTdi9qWkT3ztsIw1wWJcc0aDiRP/aV+3WIcA4xOffROcQ iqrg== X-Gm-Message-State: AOJu0YyHvjWWS5FOYyivW7OKWkQ11eevv7Ti0tqJ3khKY9mlC0kGCZIL 8QejpHJUBUtr4Fq1pxUO7fUgtfFxYBlkyZdm6js55dW/4R6N6nARw5seADU9BrTgYvsQlXNqgWS NA5kJIJtfMnsVhT22l8rMiF9ApfJw2d5AkHpu2jXs/OvwGCp2saMFczKALZ8a X-Gm-Gg: ASbGncs9RDrHZCxHF1z/HFxTXsfmstv3XWpVo3imJyV49DOmetqU2A1CUYHpfox/2uj xa53hzcZ2SDz9UL4TVTTgec2M+DLdqfiVxKAuTmFRi6ixS3Uj2XayeDFp9xtgOsUFSX1sYoVWlC 2a+GlKptmA3zJgr4iIX0X+gRElRgQflSmyDm7eB8gfT4vCAUrvSSh6zSIXBjYLL+Yv/ohj0NkMH G3KWGjMRv0FirgdgWr04Iikbu4YhU0l7amj40cu4/GQJI8u2J33vWSA+rjrP9Q/zvYnv3vJ+7+n q0HxncZDe4HEVaqOXunYYcuHgYNCnl97LqGIIbP3M1Xpqqbbb+DaQuQFuvdKJWJaIwT5rgFWfe5 3n9ySeFE/ X-Google-Smtp-Source: AGHT+IExhQIG7Xa/yWT1x+i20dOoX41k7j3bgdu/gcF/ligthNRdfNtUAeuL8Jj3ZI3l+ykhjT2Y4whhyX9h X-Received: by 2002:a05:6870:75cb:b0:3d1:ed5a:135d with SMTP id 586e51a60fabf-3e868f17be4mr2806397fac.15.1763197849056; Sat, 15 Nov 2025 01:10:49 -0800 (PST) Received: from postal.iol.unh.edu (postal.iol.unh.edu. [2606:4100:3880:1234::84]) by smtp-relay.gmail.com with ESMTPS id 586e51a60fabf-3e85200cecesm631725fac.7.2025.11.15.01.10.48 (version=TLS1_2 cipher=ECDHE-ECDSA-AES128-GCM-SHA256 bits=128/128); Sat, 15 Nov 2025 01:10:49 -0800 (PST) X-Relaying-Domain: iol.unh.edu Date: Sat, 15 Nov 2025 01:10:49 -0800 (PST) Message-ID: <69184399.050a0220.3d9d56.f847SMTPIN_ADDED_MISSING@mx.google.com> Received: from [172.21.0.3] (unknown [172.18.0.240]) by postal.iol.unh.edu (Postfix) with ESMTP id 894C86051830; Sat, 15 Nov 2025 04:10:48 -0500 (EST) Subject: |SUCCESS| pw158782 [PATCH] examples/ipsec-secgw: add support for SM4 From: dpdklab@iol.unh.edu To: Test Report Cc: dpdk-test-reports@iol.unh.edu In-Reply-To: <20251114014616.43476-1-sunyang.wu@jaguarmicro.com> References: <20251114014616.43476-1-sunyang.wu@jaguarmicro.com> Content-Type: text/plain X-BeenThere: test-report@dpdk.org X-Mailman-Version: 2.1.29 Precedence: list List-Id: automatic DPDK test reports List-Unsubscribe: , List-Archive: List-Post: List-Help: List-Subscribe: , Errors-To: test-report-bounces@dpdk.org Test-Label: iol-compile-arm64-testing Test-Status: SUCCESS http://dpdk.org/patch/158782 _Testing PASS_ Submitter: Sunyang Wu Date: Friday, November 14 2025 01:46:16 DPDK git baseline: Repo:dpdk Branch: master CommitID:be0112878b4fc3a1b918370ed2fe615c52039d77 158782 --> testing pass Upstream job id: Generic-DPDK-Compile-Meson#444506 Test environment and result as below: +------------------------------+--------------------+ | Environment | dpdk_meson_compile | +==============================+====================+ | CentOS Stream 10 | PASS | +------------------------------+--------------------+ | Red Hat Enterprise Linux 9.5 | PASS | +------------------------------+--------------------+ | Ubuntu 20.04 | PASS | +------------------------------+--------------------+ | Debian GNU/Linux 12 | PASS | +------------------------------+--------------------+ | Fedora Linux 42 | PASS | +------------------------------+--------------------+ | Ubuntu 22.04 | PASS | +------------------------------+--------------------+ | Ubuntu 24.04 | PASS | +------------------------------+--------------------+ | CentOS Stream 9 | PASS | +------------------------------+--------------------+ CentOS Stream 10 Kernel: 5.4 Compiler: gcc gcc (GCC) 14.2.1 20250110 (Red Hat 14.2.1-8) Red Hat Enterprise Linux 9.5 Kernel: 5.4 Compiler: gcc gcc (GCC) 11.5.0 20240719 (Red Hat 11.5.0-2) Ubuntu 20.04 Kernel: 5.15 Compiler: aarch64-linux-gnu-gcc gcc (Ubuntu 9.4.0-1ubuntu1~20.04.2) 9.4.0 Debian GNU/Linux 12 Kernel: 5.4 Compiler: gcc gcc (Debian 12.2.0-14+deb12u1) 12.2.0 Fedora Linux 42 Kernel: 5.4 Compiler: gcc gcc (GCC) 15.2.1 20250808 (Red Hat 15.2.1-1) Ubuntu 22.04 Kernel: 5.4 Compiler: gcc gcc (Ubuntu 11.4.0-1ubuntu1~22.04) 11.4.0 Ubuntu 24.04 Kernel: 5.4 Compiler: gcc gcc (Ubuntu 13.3.0-6ubuntu2~24.04) 13.3.0 CentOS Stream 9 Kernel: 5.4 Compiler: gcc gcc (GCC) 11.5.0 20240719 (Red Hat 11.5.0-11) To view detailed results, visit: https://lab.dpdk.org/results/dashboard/patchsets/34588/ UNH-IOL DPDK Community Lab To manage your email subscriptions, visit: https://lab.dpdk.org/results/dashboard/preferences/subscriptions/