From mboxrd@z Thu Jan 1 00:00:00 1970 Return-Path: Received: from mails.dpdk.org (mails.dpdk.org [217.70.189.124]) by inbox.dpdk.org (Postfix) with ESMTP id 205CD48B17 for ; Sat, 15 Nov 2025 10:16:45 +0100 (CET) Received: from mails.dpdk.org (localhost [127.0.0.1]) by mails.dpdk.org (Postfix) with ESMTP id 1C816402CE; Sat, 15 Nov 2025 10:16:45 +0100 (CET) Received: from mail-qk1-f227.google.com (mail-qk1-f227.google.com [209.85.222.227]) by mails.dpdk.org (Postfix) with ESMTP id 3E81E402CE for ; Sat, 15 Nov 2025 10:16:44 +0100 (CET) Received: by mail-qk1-f227.google.com with SMTP id af79cd13be357-8b22a30986fso258285885a.2 for ; Sat, 15 Nov 2025 01:16:44 -0800 (PST) DKIM-Signature: v=1; a=rsa-sha256; c=relaxed/relaxed; d=iol.unh.edu; s=unh-iol; t=1763198203; x=1763803003; darn=dpdk.org; h=cc:to:from:subject:message-id:date:from:to:cc:subject:date :message-id:reply-to; bh=1WRLYLZ5mWrqfcu+74fhmUZf++c5SsFjESWfaOJkLRk=; b=FGvm1Jxgxudj+bDVeLXuQnN55dHYEDGcvfscsm2qJt+KG0xnQtKv9QQLQdwMSv7cfx PBLv/RV7bGZgQ4fZY40HQHy3J/jNqtxJ6Xmq7dsyv5WvTQyFabv6yhXkeihd9gnQNKTn 1C7X9/kkHE5hQKEYPqCpJe1ZWVtaOJGU0vaa0= X-Google-DKIM-Signature: v=1; a=rsa-sha256; c=relaxed/relaxed; d=1e100.net; s=20230601; t=1763198203; x=1763803003; h=cc:to:from:subject:message-id:date:x-gm-gg:x-gm-message-state:from :to:cc:subject:date:message-id:reply-to; bh=1WRLYLZ5mWrqfcu+74fhmUZf++c5SsFjESWfaOJkLRk=; b=prrs544W1mZnilR98EOfjfdI2YK12keW2de/dP6qSgZggN2uq6XjjH7E2DHM/SjGrL guoFZQZl6BveU+ntBT4H7GiPVMvH1nRT8I5h5um67wnQn8cehEoDhxfXwaYb8iFYnh20 bykUakMPxanEARdMh3A1hFJGvSavOvn+qsxQMJIhX4ky/ig7rUbTkB3EdObT3YyC0qGb kFcACfVGiXFFR5BvkKh2JtNaWomd4qiKsAwvCBuaGnyK4r2P/v2bg+ii2/yVEZ/gv3Wf EfFnLvVYFVJL0Hy7yKGW6GpFFfR0CaNH47vaFC/P/xNjsxbfOEgWDjOeQc+U+W4q9mmD xJig== X-Gm-Message-State: AOJu0YwWL+v28L8YguP3UfDLkslljq1PYbFiSEEQObL1BH3w+27bMtW/ OcQ3FEEd7hSZ75+aziFnN+H21ImMuKYzgSLID2m9+NRLR+R9Cs82po+GwjkPfrhIkyBLWow/sba JtfBr9eJ9SQuD+uNMblZ+xpXua2aWFZR7+HCI3ee5HFmB/xjTlC8L X-Gm-Gg: ASbGnctBicGYunDfH0Ei2x1mwCYtMf6jlvc+G6GsQpDzXkIeYLbrQQDHNHjR5JSNV92 aGxfTKef7LsCt59f79JmSxwp21Nj6PwpqZgqz93xEpJcu7wFzktyja2wrYP8Xg7WDB5pgwZPSna zoDeqWLlRFjq0Zm/BKBtylaFGNooulpd+pK7nLT56Qx66R8djh+OmBwEYo+TFObU9tgF/0LstOu lVIdU5mPVLBtXVamer6f0I8DywEk5rTo2INTKB++FnLCsHk7a6lAXxj2F9brZ6u8m+FwXSaNixH uVNRWGy+0oetnHy5YrdCzdKYlCKWWl8oS4t27Sn6XuKkvYAHD8CZR4R+n9IznWCJQxePfhD85g9 oi+jZ9WJF X-Google-Smtp-Source: AGHT+IFIrODPFOVAze7Iydvtd+0Db/mLCbwFYz83ke4OUaTO4nLuSz06O9rTRXqDZWLSCG35jNIm2u2bI/rz X-Received: by 2002:a05:620a:c54:b0:8b0:f2bd:4764 with SMTP id af79cd13be357-8b2c31c7836mr833143685a.63.1763198203531; Sat, 15 Nov 2025 01:16:43 -0800 (PST) Received: from postal.iol.unh.edu (postal.iol.unh.edu. [2606:4100:3880:1234::84]) by smtp-relay.gmail.com with ESMTPS id af79cd13be357-8b2aeef9a87sm66756385a.4.2025.11.15.01.16.43 (version=TLS1_2 cipher=ECDHE-ECDSA-AES128-GCM-SHA256 bits=128/128); Sat, 15 Nov 2025 01:16:43 -0800 (PST) X-Relaying-Domain: iol.unh.edu Date: Sat, 15 Nov 2025 01:16:43 -0800 (PST) Message-ID: <691844fb.050a0220.f1358.044eSMTPIN_ADDED_MISSING@mx.google.com> Received: from [172.21.0.3] (unknown [172.18.0.240]) by postal.iol.unh.edu (Postfix) with ESMTP id 396986051830; Sat, 15 Nov 2025 04:16:43 -0500 (EST) Subject: |SUCCESS| [GIT MASTER] 9784db2c5af1eecd02fc21132b59b5b266039b87 From: dpdklab@iol.unh.edu To: Test Report Cc: dpdk-test-reports@iol.unh.edu, Xueming Li , Christian Ehrhardt , Kevin Traynor , Luca Boccassi Content-Type: text/plain X-BeenThere: test-report@dpdk.org X-Mailman-Version: 2.1.29 Precedence: list List-Id: automatic DPDK test reports List-Unsubscribe: , List-Archive: List-Post: List-Help: List-Subscribe: , Errors-To: test-report-bounces@dpdk.org _Testing PASS_ Branch: tags/v22.11 9784db2c5af1eecd02fc21132b59b5b266039b87 --> testing pass Upstream job id: Generic-DPDK-Compile-Meson#444763 Test environment and result as below: +-------------------------------+--------------------+ | Environment | dpdk_meson_compile | +===============================+====================+ | CentOS Stream 9 | PASS | +-------------------------------+--------------------+ | CentOS Stream 10 | PASS | +-------------------------------+--------------------+ | Fedora Linux 42 | PASS | +-------------------------------+--------------------+ | FreeBSD 14.2 | PASS | +-------------------------------+--------------------+ | Ubuntu 20.04 | PASS | +-------------------------------+--------------------+ | Red Hat Enterprise Linux 9.5 | PASS | +-------------------------------+--------------------+ | Debian GNU/Linux 12 | PASS | +-------------------------------+--------------------+ | openSUSE Leap 15.6 | PASS | +-------------------------------+--------------------+ | Ubuntu 22.04 | PASS | +-------------------------------+--------------------+ | Red Hat Enterprise Linux 8.10 | PASS | +-------------------------------+--------------------+ | Ubuntu 24.04 | PASS | +-------------------------------+--------------------+ CentOS Stream 9 Kernel: 5.15 Compiler: gcc gcc (GCC) 11.5.0 20240719 (Red Hat 11.5.0-11) CentOS Stream 10 Kernel: 5.15 Compiler: gcc gcc (GCC) 14.2.1 20250110 (Red Hat 14.2.1-8) Fedora Linux 42 Kernel: 5.15 Compiler: gcc gcc (GCC) 15.2.1 20250808 (Red Hat 15.2.1-1) FreeBSD 14.2 Kernel: 14.2-RELEASE Compiler: clang 18.1.6 Ubuntu 20.04 Kernel: 4.19 Compiler: gcc gcc (Ubuntu 9.4.0-1ubuntu1~20.04.2) 9.4.0 Red Hat Enterprise Linux 9.5 Kernel: 5.15 Compiler: gcc gcc (GCC) 11.5.0 20240719 (Red Hat 11.5.0-2) Debian GNU/Linux 12 Kernel: 5.15 Compiler: gcc gcc (Debian 12.2.0-14+deb12u1) 12.2.0 openSUSE Leap 15.6 Kernel: 5.15 Compiler: gcc gcc (SUSE Linux) 7.5.0 Ubuntu 22.04 Kernel: 5.15 Compiler: gcc gcc (Ubuntu 11.4.0-1ubuntu1~22.04) 11.4.0 Red Hat Enterprise Linux 8.10 Kernel: 5.15 Compiler: gcc gcc (GCC) 8.5.0 20210514 (Red Hat 8.5.0-22) Ubuntu 24.04 Kernel: 5.15 Compiler: gcc gcc (Ubuntu 13.3.0-6ubuntu2~24.04) 13.3.0 To view detailed results, visit: https://lab.dpdk.org/results/dashboard/tarballs/35606/ UNH-IOL DPDK Community Lab To manage your email subscriptions, visit: https://lab.dpdk.org/results/dashboard/preferences/subscriptions/