From mboxrd@z Thu Jan 1 00:00:00 1970 Return-Path: Received: from mails.dpdk.org (mails.dpdk.org [217.70.189.124]) by inbox.dpdk.org (Postfix) with ESMTP id 843FA48B17 for ; Sat, 15 Nov 2025 10:19:35 +0100 (CET) Received: from mails.dpdk.org (localhost [127.0.0.1]) by mails.dpdk.org (Postfix) with ESMTP id 807A1402CE; Sat, 15 Nov 2025 10:19:35 +0100 (CET) Received: from mail-io1-f98.google.com (mail-io1-f98.google.com [209.85.166.98]) by mails.dpdk.org (Postfix) with ESMTP id 52C81402CE for ; Sat, 15 Nov 2025 10:19:34 +0100 (CET) Received: by mail-io1-f98.google.com with SMTP id ca18e2360f4ac-948614ceac0so107813139f.0 for ; Sat, 15 Nov 2025 01:19:34 -0800 (PST) DKIM-Signature: v=1; a=rsa-sha256; c=relaxed/relaxed; d=iol.unh.edu; s=unh-iol; t=1763198373; x=1763803173; darn=dpdk.org; h=cc:to:from:subject:message-id:date:from:to:cc:subject:date :message-id:reply-to; bh=PIDekkUAK9gCv2QsqzYp/9h3j4M24MknCxo085J+P2w=; b=XuudutNEsE1WFHDZ6o68r8Fpu+TZikYXsk9ckD2DQNZBIdTulOE908nRrc9+h3P+72 pzXiVqFsfN+9lJXSyLNH6SX3HWFHZ9x+G7OMn2Tq8O/SNNnXQegjqnCQ7WbDm7bGMZXv SZ1F0jlFeA90WSrP2lBp7PvovqOvFKaXL+E/g= X-Google-DKIM-Signature: v=1; a=rsa-sha256; c=relaxed/relaxed; d=1e100.net; s=20230601; t=1763198373; x=1763803173; h=cc:to:from:subject:message-id:date:x-gm-gg:x-gm-message-state:from :to:cc:subject:date:message-id:reply-to; bh=PIDekkUAK9gCv2QsqzYp/9h3j4M24MknCxo085J+P2w=; b=qs6AiJa599fPdQGgWGX1qceOhJOKOGXLyTllFj/J6flp8WIrEpzUMZw3ueUubnm/7z w/Dvd5jGimQCz2WYUtvdK8bNDVvl2N0IAlJBag4OeSl7tInX2K+thXk/3xBufbF1VPkM hOoZHNAc3RxTq/CEs/zyTBr93UPS7nxGOrkHkK5b4Lo8oc7xhBZWMkb/sAkH2AuMzyfy jtqrU24HoxcvYSoeqc0CKcJ3XAeDlEGaz4lpqczVbbCYNTV5Lpz/SAOgCIOrfjr2RXR7 XQe7f7JOVaHxnhox/lWtGLTsPA5UykUUkwiYvMzZEe3QK9Cd5LZ4P5QvtNjA9WC7DK88 qStA== X-Gm-Message-State: AOJu0Yz13IG2UQ34VFI9ujIRPemzBij3hoLaUHQOeaKaN+a4/dOumbpK zcGw3TiSi1YOirC2sBbpDHohX/RwVQ7ZF7HBiCG/gx2q5/jvb+j0qbTRkJkTlxjrOkJsV5OcScf RijSCJaK+9EhGLhyMXKVpuff2k85sX7YZmzYY X-Gm-Gg: ASbGncuBWLXJvz0cwE6IWkF0feIAmmrMnRKJbzvHJFDmeYeicJDjx3kemObiw+1ghon jt8OVrdNio7zKciN71OhSI0qtCvN48KiVNpI+LF7XPneZkax7oaJnB3m5KNPxMLR9Log4iCYU+7 YgM+EYVsVdd0+SMT/gebiiEfvgM0SpGasX065u+fgELzqcfAWQEx4PYs8IzsmN9Zl1oWv9uGlbo a6dE6g5c5sl8d2X9Z60EoSMzbYTULAlw2pK3YpVavDdYhuhA280Wi4GWIK6ueVn0goXkxqw9Aeu HimzCOz0y7cKGtdvj0lfFmaWb4STxg3b2zZP/mNmD3O0EUxSHf4hfWQtk33xNbTggfsu7+aAEoY SpZyAw8thg3a8ki5d/YZuxBQilbf8M3M= X-Google-Smtp-Source: AGHT+IE9xBEqFUUmzL2Sd2Xv0FSkzG27fxF+cy4jjSPz6yWcLcRVp1+bEWSkVVwJXrjmE4RUWX9lqMQtJe6o X-Received: by 2002:a05:6602:1643:b0:948:e11f:5b4c with SMTP id ca18e2360f4ac-948e11f5bd3mr770639039f.19.1763198373557; Sat, 15 Nov 2025 01:19:33 -0800 (PST) Received: from postal.iol.unh.edu (postal.iol.unh.edu. [132.177.123.84]) by smtp-relay.gmail.com with ESMTPS id ca18e2360f4ac-948d2d35c30sm37119139f.11.2025.11.15.01.19.33 (version=TLS1_2 cipher=ECDHE-ECDSA-AES128-GCM-SHA256 bits=128/128); Sat, 15 Nov 2025 01:19:33 -0800 (PST) X-Relaying-Domain: iol.unh.edu Date: Sat, 15 Nov 2025 01:19:33 -0800 (PST) Message-ID: <691845a5.5d0a0220.9e167.34aaSMTPIN_ADDED_MISSING@mx.google.com> Received: from [172.21.0.3] (unknown [172.18.0.240]) by postal.iol.unh.edu (Postfix) with ESMTP id DAD3D6051830; Sat, 15 Nov 2025 04:19:32 -0500 (EST) Subject: |SUCCESS| [GIT MASTER] 0bd935abcb823f581ce53986986aa54eaf6f8140 From: dpdklab@iol.unh.edu To: Test Report Cc: dpdk-test-reports@iol.unh.edu, Xueming Li , Christian Ehrhardt , Kevin Traynor , Luca Boccassi Content-Type: text/plain X-BeenThere: test-report@dpdk.org X-Mailman-Version: 2.1.29 Precedence: list List-Id: automatic DPDK test reports List-Unsubscribe: , List-Archive: List-Post: List-Help: List-Subscribe: , Errors-To: test-report-bounces@dpdk.org _Testing PASS_ Branch: tags/v24.11 0bd935abcb823f581ce53986986aa54eaf6f8140 --> testing pass Upstream job id: Generic-Unit-Test-DPDK#393058 Test environment and result as below: +-------------------------------+----------------+ | Environment | dpdk_unit_test | +===============================+================+ | CentOS Stream 9 | PASS | +-------------------------------+----------------+ | CentOS Stream 10 | PASS | +-------------------------------+----------------+ | Debian GNU/Linux 12 | PASS | +-------------------------------+----------------+ | Fedora Linux 40 | PASS | +-------------------------------+----------------+ | Fedora Linux 41 | PASS | +-------------------------------+----------------+ | Fedora Linux 42 | PASS | +-------------------------------+----------------+ | Ubuntu 20.04 | PASS | +-------------------------------+----------------+ | Red Hat Enterprise Linux 8.10 | PASS | +-------------------------------+----------------+ | Ubuntu 22.04 | PASS | +-------------------------------+----------------+ | Red Hat Enterprise Linux 9.5 | PASS | +-------------------------------+----------------+ | Ubuntu 24.04 | PASS | +-------------------------------+----------------+ CentOS Stream 9 Kernel: 5.15 Compiler: gcc gcc (GCC) 11.5.0 20240719 (Red Hat 11.5.0-11) CentOS Stream 10 Kernel: 5.15 Compiler: gcc gcc (GCC) 14.2.1 20250110 (Red Hat 14.2.1-8) Debian GNU/Linux 12 Kernel: 5.15 Compiler: gcc gcc (Debian 12.2.0-14+deb12u1) 12.2.0 Fedora Linux 40 Kernel: 5.15 Compiler: gcc gcc (GCC) 14.2.1 20240912 (Red Hat 14.2.1-3) Fedora Linux 41 Kernel: 5.15 Compiler: clang gcc (GCC) 14.3.1 20250523 (Red Hat 14.3.1-1) Fedora Linux 42 Kernel: 5.15 Compiler: gcc gcc (GCC) 15.2.1 20250808 (Red Hat 15.2.1-1) Ubuntu 20.04 Kernel: 5.15 Compiler: gcc gcc (Ubuntu 9.4.0-1ubuntu1~20.04.2) 9.4.0 Red Hat Enterprise Linux 8.10 Kernel: 5.15 Compiler: gcc gcc (GCC) 8.5.0 20210514 (Red Hat 8.5.0-22) Ubuntu 22.04 Kernel: 5.15 Compiler: gcc gcc (Ubuntu 11.4.0-1ubuntu1~22.04) 11.4.0 Red Hat Enterprise Linux 9.5 Kernel: 5.15 Compiler: gcc gcc (GCC) 11.5.0 20240719 (Red Hat 11.5.0-2) Ubuntu 24.04 Kernel: 5.15 Compiler: gcc gcc (Ubuntu 13.3.0-6ubuntu2~24.04) 13.3.0 To view detailed results, visit: https://lab.dpdk.org/results/dashboard/tarballs/35608/ UNH-IOL DPDK Community Lab To manage your email subscriptions, visit: https://lab.dpdk.org/results/dashboard/preferences/subscriptions/