From mboxrd@z Thu Jan 1 00:00:00 1970 Return-Path: Received: from mails.dpdk.org (mails.dpdk.org [217.70.189.124]) by inbox.dpdk.org (Postfix) with ESMTP id 1935648B17 for ; Sat, 15 Nov 2025 10:24:56 +0100 (CET) Received: from mails.dpdk.org (localhost [127.0.0.1]) by mails.dpdk.org (Postfix) with ESMTP id ED4C1402CE; Sat, 15 Nov 2025 10:24:55 +0100 (CET) Received: from mail-io1-f97.google.com (mail-io1-f97.google.com [209.85.166.97]) by mails.dpdk.org (Postfix) with ESMTP id ACE58402CE for ; Sat, 15 Nov 2025 10:24:54 +0100 (CET) Received: by mail-io1-f97.google.com with SMTP id ca18e2360f4ac-940d9772e28so114091039f.2 for ; Sat, 15 Nov 2025 01:24:54 -0800 (PST) DKIM-Signature: v=1; a=rsa-sha256; c=relaxed/relaxed; d=iol.unh.edu; s=unh-iol; t=1763198694; x=1763803494; darn=dpdk.org; h=references:in-reply-to:cc:to:from:subject:message-id:date:from:to :cc:subject:date:message-id:reply-to; bh=cDMjPmeuFQ/1Gtegk4OmCPQnQJ0vaIloMVhM+0WAMIk=; b=fz0CF89BQyr6FkHtoMovit1VT0djCu/49FZ198i6txpniiWYZLHS+Vf7FkJ/yC6tpn BzetFkg17dQA4id3hav5KryHpPzj4Ga7+4ESGjcKa72BiSdb5/IR4UmgqxSFQ0uWLuFj 7PBtNXFM+AFK/AqH/MM5Gf5o94irgNs8+3GNk= X-Google-DKIM-Signature: v=1; a=rsa-sha256; c=relaxed/relaxed; d=1e100.net; s=20230601; t=1763198694; x=1763803494; h=references:in-reply-to:cc:to:from:subject:message-id:date:x-gm-gg :x-gm-message-state:from:to:cc:subject:date:message-id:reply-to; bh=cDMjPmeuFQ/1Gtegk4OmCPQnQJ0vaIloMVhM+0WAMIk=; b=A5wpVlqNWuOdyciOm88ltN835ZfvS3iWE5p/mo+AzNX76MYZaEDf6ZEnpz2B6HV+yX 3QYXaWa/4o+61C84Kb9JC029ivADOvrk89qdYbWy9uI/lR6oTg5xB3nHOLCdX8Ncg2fg HHcabeoqdViGZqGIYfUWBDL8O+afcMyQpksIBJJeEi4F1qcLmsoGipFwq2t3fjdqbunI EFIOaPqEEL91mTU1859cWZpTdfiYMGp/adZTGEA7/QUKwQLMyRBB1WDHVD5SbSbPFi0Y LT/VozTxSYgDht4iH2sKtURG923RN/aGOdzusk777tnTRKP1nXzbwfpaj2fuXum1jNnk YvoQ== X-Gm-Message-State: AOJu0YwnvwuLOnz47UXe+2PzcMJsL+FDVLIix/iDjx5Yi99FeYuR/2Xe OLEoFk4yIHmCfSfqZsBlmNR0n5g8mvzA9gQcoXpByZqIR/xKDB/G3qGLBBRl43H4Eqtic+V5TXk 6NYRbLNsoMR23qLrBdwObIiXGrGiWBORs0neg0y635hnY X-Gm-Gg: ASbGncueJkcozc9H7NoDHwOpZ68M9pep2B5z3tbIPxp/3H80tZrZuCb4jJbdvqpacCQ A+9sFD943PLdbbNxKE3SkmtwMBYDStfRSCb8z3rX9ncodVSyxzbBWRIEI1C/z9mmw4ejXBqptHO 6JlZwXnPBTTOVVtymJBHKRZw1atZ06DhNnctCDf2eLFK8s8M1KLxCOlvnl6UzAQXRObRyotCx8O XRgoXrB0Hvwuz1HYWv0w4EtTnxQKcP552NlmgpCFT3/iiUfe0/TrNb3Ni/huBC0Qz76JTcoFzOc wyoAbZzYdw6IimXgEWKWmgHLWknjsNDcmk551g1hnDeRF57B23YL/liKk2OyzY039BEDL5rwPI3 wbnSJSf5JlUiu1XkRru1G725f9elz9OM= X-Google-Smtp-Source: AGHT+IEuHfDDa9FbsT5UqV1gufczPbmtVqYq4EW1HqXJjYM3eShZxUKvmnL4eyUe2sB3A9voAvJT06orSAoR X-Received: by 2002:a05:6638:a889:b0:55d:59d8:5c3a with SMTP id 8926c6da1cb9f-5b7c9dd598amr1384906173.16.1763198693893; Sat, 15 Nov 2025 01:24:53 -0800 (PST) Received: from postal.iol.unh.edu (postal.iol.unh.edu. [132.177.123.84]) by smtp-relay.gmail.com with ESMTPS id 8926c6da1cb9f-5b7bd3356c2sm385123173.32.2025.11.15.01.24.53 (version=TLS1_2 cipher=ECDHE-ECDSA-AES128-GCM-SHA256 bits=128/128); Sat, 15 Nov 2025 01:24:53 -0800 (PST) X-Relaying-Domain: iol.unh.edu Date: Sat, 15 Nov 2025 01:24:53 -0800 (PST) Message-ID: <691846e5.050a0220.338768.257bSMTPIN_ADDED_MISSING@mx.google.com> Received: from [172.21.0.2] (unknown [172.18.0.240]) by postal.iol.unh.edu (Postfix) with ESMTP id 6C8A06051830; Sat, 15 Nov 2025 04:24:53 -0500 (EST) Subject: |SUCCESS| pw158815 [PATCH] net/qede: remove unused file From: dpdklab@iol.unh.edu To: Test Report Cc: dpdk-test-reports@iol.unh.edu In-Reply-To: <20251114180251.1233757-1-stephen@networkplumber.org> References: <20251114180251.1233757-1-stephen@networkplumber.org> Content-Type: text/plain X-BeenThere: test-report@dpdk.org X-Mailman-Version: 2.1.29 Precedence: list List-Id: automatic DPDK test reports List-Unsubscribe: , List-Archive: List-Post: List-Help: List-Subscribe: , Errors-To: test-report-bounces@dpdk.org Test-Label: iol-unit-amd64-testing Test-Status: SUCCESS http://dpdk.org/patch/158815 _Testing PASS_ Submitter: Stephen Hemminger Date: Friday, November 14 2025 18:02:51 DPDK git baseline: Repo:dpdk-next-net-mrvl Branch: master CommitID:db4c93a4c6e088346c7e6d7e744178295b568461 158815 --> testing pass Upstream job id: Generic-VM-Unit-Test-DPDK#32586 Test environment and result as below: +-------------------------------+----------------+ | Environment | dpdk_unit_test | +===============================+================+ | Fedora Linux 41 | PASS | +-------------------------------+----------------+ | Fedora Linux 40 | PASS | +-------------------------------+----------------+ | CentOS Stream 9 | PASS | +-------------------------------+----------------+ | Debian GNU/Linux 12 | PASS | +-------------------------------+----------------+ | Red Hat Enterprise Linux 8.10 | PASS | +-------------------------------+----------------+ | CentOS Stream 10 | PASS | +-------------------------------+----------------+ | Ubuntu 20.04 | PASS | +-------------------------------+----------------+ | Ubuntu 22.04 | PASS | +-------------------------------+----------------+ | Fedora Linux 42 | PASS | +-------------------------------+----------------+ | Ubuntu 24.04 | PASS | +-------------------------------+----------------+ | Red Hat Enterprise Linux 9.5 | PASS | +-------------------------------+----------------+ | Windows Server 2022 | PASS | +-------------------------------+----------------+ Fedora Linux 41 Kernel: 5.15 Compiler: clang gcc (GCC) 14.3.1 20250523 (Red Hat 14.3.1-1) Fedora Linux 40 Kernel: 5.15 Compiler: gcc gcc (GCC) 14.2.1 20240912 (Red Hat 14.2.1-3) CentOS Stream 9 Kernel: 5.15 Compiler: gcc gcc (GCC) 11.5.0 20240719 (Red Hat 11.5.0-11) Debian GNU/Linux 12 Kernel: 5.15 Compiler: gcc gcc (Debian 12.2.0-14+deb12u1) 12.2.0 Red Hat Enterprise Linux 8.10 Kernel: 5.15 Compiler: gcc gcc (GCC) 8.5.0 20210514 (Red Hat 8.5.0-22) CentOS Stream 10 Kernel: 5.15 Compiler: gcc gcc (GCC) 14.2.1 20250110 (Red Hat 14.2.1-8) Ubuntu 20.04 Kernel: 5.15 Compiler: gcc gcc (Ubuntu 9.4.0-1ubuntu1~20.04.2) 9.4.0 Ubuntu 22.04 Kernel: 5.15 Compiler: gcc gcc (Ubuntu 11.4.0-1ubuntu1~22.04) 11.4.0 Fedora Linux 42 Kernel: 5.15 Compiler: clang gcc (GCC) 15.2.1 20250808 (Red Hat 15.2.1-1) Ubuntu 24.04 Kernel: 5.15 Compiler: gcc gcc (Ubuntu 13.3.0-6ubuntu2~24.04) 13.3.0 Red Hat Enterprise Linux 9.5 Kernel: 5.15 Compiler: gcc gcc (GCC) 11.5.0 20240719 (Red Hat 11.5.0-2) Windows Server 2022 Kernel: 10.0.20348.2031 Compiler: clang 15.0.7, gcc 14.1.0 (MinGW), and MSVC VS 19.39.33521 To view detailed results, visit: https://lab.dpdk.org/results/dashboard/patchsets/34597/ UNH-IOL DPDK Community Lab To manage your email subscriptions, visit: https://lab.dpdk.org/results/dashboard/preferences/subscriptions/