From mboxrd@z Thu Jan 1 00:00:00 1970 Return-Path: Received: from mails.dpdk.org (mails.dpdk.org [217.70.189.124]) by inbox.dpdk.org (Postfix) with ESMTP id 98ED448B17 for ; Sat, 15 Nov 2025 11:01:24 +0100 (CET) Received: from mails.dpdk.org (localhost [127.0.0.1]) by mails.dpdk.org (Postfix) with ESMTP id 7869140288; Sat, 15 Nov 2025 11:01:24 +0100 (CET) Received: from mail-pj1-f97.google.com (mail-pj1-f97.google.com [209.85.216.97]) by mails.dpdk.org (Postfix) with ESMTP id 520D840288 for ; Sat, 15 Nov 2025 11:01:22 +0100 (CET) Received: by mail-pj1-f97.google.com with SMTP id 98e67ed59e1d1-340bb1cb9ddso2468793a91.2 for ; Sat, 15 Nov 2025 02:01:22 -0800 (PST) DKIM-Signature: v=1; a=rsa-sha256; c=relaxed/relaxed; d=iol.unh.edu; s=unh-iol; t=1763200881; x=1763805681; darn=dpdk.org; h=references:in-reply-to:cc:to:from:subject:message-id:date:from:to :cc:subject:date:message-id:reply-to; bh=I/Kqcaki5lMaq9nlrlOHQejtRB84fENxUaUHbS7MIu4=; b=dWyw0iKgzRlBzoxsLPdterpR07Wdi+rdmIyhm9eqkXEzNh6enq3eqdp0iYpC+uwpd9 NV5m7Ia9+O+1fmG0bIl62fxcoLRJffDv3c31Bpj040TyyA3At/03xmzS7Qj/0VF07dne ueo48m7nUMyyMZMoH2XXFQlhcefeF/gq4aF/o= X-Google-DKIM-Signature: v=1; a=rsa-sha256; c=relaxed/relaxed; d=1e100.net; s=20230601; t=1763200881; x=1763805681; h=references:in-reply-to:cc:to:from:subject:message-id:date:x-gm-gg :x-gm-message-state:from:to:cc:subject:date:message-id:reply-to; bh=I/Kqcaki5lMaq9nlrlOHQejtRB84fENxUaUHbS7MIu4=; b=cboYjwy9Img590Rf6wkug1Gjb4Vifk2qOzb8kWeEeViqziJqkyu5Lb34r/IUENrby3 96fqK0rlE7tu8GG2W5NWfuegfcipfosBZ9UnLX7wo5z1D3vKOlZR5Q6+E3K2mcDkB5Ta lx/Wl7RbQJzFr/pvbMeXxrp6BdepqmYu+VflsG2B2LswTxkyASAqAs88W4k8A/Zg3K9T IHMJMmilDvROhQ5lhKQ/1DiCjPL9pfWn5MxT88VWDNUMnt1/i0I0H3Ptw+fFjOoCXRxr tSdv7sRPoFopNWVN2CY2uaGbXX51KYCtVJH2Tl5yXhbdAEpN3QZiOyzogx/9pPp4cyHC Clqg== X-Gm-Message-State: AOJu0YwAgaT7yiuhjFViwj07iNw9L1kMLE/d5TIBpFNwCJAOQJXrKGW4 8Gx9MpePxr17BlnV192AJJ1vx4FLKUkeajSp6z+lRmx8SyJqehMS/+ifuAE/WRXhNF5AKJ3qk4V s7S84zYhG338j9+Xo7h1ZQl0QhLCx80tb5SOAZ2TpXIt5+6N4LmXnzm6WntGN X-Gm-Gg: ASbGncshszDR/OEafOnxbE4SiWf+lbhN4tyibUIpO94vc5HdExN5OTlEuc7nX5DdkfL XPBEgnIGVfg3sp7pRvNosSws6OiIp+4voUjRMMBYMWuT0dIvGTnnzXx4lhB9Gq6EMD7CUKicBPY 3oe2CPOIOrnTfWdYBtuzAXc/YkjzK/EVw8UQwRnlbJU4PNK45r1uiz4oe8ImZPKeK76cmZpVHPA 71GLiofv6XchUfY1COpMJvNa52jHNDeGOqj3X+akWnP6suGJmEytBufdX26Ryor9fRhk9vN41Qr QPy/daDHnDuf5QTKARyiBrsbsaKrSUxTEyfkNAhbeM+ZA2cXaJOX4uDUG91b5Z6eypTDM5mzNGe T0XnTwtKE X-Google-Smtp-Source: AGHT+IGgW2qofhxGxYppPuyau6SISIQfrRL2p5FhoET0wbXvvUPO4RMwYOAUL/Z7rW86KGvzZ48yUW0x6uuV X-Received: by 2002:a17:90b:5208:b0:341:88ba:c6d3 with SMTP id 98e67ed59e1d1-343fa62facamr7126576a91.23.1763200881365; Sat, 15 Nov 2025 02:01:21 -0800 (PST) Received: from postal.iol.unh.edu (postal.iol.unh.edu. [2606:4100:3880:1234::84]) by smtp-relay.gmail.com with ESMTPS id 98e67ed59e1d1-343ed570798sm947201a91.5.2025.11.15.02.01.21 (version=TLS1_2 cipher=ECDHE-ECDSA-AES128-GCM-SHA256 bits=128/128); Sat, 15 Nov 2025 02:01:21 -0800 (PST) X-Relaying-Domain: iol.unh.edu Date: Sat, 15 Nov 2025 02:01:21 -0800 (PST) Message-ID: <69184f71.170a0220.8ead.eae1SMTPIN_ADDED_MISSING@mx.google.com> Received: from [172.21.0.4] (unknown [172.18.0.240]) by postal.iol.unh.edu (Postfix) with ESMTP id A6C136051830; Sat, 15 Nov 2025 05:01:20 -0500 (EST) Subject: |SUCCESS| pw158821 [PATCH] net/mlx5: fix higher flow tag indexes sup From: dpdklab@iol.unh.edu To: Test Report Cc: dpdk-test-reports@iol.unh.edu In-Reply-To: <20251114201720.1639238-1-dsosnowski@nvidia.com> References: <20251114201720.1639238-1-dsosnowski@nvidia.com> Content-Type: text/plain X-BeenThere: test-report@dpdk.org X-Mailman-Version: 2.1.29 Precedence: list List-Id: automatic DPDK test reports List-Unsubscribe: , List-Archive: List-Post: List-Help: List-Subscribe: , Errors-To: test-report-bounces@dpdk.org Test-Label: iol-compile-amd64-testing Test-Status: SUCCESS http://dpdk.org/patch/158821 _Testing PASS_ Submitter: Dariusz Sosnowski Date: Friday, November 14 2025 20:17:20 DPDK git baseline: Repo:dpdk-next-net-mlx Branch: master CommitID:ae657d56b1f0ea979b3f611edf28d773efc2ddcf 158821 --> testing pass Upstream job id: Windows-Compile-DPDK-VS#7565 Test environment and result as below: +---------------------+--------------------+-------------------+ | Environment | dpdk_meson_compile | dpdk_msvc_compile | +=====================+====================+===================+ | Ubuntu 20.04 | PASS | SKIPPED | +---------------------+--------------------+-------------------+ | FreeBSD 14.2 | PASS | SKIPPED | +---------------------+--------------------+-------------------+ | Windows Server 2022 | SKIPPED | PASS | +---------------------+--------------------+-------------------+ Ubuntu 20.04 Kernel: 4.19 Compiler: gcc gcc (Ubuntu 9.4.0-1ubuntu1~20.04.2) 9.4.0 FreeBSD 14.2 Kernel: 14.2-RELEASE Compiler: clang 18.1.6 Windows Server 2022 Kernel: 10.0.20348.2031 Compiler: clang 15.0.7, gcc 14.1.0 (MinGW), and MSVC VS 19.39.33521 To view detailed results, visit: https://lab.dpdk.org/results/dashboard/patchsets/34603/ UNH-IOL DPDK Community Lab To manage your email subscriptions, visit: https://lab.dpdk.org/results/dashboard/preferences/subscriptions/