From mboxrd@z Thu Jan 1 00:00:00 1970 Return-Path: Received: from mails.dpdk.org (mails.dpdk.org [217.70.189.124]) by inbox.dpdk.org (Postfix) with ESMTP id 9EB4D48B17 for ; Sat, 15 Nov 2025 11:02:30 +0100 (CET) Received: from mails.dpdk.org (localhost [127.0.0.1]) by mails.dpdk.org (Postfix) with ESMTP id 9947C40288; Sat, 15 Nov 2025 11:02:30 +0100 (CET) Received: from mail-pl1-f227.google.com (mail-pl1-f227.google.com [209.85.214.227]) by mails.dpdk.org (Postfix) with ESMTP id 7B01C40288 for ; Sat, 15 Nov 2025 11:02:29 +0100 (CET) Received: by mail-pl1-f227.google.com with SMTP id d9443c01a7336-2984dfae0acso35255435ad.0 for ; Sat, 15 Nov 2025 02:02:29 -0800 (PST) DKIM-Signature: v=1; a=rsa-sha256; c=relaxed/relaxed; d=iol.unh.edu; s=unh-iol; t=1763200948; x=1763805748; darn=dpdk.org; h=references:in-reply-to:cc:to:from:subject:message-id:date:from:to :cc:subject:date:message-id:reply-to; bh=mL5XnA5F8PzXLz6dFLCcjPaXkoNc06B5qvsurn6U8LQ=; b=Fu4VR6tUjPb8t+6v5iDc9I0bAy8SrF2jLXM1xtil/svpWLIGB0C0rPxPE3d6HrDk1L DNzUd2/AXmAVymhTMOXBMmi573JwchYpxP5OwIwG+ga1xjvdYgbbTZQTS9QGiA5eDzJ4 7uZlpefkoiVkIrUz4NdMBwgSCmqgGZLByBwy8= X-Google-DKIM-Signature: v=1; a=rsa-sha256; c=relaxed/relaxed; d=1e100.net; s=20230601; t=1763200948; x=1763805748; h=references:in-reply-to:cc:to:from:subject:message-id:date:x-gm-gg :x-gm-message-state:from:to:cc:subject:date:message-id:reply-to; bh=mL5XnA5F8PzXLz6dFLCcjPaXkoNc06B5qvsurn6U8LQ=; b=rc3P5mNh2NnkDX1d6bNM/KovprMl7TLYsEugCuW+2QtQM+vVsFfUJOkn4xT8HyeqvE 8uf3NzRQdbldIbmplzwwe3yM43xiXvtQHqeKAYRRAP3qUby7a5gIV4pC/SjPPKsr5cMN Y6bdalGyC/5ICXbcPiOfrHoxD0ZaMoMPtFtLQ+6oKYiUyRng3zAw5Ytt47aKjMOdNSCF EO+5uwIgTDabVMoEnbUtAanLz6dt7amL+cQKjzGjbpuXOD0KoAYUlfA2ifQViz8LxQk1 JU8YZPocZvCXzgJt35uKgH5ot8I+ZGgmNvkwvdId1y9rU8fFkoULqTFmhCLduCXUz394 7+WQ== X-Gm-Message-State: AOJu0YzwxVaCijLtYy5fxLqLzIlWNtei+wW3o+lQuXD8T19Rx/DFCD5J wqbmzXTAB0ZmaXdMc3xzeNCMxFZVigtp6ooWaKRNDArkUHVVMe7JiO7a8sv/aV5jE/tUwmxn+84 /afasasLNAte8LsWFBP+CyuSMVO/k8HyGPS3krR4wfJnAiROena4trs0duO0x X-Gm-Gg: ASbGncvAyfE+loSD8EUkA8skvv8lJehXKOkcbFh+piNZ5kJ2yj8NpkZCHyiCa4VjJ+M t5OhljmZ2lH52aWszrcT19fDbAEKFCzQCqeM4rKHU9JRY9l1BgA2fLdq1dz10P8d9i4dUW3Ziyv 1ifLpYVKSXwopaxpwI3MqgMgB/GAq3r7TGAdcl367i9aGrUfNTyxfHSG37jsDL7VhEddhj5Qljo 77kYHw0j/wc2exCc7jNMZWySl3JfQKqPMeIupXFLMM3x3Igb0VE9t3vpoLVurIRFCXExznfs0QE qefcvAw93PndVnBCQLuCN0CLbBsQJvV4LDuBeVHjFvEp8VpyFPCb0cJTGrVcVo25+9V+t7kjyn9 J+fjeTeOO X-Google-Smtp-Source: AGHT+IFV/wU/hiM/cwVXpOW7pONtbxaVZ1I9Wb63Qdt4PqF0om0I4Y3vRz0qKFp1kE5EI6WJy4MZ9IIu8Nbe X-Received: by 2002:a17:903:2a8d:b0:290:c516:8c53 with SMTP id d9443c01a7336-2986a74fbe5mr69830595ad.40.1763200948684; Sat, 15 Nov 2025 02:02:28 -0800 (PST) Received: from postal.iol.unh.edu (postal.iol.unh.edu. [2606:4100:3880:1234::84]) by smtp-relay.gmail.com with ESMTPS id d9443c01a7336-2985c242313sm7929225ad.24.2025.11.15.02.02.28 (version=TLS1_2 cipher=ECDHE-ECDSA-AES128-GCM-SHA256 bits=128/128); Sat, 15 Nov 2025 02:02:28 -0800 (PST) X-Relaying-Domain: iol.unh.edu Date: Sat, 15 Nov 2025 02:02:28 -0800 (PST) Message-ID: <69184fb4.170a0220.3c6b57.8661SMTPIN_ADDED_MISSING@mx.google.com> Received: from [172.21.0.4] (unknown [172.18.0.240]) by postal.iol.unh.edu (Postfix) with ESMTP id DE3FE6051830; Sat, 15 Nov 2025 05:02:27 -0500 (EST) Subject: |SUCCESS| pw158821 [PATCH] net/mlx5: fix higher flow tag indexes sup From: dpdklab@iol.unh.edu To: Test Report Cc: dpdk-test-reports@iol.unh.edu In-Reply-To: <20251114201720.1639238-1-dsosnowski@nvidia.com> References: <20251114201720.1639238-1-dsosnowski@nvidia.com> Content-Type: text/plain X-BeenThere: test-report@dpdk.org X-Mailman-Version: 2.1.29 Precedence: list List-Id: automatic DPDK test reports List-Unsubscribe: , List-Archive: List-Post: List-Help: List-Subscribe: , Errors-To: test-report-bounces@dpdk.org Test-Label: iol-unit-amd64-testing Test-Status: SUCCESS http://dpdk.org/patch/158821 _Testing PASS_ Submitter: Dariusz Sosnowski Date: Friday, November 14 2025 20:17:20 DPDK git baseline: Repo:dpdk-next-net-mlx Branch: master CommitID:ae657d56b1f0ea979b3f611edf28d773efc2ddcf 158821 --> testing pass Upstream job id: Generic-Unit-Test-DPDK#393080 Test environment and result as below: +-------------------------------+----------------+ | Environment | dpdk_unit_test | +===============================+================+ | Fedora Linux 40 | PASS | +-------------------------------+----------------+ | Debian GNU/Linux 12 | PASS | +-------------------------------+----------------+ | Fedora Linux 41 | PASS | +-------------------------------+----------------+ | Fedora Linux 42 | PASS | +-------------------------------+----------------+ | CentOS Stream 9 | PASS | +-------------------------------+----------------+ | Red Hat Enterprise Linux 9.5 | PASS | +-------------------------------+----------------+ | CentOS Stream 10 | PASS | +-------------------------------+----------------+ | Ubuntu 20.04 | PASS | +-------------------------------+----------------+ | Ubuntu 24.04 | PASS | +-------------------------------+----------------+ | Red Hat Enterprise Linux 8.10 | PASS | +-------------------------------+----------------+ | Ubuntu 22.04 | PASS | +-------------------------------+----------------+ Fedora Linux 40 Kernel: 5.15 Compiler: gcc gcc (GCC) 14.2.1 20240912 (Red Hat 14.2.1-3) Debian GNU/Linux 12 Kernel: 5.15 Compiler: gcc gcc (Debian 12.2.0-14+deb12u1) 12.2.0 Fedora Linux 41 Kernel: 5.15 Compiler: gcc gcc (GCC) 14.3.1 20250523 (Red Hat 14.3.1-1) Fedora Linux 42 Kernel: 5.15 Compiler: clang gcc (GCC) 15.2.1 20250808 (Red Hat 15.2.1-1) CentOS Stream 9 Kernel: 5.15 Compiler: gcc gcc (GCC) 11.5.0 20240719 (Red Hat 11.5.0-11) Red Hat Enterprise Linux 9.5 Kernel: 5.15 Compiler: gcc gcc (GCC) 11.5.0 20240719 (Red Hat 11.5.0-2) CentOS Stream 10 Kernel: 5.15 Compiler: gcc gcc (GCC) 14.2.1 20250110 (Red Hat 14.2.1-8) Ubuntu 20.04 Kernel: 5.15 Compiler: gcc gcc (Ubuntu 9.4.0-1ubuntu1~20.04.2) 9.4.0 Ubuntu 24.04 Kernel: 5.15 Compiler: gcc gcc (Ubuntu 13.3.0-6ubuntu2~24.04) 13.3.0 Red Hat Enterprise Linux 8.10 Kernel: 5.15 Compiler: gcc gcc (GCC) 8.5.0 20210514 (Red Hat 8.5.0-22) Ubuntu 22.04 Kernel: 5.15 Compiler: gcc gcc (Ubuntu 11.4.0-1ubuntu1~22.04) 11.4.0 To view detailed results, visit: https://lab.dpdk.org/results/dashboard/patchsets/34603/ UNH-IOL DPDK Community Lab To manage your email subscriptions, visit: https://lab.dpdk.org/results/dashboard/preferences/subscriptions/