From mboxrd@z Thu Jan 1 00:00:00 1970 Return-Path: Received: from mails.dpdk.org (mails.dpdk.org [217.70.189.124]) by inbox.dpdk.org (Postfix) with ESMTP id 2DB5C48B17 for ; Sat, 15 Nov 2025 11:12:03 +0100 (CET) Received: from mails.dpdk.org (localhost [127.0.0.1]) by mails.dpdk.org (Postfix) with ESMTP id 2907E40A80; Sat, 15 Nov 2025 11:12:03 +0100 (CET) Received: from mail-pl1-f228.google.com (mail-pl1-f228.google.com [209.85.214.228]) by mails.dpdk.org (Postfix) with ESMTP id AF95F40E24 for ; Sat, 15 Nov 2025 11:12:01 +0100 (CET) Received: by mail-pl1-f228.google.com with SMTP id d9443c01a7336-298250d7769so18230445ad.0 for ; Sat, 15 Nov 2025 02:12:01 -0800 (PST) DKIM-Signature: v=1; a=rsa-sha256; c=relaxed/relaxed; d=iol.unh.edu; s=unh-iol; t=1763201521; x=1763806321; darn=dpdk.org; h=references:in-reply-to:cc:to:from:subject:message-id:date:from:to :cc:subject:date:message-id:reply-to; bh=VA4YPVMkOpimLrDwMpLiO5/6hXft/u2dR9mnM3Is7PM=; b=GQS+YsG6bkdbkTiCthip1iImnZV/1j/M5E9wtbWKvmieAH0/aHHPlWKzkz26IIhoif pG2NAcZEOo50XxPBqv/va9R798EMPO3XXx5Zl7KrOXS39mJH96kKTJpn0jVkwKQ/ugPj mW2GPMxbAlYo3tHjnA0Pd/2SZWDQJ1yYAbAF0= X-Google-DKIM-Signature: v=1; a=rsa-sha256; c=relaxed/relaxed; d=1e100.net; s=20230601; t=1763201521; x=1763806321; h=references:in-reply-to:cc:to:from:subject:message-id:date:x-gm-gg :x-gm-message-state:from:to:cc:subject:date:message-id:reply-to; bh=VA4YPVMkOpimLrDwMpLiO5/6hXft/u2dR9mnM3Is7PM=; b=DbwWCeKhZzZ/PMXM+eXaENWKkce31A9O+R3FapvUMGvqZy3Htalwe5kBvOqSkTaCFT 0UdyDBd+DIhKwM/Pnt7a1E441bUrH0StYc3deF7n/Q/IR3yuRo3VUCsrI82KSVZXiVs+ XRHSFJmgsrH4DRU8+zGdY3oCmP+QsERJaSseiv4dQ+GaJuzmxYdVfwiMkvpQQCHka2p+ Ge6hf/ISolsvMebxb1n1W/CNsYiXBxLfAmBaGTqcADDq/vFG4hPd3ifjIDPyu63Kt/eY +SQdTHYwtlef9JKSIFTHes0Kr4yhGfWq0oltSlDyAwzq6TkXHvYlp2PCGA3QpfrOTWYv VZFw== X-Gm-Message-State: AOJu0Yy7Bc/rjxmOKX6SsVcWbrEl6DMKT/FJAu+UOXrZIE+DJC/JhRqC PGMtIxtlbhGBBMf3A81ZGv+gscIUIPXUBhCpC9gBy6HWUZcJ1avU+LgsB6np4vzsZ7HOQgi00MH 863yIkgcoRWeBTdA3PGU04FihnB38gjlOcasBlCm50OLS4+oVK44mJ3M6XyTf X-Gm-Gg: ASbGncscjtLTmKNhUH3+h0wczR2LKi5M8vWxkcJRtN5xAkshn76hw/jpv+HTDNLAwOa 1CU3+4A2gIvcyaaZcbQb8TT/TNn/dSNgebQFO3xeGOGJZUPYMHz0XYekV9dPnIUAKBMAddSH/MO pKAKMOhOTBauMvs+9tupR6ry0qAlso+rBadOA8zlcHRxuF4TGMLaxerPcx9w9crz9RDExKVuQLS YdUReO9chhvfuGBVfjpNR1diM3hVZ0UHNWTGsamPeov7u8WSfTIgtl6HQKQGTLknZXlVorQzM70 xnNanAoKnOdMnrdaiICmxiEdgOMzegpiRcrwZL+HACoDzqlWIMCEKUpRmzEB3iEkaIDgpES2d7E fOfNJDY2V X-Google-Smtp-Source: AGHT+IHnjZ7u9feHWB3twDi9c8e+5KPPe0hYZquK6BPLwvg0uWYTWR3nnriDLxh8RoNz+/t6DOGDNq190uMA X-Received: by 2002:a17:902:db0a:b0:297:f35b:e214 with SMTP id d9443c01a7336-2986a741431mr69124055ad.47.1763201520933; Sat, 15 Nov 2025 02:12:00 -0800 (PST) Received: from postal.iol.unh.edu (postal.iol.unh.edu. [2606:4100:3880:1234::84]) by smtp-relay.gmail.com with ESMTPS id d9443c01a7336-2985c242313sm7953365ad.24.2025.11.15.02.12.00 (version=TLS1_2 cipher=ECDHE-ECDSA-AES128-GCM-SHA256 bits=128/128); Sat, 15 Nov 2025 02:12:00 -0800 (PST) X-Relaying-Domain: iol.unh.edu Date: Sat, 15 Nov 2025 02:12:00 -0800 (PST) Message-ID: <691851f0.170a0220.3c6b57.8829SMTPIN_ADDED_MISSING@mx.google.com> Received: from [172.21.0.3] (unknown [172.18.0.240]) by postal.iol.unh.edu (Postfix) with ESMTP id 52F996051830; Sat, 15 Nov 2025 05:12:00 -0500 (EST) Subject: |SUCCESS| pw158816 [PATCH] net/e1000: add check for filter mask rang From: dpdklab@iol.unh.edu To: Test Report Cc: dpdk-test-reports@iol.unh.edu, Bruce Richardson In-Reply-To: <20251114182131.1296580-1-stephen@networkplumber.org> References: <20251114182131.1296580-1-stephen@networkplumber.org> Content-Type: text/plain X-BeenThere: test-report@dpdk.org X-Mailman-Version: 2.1.29 Precedence: list List-Id: automatic DPDK test reports List-Unsubscribe: , List-Archive: List-Post: List-Help: List-Subscribe: , Errors-To: test-report-bounces@dpdk.org Test-Label: iol-unit-amd64-testing Test-Status: SUCCESS http://dpdk.org/patch/158816 _Testing PASS_ Submitter: Stephen Hemminger Date: Friday, November 14 2025 18:21:31 DPDK git baseline: Repo:dpdk-next-net-intel Branch: master CommitID:e5357d609907d504f4705e4899f3dad43cb4b70f 158816 --> testing pass Upstream job id: Generic-VM-Unit-Test-DPDK#32587 Test environment and result as below: +-------------------------------+----------------+ | Environment | dpdk_unit_test | +===============================+================+ | CentOS Stream 9 | PASS | +-------------------------------+----------------+ | CentOS Stream 10 | PASS | +-------------------------------+----------------+ | Fedora Linux 40 | PASS | +-------------------------------+----------------+ | Debian GNU/Linux 12 | PASS | +-------------------------------+----------------+ | Fedora Linux 41 | PASS | +-------------------------------+----------------+ | Red Hat Enterprise Linux 8.10 | PASS | +-------------------------------+----------------+ | Ubuntu 22.04 | PASS | +-------------------------------+----------------+ | Fedora Linux 42 | PASS | +-------------------------------+----------------+ | Ubuntu 20.04 | PASS | +-------------------------------+----------------+ | Ubuntu 24.04 | PASS | +-------------------------------+----------------+ | Red Hat Enterprise Linux 9.5 | PASS | +-------------------------------+----------------+ | Windows Server 2022 | PASS | +-------------------------------+----------------+ CentOS Stream 9 Kernel: 5.15 Compiler: gcc gcc (GCC) 11.5.0 20240719 (Red Hat 11.5.0-11) CentOS Stream 10 Kernel: 5.15 Compiler: gcc gcc (GCC) 14.2.1 20250110 (Red Hat 14.2.1-8) Fedora Linux 40 Kernel: 5.15 Compiler: clang gcc (GCC) 14.2.1 20240912 (Red Hat 14.2.1-3) Debian GNU/Linux 12 Kernel: 5.15 Compiler: gcc gcc (Debian 12.2.0-14+deb12u1) 12.2.0 Fedora Linux 41 Kernel: 5.15 Compiler: clang gcc (GCC) 14.3.1 20250523 (Red Hat 14.3.1-1) Red Hat Enterprise Linux 8.10 Kernel: 5.15 Compiler: gcc gcc (GCC) 8.5.0 20210514 (Red Hat 8.5.0-22) Ubuntu 22.04 Kernel: 5.15 Compiler: gcc gcc (Ubuntu 11.4.0-1ubuntu1~22.04) 11.4.0 Fedora Linux 42 Kernel: 5.15 Compiler: gcc gcc (GCC) 15.2.1 20250808 (Red Hat 15.2.1-1) Ubuntu 20.04 Kernel: 5.15 Compiler: gcc gcc (Ubuntu 9.4.0-1ubuntu1~20.04.2) 9.4.0 Ubuntu 24.04 Kernel: 5.15 Compiler: gcc gcc (Ubuntu 13.3.0-6ubuntu2~24.04) 13.3.0 Red Hat Enterprise Linux 9.5 Kernel: 5.15 Compiler: gcc gcc (GCC) 11.5.0 20240719 (Red Hat 11.5.0-2) Windows Server 2022 Kernel: 10.0.20348.2031 Compiler: clang 15.0.7, gcc 14.1.0 (MinGW), and MSVC VS 19.39.33521 To view detailed results, visit: https://lab.dpdk.org/results/dashboard/patchsets/34598/ UNH-IOL DPDK Community Lab To manage your email subscriptions, visit: https://lab.dpdk.org/results/dashboard/preferences/subscriptions/