From mboxrd@z Thu Jan 1 00:00:00 1970 Return-Path: Received: from mails.dpdk.org (mails.dpdk.org [217.70.189.124]) by inbox.dpdk.org (Postfix) with ESMTP id BFD6648B17 for ; Sat, 15 Nov 2025 11:16:51 +0100 (CET) Received: from mails.dpdk.org (localhost [127.0.0.1]) by mails.dpdk.org (Postfix) with ESMTP id B9C1240A80; Sat, 15 Nov 2025 11:16:51 +0100 (CET) Received: from mail-io1-f97.google.com (mail-io1-f97.google.com [209.85.166.97]) by mails.dpdk.org (Postfix) with ESMTP id BD5FB40A80 for ; Sat, 15 Nov 2025 11:16:49 +0100 (CET) Received: by mail-io1-f97.google.com with SMTP id ca18e2360f4ac-948e03b096dso132200539f.0 for ; Sat, 15 Nov 2025 02:16:49 -0800 (PST) DKIM-Signature: v=1; a=rsa-sha256; c=relaxed/relaxed; d=iol.unh.edu; s=unh-iol; t=1763201809; x=1763806609; darn=dpdk.org; h=references:in-reply-to:cc:to:from:subject:message-id:date:from:to :cc:subject:date:message-id:reply-to; bh=XdouPPHEombJ0PNlTMs3sUi69pTU8VVMoTJOfNeH7XM=; b=RW8sn1uLUNbwR69QlXVdw0ohpDN/Zrj6fCKFtT2aUA0lK1Wpjvk1prJ5lTYvNzauLl 7EhPMgf/PcZGMtBsEGxVkCGLXrNTqj59cCmm9CtdWPtkNVGL7JXRga7GrmIPnRFtX3Yw z3vVKWwktexYhU+UTv2Iyt68AdEAo6zNEaMwU= X-Google-DKIM-Signature: v=1; a=rsa-sha256; c=relaxed/relaxed; d=1e100.net; s=20230601; t=1763201809; x=1763806609; h=references:in-reply-to:cc:to:from:subject:message-id:date:x-gm-gg :x-gm-message-state:from:to:cc:subject:date:message-id:reply-to; bh=XdouPPHEombJ0PNlTMs3sUi69pTU8VVMoTJOfNeH7XM=; b=Eme/TUMIfV/wRko+tPyG8mgS8jvkAvQqACppDJp+p4fJ7mKDWfHTmnZgZSeITjYJW8 aY+OpLbxSnh7cPaa4JqKtWud1RfY/SxzIzJrcbrWDAGSi6d8Z+Z7QnsS9kBySmX7KCwC U9nHXezpGPVW1MMZ5bbgyJ4ano0d7LxUwLNBw+oooXCnoZNs3TYzXtxGVEWSeS34LPdi H6FV3k/m5dQMIR/ixzrBcg3Gid1OWA7KfuL2Ou8NYIeHzpJdrBsDY/YjtXO+WrYZ0cMU UehChJynfA69fLGtiJ+Q8M+LN/zFkB6hpd41/1DrXdukC8mnC4KXKQxUGYoGOE2SdZ+m bT1g== X-Gm-Message-State: AOJu0Yw1n5bbmg+5wptz7ZAtH+2A44gUpXV3RhvjWVoA9WKwdXOT6owb UUf2S/5mDhYzHmHmvdWXbF16UJ60KmmTC/EwIoLOnkDDc00Tr0noyATAwKx1ILXRMp2+6Kfr5jP 2s9qqqfoFrs2E6FGpFW11YmnUbAcfEY6P5TtdxMFYJkari0XLH3CCGyNhyy0i X-Gm-Gg: ASbGnctc0xinr0Ccgf+rILf3daxWi6DqoZdABR5aohBEVUAxHbQSGdlyG+HxfctaqIb HeNKGc7jeGn/ncyt8SvBGRAEWTLjWRZ+FWwG75jtJDNfnkfbbjLqhhOAYGi2IpbwMwh/hT8s/Pt QsGPct+13LfnFagyyVJXbcbT2CJK9+y7EFQ2yiExYNhOqySx7vUWDLwXVOUaz1rNktkBPOC+7Np wmk0da1Nc+LX/DrEwyjLe+O3tG07+s16YZTYpk5/YM2s+0vJsRhbviR6WGuCdBPnSk/5NUuNHSF AgN5nzORjGETa5cEcX6wMN06WfjQHELgosUvoZ4yHnVQs65kufQ4EiX0n97Z9On/0WHwByL1lmT SXP5ARFWf X-Google-Smtp-Source: AGHT+IE+R59N7+bW7MdyZL1VjSt3alHtRfpLGzttH4Mov+Rf87QTBV07FU+7WV+hC1TtAEa3ITqSyD64pELQ X-Received: by 2002:a05:6602:1348:b0:948:7ea7:925d with SMTP id ca18e2360f4ac-948e0de0cb6mr762847339f.18.1763201809109; Sat, 15 Nov 2025 02:16:49 -0800 (PST) Received: from postal.iol.unh.edu (postal.iol.unh.edu. [2606:4100:3880:1234::84]) by smtp-relay.gmail.com with ESMTPS id 8926c6da1cb9f-5b7bd319dcbsm401302173.20.2025.11.15.02.16.49 (version=TLS1_2 cipher=ECDHE-ECDSA-AES128-GCM-SHA256 bits=128/128); Sat, 15 Nov 2025 02:16:49 -0800 (PST) X-Relaying-Domain: iol.unh.edu Date: Sat, 15 Nov 2025 02:16:49 -0800 (PST) Message-ID: <69185311.050a0220.7580c.3064SMTPIN_ADDED_MISSING@mx.google.com> Received: from [172.21.0.3] (unknown [172.18.0.240]) by postal.iol.unh.edu (Postfix) with ESMTP id A275B6051830; Sat, 15 Nov 2025 05:16:48 -0500 (EST) Subject: |SUCCESS| pw158769 [PATCH] [v2] net/mlx5: remove representor matchin From: dpdklab@iol.unh.edu To: Test Report Cc: dpdk-test-reports@iol.unh.edu In-Reply-To: <20251113131758.1524043-1-dsosnowski@nvidia.com> References: <20251113131758.1524043-1-dsosnowski@nvidia.com> Content-Type: text/plain X-BeenThere: test-report@dpdk.org X-Mailman-Version: 2.1.29 Precedence: list List-Id: automatic DPDK test reports List-Unsubscribe: , List-Archive: List-Post: List-Help: List-Subscribe: , Errors-To: test-report-bounces@dpdk.org Test-Label: iol-compile-amd64-testing Test-Status: SUCCESS http://dpdk.org/patch/158769 _Testing PASS_ Submitter: Dariusz Sosnowski Date: Thursday, November 13 2025 13:17:58 DPDK git baseline: Repo:dpdk-next-net-mlx Branch: master CommitID:ae657d56b1f0ea979b3f611edf28d773efc2ddcf 158769 --> testing pass Upstream job id: Windows-Compile-DPDK-Native#32377 Test environment and result as below: +-------------------------------+--------------------+------------------+-------------------+-------------------------+ | Environment | dpdk_meson_compile | dpdk_compile_ovs | dpdk_msvc_compile | dpdk_llvm_clang_compile | +===============================+====================+==================+===================+=========================+ | FreeBSD 14.2 | PASS | SKIPPED | SKIPPED | SKIPPED | +-------------------------------+--------------------+------------------+-------------------+-------------------------+ | Ubuntu 20.04 | PASS | SKIPPED | SKIPPED | SKIPPED | +-------------------------------+--------------------+------------------+-------------------+-------------------------+ | CentOS Stream 9 | PASS | SKIPPED | SKIPPED | SKIPPED | +-------------------------------+--------------------+------------------+-------------------+-------------------------+ | CentOS Stream 10 | PASS | SKIPPED | SKIPPED | SKIPPED | +-------------------------------+--------------------+------------------+-------------------+-------------------------+ | Debian GNU/Linux 12 | PASS | SKIPPED | SKIPPED | SKIPPED | +-------------------------------+--------------------+------------------+-------------------+-------------------------+ | Fedora Linux 42 | PASS | PASS | SKIPPED | SKIPPED | +-------------------------------+--------------------+------------------+-------------------+-------------------------+ | openSUSE Leap 15.6 | PASS | SKIPPED | SKIPPED | SKIPPED | +-------------------------------+--------------------+------------------+-------------------+-------------------------+ | Red Hat Enterprise Linux 8.10 | PASS | SKIPPED | SKIPPED | SKIPPED | +-------------------------------+--------------------+------------------+-------------------+-------------------------+ | Red Hat Enterprise Linux 9.5 | PASS | SKIPPED | SKIPPED | SKIPPED | +-------------------------------+--------------------+------------------+-------------------+-------------------------+ | Ubuntu 22.04 | PASS | SKIPPED | SKIPPED | SKIPPED | +-------------------------------+--------------------+------------------+-------------------+-------------------------+ | Ubuntu 24.04 | PASS | PASS | SKIPPED | SKIPPED | +-------------------------------+--------------------+------------------+-------------------+-------------------------+ | Alpine Linux 3.22.0 | PASS | SKIPPED | SKIPPED | SKIPPED | +-------------------------------+--------------------+------------------+-------------------+-------------------------+ | Windows Server 2022 | SKIPPED | SKIPPED | PASS | PASS | +-------------------------------+--------------------+------------------+-------------------+-------------------------+ FreeBSD 14.2 Kernel: 14.2-RELEASE Compiler: clang 18.1.6 Ubuntu 20.04 Kernel: 4.19 Compiler: gcc gcc (Ubuntu 9.4.0-1ubuntu1~20.04.2) 9.4.0 CentOS Stream 9 Kernel: 5.15 Compiler: gcc gcc (GCC) 11.5.0 20240719 (Red Hat 11.5.0-11) CentOS Stream 10 Kernel: 5.15 Compiler: gcc gcc (GCC) 14.2.1 20250110 (Red Hat 14.2.1-8) Debian GNU/Linux 12 Kernel: 5.15 Compiler: gcc gcc (Debian 12.2.0-14+deb12u1) 12.2.0 Fedora Linux 42 Kernel: 5.15 Compiler: clang gcc (GCC) 15.2.1 20250808 (Red Hat 15.2.1-1) openSUSE Leap 15.6 Kernel: 5.15 Compiler: gcc gcc (SUSE Linux) 7.5.0 Red Hat Enterprise Linux 8.10 Kernel: 5.15 Compiler: gcc gcc (GCC) 8.5.0 20210514 (Red Hat 8.5.0-22) Red Hat Enterprise Linux 9.5 Kernel: 5.15 Compiler: gcc gcc (GCC) 11.5.0 20240719 (Red Hat 11.5.0-2) Ubuntu 22.04 Kernel: 5.15 Compiler: gcc gcc (Ubuntu 11.4.0-1ubuntu1~22.04) 11.4.0 Ubuntu 24.04 Kernel: 5.15 Compiler: gcc gcc (Ubuntu 13.3.0-6ubuntu2~24.04) 13.3.0 Alpine Linux 3.22.0 Kernel: 5.15 Compiler: gcc gcc (Alpine 14.2.0) 14.2.0 Windows Server 2022 Kernel: 10.0.20348.2031 Compiler: clang 15.0.7, gcc 14.1.0 (MinGW), and MSVC VS 19.39.33521 To view detailed results, visit: https://lab.dpdk.org/results/dashboard/patchsets/34577/ UNH-IOL DPDK Community Lab To manage your email subscriptions, visit: https://lab.dpdk.org/results/dashboard/preferences/subscriptions/