From mboxrd@z Thu Jan 1 00:00:00 1970 Return-Path: Received: from mails.dpdk.org (mails.dpdk.org [217.70.189.124]) by inbox.dpdk.org (Postfix) with ESMTP id 0988E48B17 for ; Sat, 15 Nov 2025 11:18:45 +0100 (CET) Received: from mails.dpdk.org (localhost [127.0.0.1]) by mails.dpdk.org (Postfix) with ESMTP id E8AA440A80; Sat, 15 Nov 2025 11:18:44 +0100 (CET) Received: from mail-pj1-f99.google.com (mail-pj1-f99.google.com [209.85.216.99]) by mails.dpdk.org (Postfix) with ESMTP id 25B3740A80 for ; Sat, 15 Nov 2025 11:18:43 +0100 (CET) Received: by mail-pj1-f99.google.com with SMTP id 98e67ed59e1d1-3438231df5fso3244070a91.2 for ; Sat, 15 Nov 2025 02:18:43 -0800 (PST) DKIM-Signature: v=1; a=rsa-sha256; c=relaxed/relaxed; d=iol.unh.edu; s=unh-iol; t=1763201922; x=1763806722; darn=dpdk.org; h=references:in-reply-to:cc:to:from:subject:message-id:date:from:to :cc:subject:date:message-id:reply-to; bh=A0+KdNct5ltkX59yY/QEgc35fLu57Am9vuW9StjzzMk=; b=YR86XCvrshLeX8C0dHf2/kLDnj+GtUrMMY49/dC3fCs0d4tC1UPX5cSUOGOdLmbEBx wIiiv67DIB4xEkmaL19UzU2VehPz+TTn7tSSpd2PvbP3uqp0OBT8QPsV1E9IRywy7Ktc zzeJOv+gplEgxJCrbyGLGICrUUSXOn1gX4TUU= X-Google-DKIM-Signature: v=1; a=rsa-sha256; c=relaxed/relaxed; d=1e100.net; s=20230601; t=1763201922; x=1763806722; h=references:in-reply-to:cc:to:from:subject:message-id:date:x-gm-gg :x-gm-message-state:from:to:cc:subject:date:message-id:reply-to; bh=A0+KdNct5ltkX59yY/QEgc35fLu57Am9vuW9StjzzMk=; b=I32J/gHeUhEjENqcI/yy1wGys9KRnRWpitvFbjB+a4rnlaNP8P8dF5p/kV4Jfv4xPy 81nQ1eIcsatXq6tTubI0+Yf6oP0U1em/l2Axs0954xt+6m20p8U+54Ku8FQWqmHQt1ES hozGbcncchs8x0gzftRG+QjCvQgTCOdbEdA3171glnwW+a2wMA2bssNUnoSHmyhg1Yoj QrsJ6a3NbdEYhXl71VAMDadWGfrS/X5POVxMhzhayEetJ35z2KKX4vgd+l/i/jvhoHoR h1NiUM0gPfTuUvHTLHbrFVlR6SxzMCR0dbbImx5VnCEJod2wfmdIL4VPSDnlitdYoMep g9qA== X-Gm-Message-State: AOJu0Yx1syYmvbQ2D1Sok4uke0OX/SymIEYa+mzm8XG+zMPM6UH6+jUS PgWza44M83Mn26XFbWcziKTdh2ZteMvRP0SpQGI4ExjdH/bhFHb5FIPU5PeGea4aI8MKtWmXgsJ Hew+rYpuNmKQGEdFOi8DPnFU1EaT1OWYIPaA7bwBcdU8sbcDFiLntX3gGayWa X-Gm-Gg: ASbGncsc+dJlsh5AYByZ1AeOdJhWeR8eS48ki8cVsgmzfRtrVPGwX0QX56MByw0PiFx 0HX5opnJSnD2BTYo2grbqStBRMC/aS5mB5iR/u/lpj5zPre1Nj9YDuvlbqcPOiqOE72dK69QPkn 54Z7ZIOD/IJJI5VOUxojkDjmyCsT0uQ2nFK6Y1PiCWemwrcyVCLSDkbDymJxeEEhPQUEvnqK/4T eTpTbOIbj+DBnxqdMOQIxrcg4nWNd+aCDKg96NpRAzHOVbwLTGUew/Kjcn6VnejVL1DqqTEy7q6 z5ro56KIoKU3+xk507zrrjsK5lMA06ReqrTlnVgXMQmDuHKvernaLIswXDbse7DfBlChumPavBq fHY0WazKF X-Google-Smtp-Source: AGHT+IHMRth8fUqJSb8f//wpnDL5nlBnOMVjm/cznCkUEs5uT63QS842Xw1gZNxgoUoBESrdNvei9W1HNXb4 X-Received: by 2002:a17:90b:2f83:b0:33f:eca0:47ae with SMTP id 98e67ed59e1d1-343fa7327fdmr6700943a91.28.1763201922194; Sat, 15 Nov 2025 02:18:42 -0800 (PST) Received: from postal.iol.unh.edu (postal.iol.unh.edu. [2606:4100:3880:1234::84]) by smtp-relay.gmail.com with ESMTPS id 98e67ed59e1d1-343ed4c95c9sm908016a91.1.2025.11.15.02.18.42 (version=TLS1_2 cipher=ECDHE-ECDSA-AES128-GCM-SHA256 bits=128/128); Sat, 15 Nov 2025 02:18:42 -0800 (PST) X-Relaying-Domain: iol.unh.edu Date: Sat, 15 Nov 2025 02:18:42 -0800 (PST) Message-ID: <69185382.170a0220.13f9ee.f30eSMTPIN_ADDED_MISSING@mx.google.com> Received: from [172.21.0.3] (unknown [172.18.0.240]) by postal.iol.unh.edu (Postfix) with ESMTP id 955BB6051830; Sat, 15 Nov 2025 05:18:41 -0500 (EST) Subject: |SUCCESS| pw158816 [PATCH] net/e1000: add check for filter mask rang From: dpdklab@iol.unh.edu To: Test Report Cc: dpdk-test-reports@iol.unh.edu, Bruce Richardson In-Reply-To: <20251114182131.1296580-1-stephen@networkplumber.org> References: <20251114182131.1296580-1-stephen@networkplumber.org> Content-Type: text/plain X-BeenThere: test-report@dpdk.org X-Mailman-Version: 2.1.29 Precedence: list List-Id: automatic DPDK test reports List-Unsubscribe: , List-Archive: List-Post: List-Help: List-Subscribe: , Errors-To: test-report-bounces@dpdk.org Test-Label: iol-unit-amd64-testing Test-Status: SUCCESS http://dpdk.org/patch/158816 _Testing PASS_ Submitter: Stephen Hemminger Date: Friday, November 14 2025 18:21:31 DPDK git baseline: Repo:dpdk-next-net-intel Branch: master CommitID:e5357d609907d504f4705e4899f3dad43cb4b70f 158816 --> testing pass Upstream job id: Generic-VM-Unit-Test-DPDK#32588 Test environment and result as below: +-------------------------------+----------------+ | Environment | dpdk_unit_test | +===============================+================+ | CentOS Stream 9 | PASS | +-------------------------------+----------------+ | CentOS Stream 10 | PASS | +-------------------------------+----------------+ | Fedora Linux 40 | PASS | +-------------------------------+----------------+ | Debian GNU/Linux 12 | PASS | +-------------------------------+----------------+ | Fedora Linux 41 | PASS | +-------------------------------+----------------+ | Red Hat Enterprise Linux 8.10 | PASS | +-------------------------------+----------------+ | Ubuntu 22.04 | PASS | +-------------------------------+----------------+ | Fedora Linux 42 | PASS | +-------------------------------+----------------+ | Ubuntu 20.04 | PASS | +-------------------------------+----------------+ | Ubuntu 24.04 | PASS | +-------------------------------+----------------+ | Red Hat Enterprise Linux 9.5 | PASS | +-------------------------------+----------------+ | Windows Server 2022 | PASS | +-------------------------------+----------------+ CentOS Stream 9 Kernel: 5.15 Compiler: gcc gcc (GCC) 11.5.0 20240719 (Red Hat 11.5.0-11) CentOS Stream 10 Kernel: 5.15 Compiler: gcc gcc (GCC) 14.2.1 20250110 (Red Hat 14.2.1-8) Fedora Linux 40 Kernel: 5.15 Compiler: clang gcc (GCC) 14.2.1 20240912 (Red Hat 14.2.1-3) Debian GNU/Linux 12 Kernel: 5.15 Compiler: gcc gcc (Debian 12.2.0-14+deb12u1) 12.2.0 Fedora Linux 41 Kernel: 5.15 Compiler: clang gcc (GCC) 14.3.1 20250523 (Red Hat 14.3.1-1) Red Hat Enterprise Linux 8.10 Kernel: 5.15 Compiler: gcc gcc (GCC) 8.5.0 20210514 (Red Hat 8.5.0-22) Ubuntu 22.04 Kernel: 5.15 Compiler: gcc gcc (Ubuntu 11.4.0-1ubuntu1~22.04) 11.4.0 Fedora Linux 42 Kernel: 5.15 Compiler: gcc gcc (GCC) 15.2.1 20250808 (Red Hat 15.2.1-1) Ubuntu 20.04 Kernel: 5.15 Compiler: gcc gcc (Ubuntu 9.4.0-1ubuntu1~20.04.2) 9.4.0 Ubuntu 24.04 Kernel: 5.15 Compiler: gcc gcc (Ubuntu 13.3.0-6ubuntu2~24.04) 13.3.0 Red Hat Enterprise Linux 9.5 Kernel: 5.15 Compiler: gcc gcc (GCC) 11.5.0 20240719 (Red Hat 11.5.0-2) Windows Server 2022 Kernel: 10.0.20348.2031 Compiler: clang 15.0.7, gcc 14.1.0 (MinGW), and MSVC VS 19.39.33521 To view detailed results, visit: https://lab.dpdk.org/results/dashboard/patchsets/34598/ UNH-IOL DPDK Community Lab To manage your email subscriptions, visit: https://lab.dpdk.org/results/dashboard/preferences/subscriptions/