From mboxrd@z Thu Jan 1 00:00:00 1970 Return-Path: Received: from mails.dpdk.org (mails.dpdk.org [217.70.189.124]) by inbox.dpdk.org (Postfix) with ESMTP id 0F2B548B17 for ; Sat, 15 Nov 2025 11:18:53 +0100 (CET) Received: from mails.dpdk.org (localhost [127.0.0.1]) by mails.dpdk.org (Postfix) with ESMTP id 08FE940A80; Sat, 15 Nov 2025 11:18:53 +0100 (CET) Received: from mail-pl1-f225.google.com (mail-pl1-f225.google.com [209.85.214.225]) by mails.dpdk.org (Postfix) with ESMTP id E320140A80 for ; Sat, 15 Nov 2025 11:18:50 +0100 (CET) Received: by mail-pl1-f225.google.com with SMTP id d9443c01a7336-2981f9ce15cso33619185ad.1 for ; Sat, 15 Nov 2025 02:18:50 -0800 (PST) DKIM-Signature: v=1; a=rsa-sha256; c=relaxed/relaxed; d=iol.unh.edu; s=unh-iol; t=1763201930; x=1763806730; darn=dpdk.org; h=references:in-reply-to:cc:to:from:subject:message-id:date:from:to :cc:subject:date:message-id:reply-to; bh=+bq/Fzmr5pcabLRcy3QzjfFe9cocBpTFGLfJdcPRGhM=; b=Gyen8IyGfjYdev+R2L5CME8wMSHKsVmIVGzci8IbHEGCnuof3XWbCHRMRm3tksyLgn LCQTV1lSlrHXLDiguvnjWN+RtUGZnDGx3WvcsVjpH6sggEH8ftp0Fg+hJFXi8sSrg8SV jpcUL72wpnvS0h+xly56/i/3kiyHMYzsWPzRc= X-Google-DKIM-Signature: v=1; a=rsa-sha256; c=relaxed/relaxed; d=1e100.net; s=20230601; t=1763201930; x=1763806730; h=references:in-reply-to:cc:to:from:subject:message-id:date:x-gm-gg :x-gm-message-state:from:to:cc:subject:date:message-id:reply-to; bh=+bq/Fzmr5pcabLRcy3QzjfFe9cocBpTFGLfJdcPRGhM=; b=K/obcuK8rHSuX4kw3neWOhPdxu5zx7YS3Xg2m6gz48a4Qn8SlC5w9QMLJDu8S+WTsj EzYvCIhJdmbc1MFGbF+E7TOnSOCiAtenPneejbfVasiwwj3vKhbTrAdWa12i7wpi7GN2 kT1LkuTPrptJRoG03+ZLXouRIVbi12Hpi8rEc8/wr7OYepoqzYeF/3otaZz1TXafPP3i uFjsJ13zgTppiNbLVfVWoR9uWmP1rrT+RbBL5mqcdnYW1ol7BldfFWOXz+g9MtHZUdOD 92wp/bJnEEVE0BIaxu9uwQ5qKle7titUYcuqWd6W8+G90y5vgxGDTkQjRRgosxYWGKqZ aa1A== X-Gm-Message-State: AOJu0YzMdDKwSSkyJKDsYiOCHOKb0jDqCBuOXNpNvIAcXwjOVE5eN7XM WFCk8PTbF9rCTqmauaAJQ/2tOcVRe6Zc+9eUcFp6hSkQ8QYaZCmfxpHd039Cb5Qs+99dBdMGJmq PkSnXJL9WmTWrZk4vOig7QA8ghZVHhPaoaBJRSVEUoTu3 X-Gm-Gg: ASbGncsbWqBFQJtxYZYuaRz7LBo9U5VN9xZmRaJ5EFwB90IGnBS6BtmFQLV9KE5fl4R 2W9+U+nhbYX6jeQuwwRPaoaIOXSHzu+GMGUpbAnhhBJIj784WCpTSCv6V9sRRhQr7iP9XLbP9Ze wCSrPTWuZkX0nLgACA+FQjNdyDXKOM6hOP3BuSpDJB3XYLrWvYPwbhg6+MdcLlevU7H4/Vkvs/n ka4HOuaXkFXIfrEx4It9XE+/p45YAq92Skxx8p3D2isK24TWzzU/F9ge5OElPPFW0FU7DEIgSvW Zx2sJAwTY6Y/vVTgcHFfLGNqeX9tZZCv4+lCd6SjrRqNp91CSYnDZRnE+NEaUmUcvlNKQ4IPdGx fN5blF3+kvTAd/hBP0ucfDOVYIoXy5gs= X-Google-Smtp-Source: AGHT+IEwuHGAhH2znG9hFpmFTVzl/wL6B5PzZqjzC8G0MiwwJo09JxQVca8B7qIABnLONh8Qlmgba8paYoXj X-Received: by 2002:a17:903:b0d:b0:295:4d50:aab8 with SMTP id d9443c01a7336-2986a6c3747mr67950625ad.24.1763201930020; Sat, 15 Nov 2025 02:18:50 -0800 (PST) Received: from postal.iol.unh.edu (postal.iol.unh.edu. [132.177.123.84]) by smtp-relay.gmail.com with ESMTPS id d9443c01a7336-2985c2a838dsm8569565ad.41.2025.11.15.02.18.49 (version=TLS1_2 cipher=ECDHE-ECDSA-AES128-GCM-SHA256 bits=128/128); Sat, 15 Nov 2025 02:18:50 -0800 (PST) X-Relaying-Domain: iol.unh.edu Date: Sat, 15 Nov 2025 02:18:50 -0800 (PST) Message-ID: <6918538a.170a0220.6d491.b65bSMTPIN_ADDED_MISSING@mx.google.com> Received: from [172.21.0.3] (unknown [172.18.0.240]) by postal.iol.unh.edu (Postfix) with ESMTP id 811396051830; Sat, 15 Nov 2025 05:18:49 -0500 (EST) Subject: |SUCCESS| pw158769 [PATCH] [v2] net/mlx5: remove representor matchin From: dpdklab@iol.unh.edu To: Test Report Cc: dpdk-test-reports@iol.unh.edu In-Reply-To: <20251113131758.1524043-1-dsosnowski@nvidia.com> References: <20251113131758.1524043-1-dsosnowski@nvidia.com> Content-Type: text/plain X-BeenThere: test-report@dpdk.org X-Mailman-Version: 2.1.29 Precedence: list List-Id: automatic DPDK test reports List-Unsubscribe: , List-Archive: List-Post: List-Help: List-Subscribe: , Errors-To: test-report-bounces@dpdk.org Test-Label: iol-compile-amd64-testing Test-Status: SUCCESS http://dpdk.org/patch/158769 _Testing PASS_ Submitter: Dariusz Sosnowski Date: Thursday, November 13 2025 13:17:58 DPDK git baseline: Repo:dpdk-next-net-mlx Branch: master CommitID:ae657d56b1f0ea979b3f611edf28d773efc2ddcf 158769 --> testing pass Upstream job id: Windows-Compile-DPDK-Native#32378 Test environment and result as below: +-------------------------------+--------------------+------------------+-------------------+-------------------------+----------------------+ | Environment | dpdk_meson_compile | dpdk_compile_ovs | dpdk_msvc_compile | dpdk_llvm_clang_compile | dpdk_mingw64_compile | +===============================+====================+==================+===================+=========================+======================+ | FreeBSD 14.2 | PASS | SKIPPED | SKIPPED | SKIPPED | SKIPPED | +-------------------------------+--------------------+------------------+-------------------+-------------------------+----------------------+ | Ubuntu 20.04 | PASS | SKIPPED | SKIPPED | SKIPPED | SKIPPED | +-------------------------------+--------------------+------------------+-------------------+-------------------------+----------------------+ | CentOS Stream 9 | PASS | SKIPPED | SKIPPED | SKIPPED | SKIPPED | +-------------------------------+--------------------+------------------+-------------------+-------------------------+----------------------+ | CentOS Stream 10 | PASS | SKIPPED | SKIPPED | SKIPPED | SKIPPED | +-------------------------------+--------------------+------------------+-------------------+-------------------------+----------------------+ | Debian GNU/Linux 12 | PASS | SKIPPED | SKIPPED | SKIPPED | SKIPPED | +-------------------------------+--------------------+------------------+-------------------+-------------------------+----------------------+ | Fedora Linux 42 | PASS | PASS | SKIPPED | SKIPPED | SKIPPED | +-------------------------------+--------------------+------------------+-------------------+-------------------------+----------------------+ | openSUSE Leap 15.6 | PASS | SKIPPED | SKIPPED | SKIPPED | SKIPPED | +-------------------------------+--------------------+------------------+-------------------+-------------------------+----------------------+ | Red Hat Enterprise Linux 8.10 | PASS | SKIPPED | SKIPPED | SKIPPED | SKIPPED | +-------------------------------+--------------------+------------------+-------------------+-------------------------+----------------------+ | Red Hat Enterprise Linux 9.5 | PASS | SKIPPED | SKIPPED | SKIPPED | SKIPPED | +-------------------------------+--------------------+------------------+-------------------+-------------------------+----------------------+ | Ubuntu 22.04 | PASS | SKIPPED | SKIPPED | SKIPPED | SKIPPED | +-------------------------------+--------------------+------------------+-------------------+-------------------------+----------------------+ | Ubuntu 24.04 | PASS | PASS | SKIPPED | SKIPPED | SKIPPED | +-------------------------------+--------------------+------------------+-------------------+-------------------------+----------------------+ | Alpine Linux 3.22.0 | PASS | SKIPPED | SKIPPED | SKIPPED | SKIPPED | +-------------------------------+--------------------+------------------+-------------------+-------------------------+----------------------+ | Windows Server 2022 | SKIPPED | SKIPPED | PASS | PASS | PASS | +-------------------------------+--------------------+------------------+-------------------+-------------------------+----------------------+ FreeBSD 14.2 Kernel: 14.2-RELEASE Compiler: clang 18.1.6 Ubuntu 20.04 Kernel: 4.19 Compiler: gcc gcc (Ubuntu 9.4.0-1ubuntu1~20.04.2) 9.4.0 CentOS Stream 9 Kernel: 5.15 Compiler: gcc gcc (GCC) 11.5.0 20240719 (Red Hat 11.5.0-11) CentOS Stream 10 Kernel: 5.15 Compiler: gcc gcc (GCC) 14.2.1 20250110 (Red Hat 14.2.1-8) Debian GNU/Linux 12 Kernel: 5.15 Compiler: gcc gcc (Debian 12.2.0-14+deb12u1) 12.2.0 Fedora Linux 42 Kernel: 5.15 Compiler: clang gcc (GCC) 15.2.1 20250808 (Red Hat 15.2.1-1) openSUSE Leap 15.6 Kernel: 5.15 Compiler: gcc gcc (SUSE Linux) 7.5.0 Red Hat Enterprise Linux 8.10 Kernel: 5.15 Compiler: gcc gcc (GCC) 8.5.0 20210514 (Red Hat 8.5.0-22) Red Hat Enterprise Linux 9.5 Kernel: 5.15 Compiler: gcc gcc (GCC) 11.5.0 20240719 (Red Hat 11.5.0-2) Ubuntu 22.04 Kernel: 5.15 Compiler: gcc gcc (Ubuntu 11.4.0-1ubuntu1~22.04) 11.4.0 Ubuntu 24.04 Kernel: 5.15 Compiler: gcc gcc (Ubuntu 13.3.0-6ubuntu2~24.04) 13.3.0 Alpine Linux 3.22.0 Kernel: 5.15 Compiler: gcc gcc (Alpine 14.2.0) 14.2.0 Windows Server 2022 Kernel: 10.0.20348.2031 Compiler: clang 15.0.7, gcc 14.1.0 (MinGW), and MSVC VS 19.39.33521 To view detailed results, visit: https://lab.dpdk.org/results/dashboard/patchsets/34577/ UNH-IOL DPDK Community Lab To manage your email subscriptions, visit: https://lab.dpdk.org/results/dashboard/preferences/subscriptions/