From mboxrd@z Thu Jan 1 00:00:00 1970 Return-Path: Received: from mails.dpdk.org (mails.dpdk.org [217.70.189.124]) by inbox.dpdk.org (Postfix) with ESMTP id EA2A748B17 for ; Sat, 15 Nov 2025 11:27:49 +0100 (CET) Received: from mails.dpdk.org (localhost [127.0.0.1]) by mails.dpdk.org (Postfix) with ESMTP id E5ECE40A80; Sat, 15 Nov 2025 11:27:49 +0100 (CET) Received: from mail-pj1-f99.google.com (mail-pj1-f99.google.com [209.85.216.99]) by mails.dpdk.org (Postfix) with ESMTP id 3835440A80 for ; Sat, 15 Nov 2025 11:27:49 +0100 (CET) Received: by mail-pj1-f99.google.com with SMTP id 98e67ed59e1d1-3437c093ef5so2653000a91.0 for ; Sat, 15 Nov 2025 02:27:49 -0800 (PST) DKIM-Signature: v=1; a=rsa-sha256; c=relaxed/relaxed; d=iol.unh.edu; s=unh-iol; t=1763202468; x=1763807268; darn=dpdk.org; h=references:in-reply-to:cc:to:from:subject:message-id:date:from:to :cc:subject:date:message-id:reply-to; bh=4MRmtQTB3GBt1wFMt0t2fP1ToWKRRnvpBCnkB9t17u0=; b=AsK+/DDRvV8EoANbJQCNmrZ3oDk+ylRfheQsFSvDq5USvACbxy4mCLrF2k3K6p9/8O P2sKssrTcAOUG7A6LgAROF79VauX7XMOpQWqXmyyCEuJ+R5jAM+9b7Vykjjzmkr8k37J 8OcUZf1khJSb1P2JNB2kV3xkFxOqiANjDjOYY= X-Google-DKIM-Signature: v=1; a=rsa-sha256; c=relaxed/relaxed; d=1e100.net; s=20230601; t=1763202468; x=1763807268; h=references:in-reply-to:cc:to:from:subject:message-id:date:x-gm-gg :x-gm-message-state:from:to:cc:subject:date:message-id:reply-to; bh=4MRmtQTB3GBt1wFMt0t2fP1ToWKRRnvpBCnkB9t17u0=; b=pDAR1fWcJG87Mx75JyxkPR94QzcdkElIB9lzrA2+FnPyBLX2tK3x9DQJlysu4VjHqS Tf8spwei9RKVcKlgdNp5WbfSfZkTWqcS7rGpQfzofhW5R8OYUZd8qrJ9/Gri3zYEku/u BBHTN4Xq2QLhlB/RqAwEfDOzqYcD1SR6qID3f5xZu/S1fPnc7w4omrbgTuZ/aygchYYI 9GUOtG2vAIVKQSl95Ja4zlFRtgOqQpgBMMkfQZTP480wvOf12FBm9sXSbXtQrpygB5uV vqaLXkni+bJT34WtlcKsQH/6p2pOD7v5QCzUgpGsN7UGJToqegGsNX0583qXM3W+6ekF mBCA== X-Gm-Message-State: AOJu0YzWvd+qtZ4ZdbBNNa0c0gewHaTRTtBQsC86CgJ1Q2Nmgypd7z/f jamXiDj2bPUBcFVhhLPj9VKKPXFHl68IwbpIWdmnt4DPfNH8wJJxIFZ1eU5rwiWwphbqRpr+KMp 0oIpOqxFL1EwpRY4k6mrxaBf8xNVK49KpWu4UBy41b4sE X-Gm-Gg: ASbGncsbLau0q4VMPGc3HCeSmtl2dSNgXO6eys8Nw/ohRi3XtVue4+lwVYDloZHp6o6 YPzZcjxhgS4spX9Py8tIx4Bb54ygJNQ4fwuT6W3rnvCPS57T6NkShB/WlPte12bmmiWXJtEV34U I9Pa3ddXXTpdziMZUjZUvLU8ydUsDwEQ2W8yeIPxbOXXNY4eVNDgMja5eupyh9G1iMRIOeEFNLt 8YL3f2HDZd03qXSt4JjKgCFN2h5vHRmkf7lATb8A0sw/2h34n0jEENJ4nk5CQU98AbGfvkh5mxs MYJXZdGTFlP9D2L4mgy+R9c3zXaDcdly0uewIp3W0PApFzMAvqoapDOtbiilO2ruIh8OamWovnp JJM3GjmfHHH6RovSU/xU2Os24w+zaoBc= X-Google-Smtp-Source: AGHT+IGO6BZXRHmyqievP+qifENqleTNR96++xVUd96fOjsayCghL3QFnUxmG/ZfP6BpzdFQoh9/yVKoaglW X-Received: by 2002:a17:90b:1a8a:b0:341:69e3:785a with SMTP id 98e67ed59e1d1-343f9fdf8efmr8208121a91.16.1763202468325; Sat, 15 Nov 2025 02:27:48 -0800 (PST) Received: from postal.iol.unh.edu (postal.iol.unh.edu. [132.177.123.84]) by smtp-relay.gmail.com with ESMTPS id 98e67ed59e1d1-343ed4c95d5sm984744a91.2.2025.11.15.02.27.48 (version=TLS1_2 cipher=ECDHE-ECDSA-AES128-GCM-SHA256 bits=128/128); Sat, 15 Nov 2025 02:27:48 -0800 (PST) X-Relaying-Domain: iol.unh.edu Date: Sat, 15 Nov 2025 02:27:48 -0800 (PST) Message-ID: <691855a4.170a0220.1a1beb.0c11SMTPIN_ADDED_MISSING@mx.google.com> Received: from [172.21.0.2] (unknown [172.18.0.240]) by postal.iol.unh.edu (Postfix) with ESMTP id 8330A6051830; Sat, 15 Nov 2025 05:27:47 -0500 (EST) Subject: |SUCCESS| pw158770 [PATCH] net/idpf: fix missing offload from conver From: dpdklab@iol.unh.edu To: Test Report Cc: dpdk-test-reports@iol.unh.edu, Bruce Richardson In-Reply-To: <20251113145021.3793930-1-ciara.loftus@intel.com> References: <20251113145021.3793930-1-ciara.loftus@intel.com> Content-Type: text/plain X-BeenThere: test-report@dpdk.org X-Mailman-Version: 2.1.29 Precedence: list List-Id: automatic DPDK test reports List-Unsubscribe: , List-Archive: List-Post: List-Help: List-Subscribe: , Errors-To: test-report-bounces@dpdk.org Test-Label: iol-compile-amd64-testing Test-Status: SUCCESS http://dpdk.org/patch/158770 _Testing PASS_ Submitter: Ciara Loftus Date: Thursday, November 13 2025 14:50:21 DPDK git baseline: Repo:dpdk-next-net-intel Branch: master CommitID:e5357d609907d504f4705e4899f3dad43cb4b70f 158770 --> testing pass Upstream job id: Windows-Compile-DPDK-Native#32379 Test environment and result as below: +-------------------------------+--------------------+------------------+-------------------+-------------------------+ | Environment | dpdk_meson_compile | dpdk_compile_ovs | dpdk_msvc_compile | dpdk_llvm_clang_compile | +===============================+====================+==================+===================+=========================+ | FreeBSD 14.2 | PASS | SKIPPED | SKIPPED | SKIPPED | +-------------------------------+--------------------+------------------+-------------------+-------------------------+ | Ubuntu 20.04 | PASS | SKIPPED | SKIPPED | SKIPPED | +-------------------------------+--------------------+------------------+-------------------+-------------------------+ | CentOS Stream 9 | PASS | SKIPPED | SKIPPED | SKIPPED | +-------------------------------+--------------------+------------------+-------------------+-------------------------+ | CentOS Stream 10 | PASS | SKIPPED | SKIPPED | SKIPPED | +-------------------------------+--------------------+------------------+-------------------+-------------------------+ | Debian GNU/Linux 12 | PASS | SKIPPED | SKIPPED | SKIPPED | +-------------------------------+--------------------+------------------+-------------------+-------------------------+ | Fedora Linux 42 | PASS | PASS | SKIPPED | SKIPPED | +-------------------------------+--------------------+------------------+-------------------+-------------------------+ | openSUSE Leap 15.6 | PASS | SKIPPED | SKIPPED | SKIPPED | +-------------------------------+--------------------+------------------+-------------------+-------------------------+ | Red Hat Enterprise Linux 8.10 | PASS | SKIPPED | SKIPPED | SKIPPED | +-------------------------------+--------------------+------------------+-------------------+-------------------------+ | Red Hat Enterprise Linux 9.5 | PASS | SKIPPED | SKIPPED | SKIPPED | +-------------------------------+--------------------+------------------+-------------------+-------------------------+ | Ubuntu 22.04 | PASS | SKIPPED | SKIPPED | SKIPPED | +-------------------------------+--------------------+------------------+-------------------+-------------------------+ | Ubuntu 24.04 | PASS | PASS | SKIPPED | SKIPPED | +-------------------------------+--------------------+------------------+-------------------+-------------------------+ | Alpine Linux 3.22.0 | PASS | SKIPPED | SKIPPED | SKIPPED | +-------------------------------+--------------------+------------------+-------------------+-------------------------+ | Windows Server 2022 | SKIPPED | SKIPPED | PASS | PASS | +-------------------------------+--------------------+------------------+-------------------+-------------------------+ FreeBSD 14.2 Kernel: 14.2-RELEASE Compiler: clang 18.1.6 Ubuntu 20.04 Kernel: 4.19 Compiler: gcc gcc (Ubuntu 9.4.0-1ubuntu1~20.04.2) 9.4.0 CentOS Stream 9 Kernel: 5.15 Compiler: gcc gcc (GCC) 11.5.0 20240719 (Red Hat 11.5.0-11) CentOS Stream 10 Kernel: 5.15 Compiler: gcc gcc (GCC) 14.2.1 20250110 (Red Hat 14.2.1-8) Debian GNU/Linux 12 Kernel: 5.15 Compiler: gcc gcc (Debian 12.2.0-14+deb12u1) 12.2.0 Fedora Linux 42 Kernel: 5.15 Compiler: clang gcc (GCC) 15.2.1 20250808 (Red Hat 15.2.1-1) openSUSE Leap 15.6 Kernel: 5.15 Compiler: gcc gcc (SUSE Linux) 7.5.0 Red Hat Enterprise Linux 8.10 Kernel: 5.15 Compiler: gcc gcc (GCC) 8.5.0 20210514 (Red Hat 8.5.0-22) Red Hat Enterprise Linux 9.5 Kernel: 5.15 Compiler: gcc gcc (GCC) 11.5.0 20240719 (Red Hat 11.5.0-2) Ubuntu 22.04 Kernel: 5.15 Compiler: gcc gcc (Ubuntu 11.4.0-1ubuntu1~22.04) 11.4.0 Ubuntu 24.04 Kernel: 5.15 Compiler: gcc gcc (Ubuntu 13.3.0-6ubuntu2~24.04) 13.3.0 Alpine Linux 3.22.0 Kernel: 5.15 Compiler: gcc gcc (Alpine 14.2.0) 14.2.0 Windows Server 2022 Kernel: 10.0.20348.2031 Compiler: clang 15.0.7, gcc 14.1.0 (MinGW), and MSVC VS 19.39.33521 To view detailed results, visit: https://lab.dpdk.org/results/dashboard/patchsets/34578/ UNH-IOL DPDK Community Lab To manage your email subscriptions, visit: https://lab.dpdk.org/results/dashboard/preferences/subscriptions/