From mboxrd@z Thu Jan 1 00:00:00 1970 Return-Path: Received: from mails.dpdk.org (mails.dpdk.org [217.70.189.124]) by inbox.dpdk.org (Postfix) with ESMTP id D556C48B17 for ; Sat, 15 Nov 2025 11:36:40 +0100 (CET) Received: from mails.dpdk.org (localhost [127.0.0.1]) by mails.dpdk.org (Postfix) with ESMTP id D0D5040A80; Sat, 15 Nov 2025 11:36:40 +0100 (CET) Received: from mail-il1-f226.google.com (mail-il1-f226.google.com [209.85.166.226]) by mails.dpdk.org (Postfix) with ESMTP id 6D24240A80 for ; Sat, 15 Nov 2025 11:36:39 +0100 (CET) Received: by mail-il1-f226.google.com with SMTP id e9e14a558f8ab-4331709968fso10122355ab.2 for ; Sat, 15 Nov 2025 02:36:39 -0800 (PST) DKIM-Signature: v=1; a=rsa-sha256; c=relaxed/relaxed; d=iol.unh.edu; s=unh-iol; t=1763202999; x=1763807799; darn=dpdk.org; h=references:in-reply-to:cc:to:from:subject:message-id:date:from:to :cc:subject:date:message-id:reply-to; bh=RdGy+dZz+M2eqAQxmOc3V7XE2fQmZQtOfg0Ix9XFbX0=; b=bkP4q5AmlXqxzFdDr4XDWwn0sQDSxZLNaPv7xYoPmnJxKWrKJsEf7rILvDIByLIQqV w+/A4conVxxit7bZfwNOIs2MFNNX49XPO2Rw2eMry8bqzdSxjJXOiFetczr/o8RZcrp+ /nisSlxMnm97fZyHFQmjsws68Q9P3IBMLZZyI= X-Google-DKIM-Signature: v=1; a=rsa-sha256; c=relaxed/relaxed; d=1e100.net; s=20230601; t=1763202999; x=1763807799; h=references:in-reply-to:cc:to:from:subject:message-id:date:x-gm-gg :x-gm-message-state:from:to:cc:subject:date:message-id:reply-to; bh=RdGy+dZz+M2eqAQxmOc3V7XE2fQmZQtOfg0Ix9XFbX0=; b=PE3vjzkvK2+g3KhgIaiKOdhNwXeovmHGc0ELLlgy8S5Cp0Qb2etlWJD2EH7n/dXW8S p0NQ+zo7OOtHNiZ+xEHKZJDr0EeevncscNrcw3yYUwUupU0tApfIf09pOCYa5whY0Yx5 d1JYJNWRDKSk83eHMlOYTRBcrL0o0SbBWls9YmWCAYnrCHhOfIeFU2tJO8M4DW+/J9NJ 8BrG/oK8PkbMBHKmE920DWgEooYSDy2t66Qq2bOtxyrPQpmjAvjAv7o/g2uMGmfRPPsS uRsO4+TwnOaC+VcGnblfQaD0XRDhBJuu+2hSJ9tNK4RFFCHGfeVfTDz5+DmY0EQaO1dv OSsQ== X-Gm-Message-State: AOJu0Yx/BS7dKxEeFoX+4MtqFB4SaacWvLiiXg+lsAtqkW0MQBfZCfZb DK8P7C4XwfrMZh6IvAPU6Lo/DQkOSzuTnvOegC3WioNl3DTt+ngSPfNugHhtKyRTn8IKb8LAsGf bQ/zh7ZGWgBUmnmCD/R5+emTTxueGciXK2Hck/Jc4gR3/ X-Gm-Gg: ASbGncsm6UkR7QxbVyuPBp2+Oy3phPf749r0TdN0GDQ6JSUBs8lMklAwhXuivZHQZ8t 6NCdyCwQQ/ZqOkKUHyeiaIrTHNNOuzI1gSrjiFJzqyrsT7Cr3ZYM/I4ZlrgSC8a+E9kBzdWACxl W6syemQwGQvLz9RbjEizAisk2eqNqmKdktaEVyBwhaXPH3HxWeC646bUg95CBatUoyoDvHZGNE2 6nu9Ru63D9fA3pVs6vS4eELPTdIH7mGw3QEFEwHgEhFV3LO6dk3Ro61W60EkO9wkQOyKLUYXRvi PliIKRNmLtLZmIRREjej3KH/hd5pflR8efO/PgSshwIKmEcCvxUY5IcenLpS4lOlZ2QwHs7cWAr y6mt3dVwGBSvqwyfLH3ROd3dOcH8n60M= X-Google-Smtp-Source: AGHT+IGOoED/MQ2UH2UyfpHSrwmm8Ivd8df0TV0CXY5D11Iq6zNb0hhsxwaL5RJPQdD0s+FBLwaWB+gYPnpW X-Received: by 2002:a05:6e02:1fc5:b0:434:96ea:ff60 with SMTP id e9e14a558f8ab-43496eb017emr44073645ab.33.1763202998732; Sat, 15 Nov 2025 02:36:38 -0800 (PST) Received: from postal.iol.unh.edu (postal.iol.unh.edu. [132.177.123.84]) by smtp-relay.gmail.com with ESMTPS id e9e14a558f8ab-43482bd5d66sm7017195ab.0.2025.11.15.02.36.38 (version=TLS1_2 cipher=ECDHE-ECDSA-AES128-GCM-SHA256 bits=128/128); Sat, 15 Nov 2025 02:36:38 -0800 (PST) X-Relaying-Domain: iol.unh.edu Date: Sat, 15 Nov 2025 02:36:38 -0800 (PST) Message-ID: <691857b6.050a0220.147db7.1e82SMTPIN_ADDED_MISSING@mx.google.com> Received: from [172.21.0.2] (unknown [172.18.0.240]) by postal.iol.unh.edu (Postfix) with ESMTP id 4806E6051830; Sat, 15 Nov 2025 05:36:38 -0500 (EST) Subject: |SUCCESS| pw158819 [PATCH] net/mlx5: improve error on completing tab From: dpdklab@iol.unh.edu To: Test Report Cc: dpdk-test-reports@iol.unh.edu In-Reply-To: <20251114192712.1637369-1-dsosnowski@nvidia.com> References: <20251114192712.1637369-1-dsosnowski@nvidia.com> Content-Type: text/plain X-BeenThere: test-report@dpdk.org X-Mailman-Version: 2.1.29 Precedence: list List-Id: automatic DPDK test reports List-Unsubscribe: , List-Archive: List-Post: List-Help: List-Subscribe: , Errors-To: test-report-bounces@dpdk.org Test-Label: iol-unit-amd64-testing Test-Status: SUCCESS http://dpdk.org/patch/158819 _Testing PASS_ Submitter: Dariusz Sosnowski Date: Friday, November 14 2025 19:27:12 DPDK git baseline: Repo:dpdk-next-net-mlx Branch: master CommitID:ae657d56b1f0ea979b3f611edf28d773efc2ddcf 158819 --> testing pass Upstream job id: Generic-VM-Unit-Test-DPDK#32589 Test environment and result as below: +-------------------------------+----------------+ | Environment | dpdk_unit_test | +===============================+================+ | CentOS Stream 10 | PASS | +-------------------------------+----------------+ | CentOS Stream 9 | PASS | +-------------------------------+----------------+ | Debian GNU/Linux 12 | PASS | +-------------------------------+----------------+ | Fedora Linux 41 | PASS | +-------------------------------+----------------+ | Fedora Linux 40 | PASS | +-------------------------------+----------------+ | Fedora Linux 42 | PASS | +-------------------------------+----------------+ | Ubuntu 22.04 | PASS | +-------------------------------+----------------+ | Ubuntu 20.04 | PASS | +-------------------------------+----------------+ | Red Hat Enterprise Linux 9.5 | PASS | +-------------------------------+----------------+ | Red Hat Enterprise Linux 8.10 | PASS | +-------------------------------+----------------+ | Ubuntu 24.04 | PASS | +-------------------------------+----------------+ | Windows Server 2022 | PASS | +-------------------------------+----------------+ CentOS Stream 10 Kernel: 5.15 Compiler: gcc gcc (GCC) 14.2.1 20250110 (Red Hat 14.2.1-8) CentOS Stream 9 Kernel: 5.15 Compiler: gcc gcc (GCC) 11.5.0 20240719 (Red Hat 11.5.0-11) Debian GNU/Linux 12 Kernel: 5.15 Compiler: gcc gcc (Debian 12.2.0-14+deb12u1) 12.2.0 Fedora Linux 41 Kernel: 5.15 Compiler: clang gcc (GCC) 14.3.1 20250523 (Red Hat 14.3.1-1) Fedora Linux 40 Kernel: 5.15 Compiler: gcc gcc (GCC) 14.2.1 20240912 (Red Hat 14.2.1-3) Fedora Linux 42 Kernel: 5.15 Compiler: clang gcc (GCC) 15.2.1 20250808 (Red Hat 15.2.1-1) Ubuntu 22.04 Kernel: 5.15 Compiler: gcc gcc (Ubuntu 11.4.0-1ubuntu1~22.04) 11.4.0 Ubuntu 20.04 Kernel: 5.15 Compiler: gcc gcc (Ubuntu 9.4.0-1ubuntu1~20.04.2) 9.4.0 Red Hat Enterprise Linux 9.5 Kernel: 5.15 Compiler: gcc gcc (GCC) 11.5.0 20240719 (Red Hat 11.5.0-2) Red Hat Enterprise Linux 8.10 Kernel: 5.15 Compiler: gcc gcc (GCC) 8.5.0 20210514 (Red Hat 8.5.0-22) Ubuntu 24.04 Kernel: 5.15 Compiler: gcc gcc (Ubuntu 13.3.0-6ubuntu2~24.04) 13.3.0 Windows Server 2022 Kernel: 10.0.20348.2031 Compiler: clang 15.0.7, gcc 14.1.0 (MinGW), and MSVC VS 19.39.33521 To view detailed results, visit: https://lab.dpdk.org/results/dashboard/patchsets/34601/ UNH-IOL DPDK Community Lab To manage your email subscriptions, visit: https://lab.dpdk.org/results/dashboard/preferences/subscriptions/