From mboxrd@z Thu Jan 1 00:00:00 1970 Return-Path: Received: from mails.dpdk.org (mails.dpdk.org [217.70.189.124]) by inbox.dpdk.org (Postfix) with ESMTP id 21DF848B17 for ; Sat, 15 Nov 2025 11:38:35 +0100 (CET) Received: from mails.dpdk.org (localhost [127.0.0.1]) by mails.dpdk.org (Postfix) with ESMTP id 1D78840A80; Sat, 15 Nov 2025 11:38:35 +0100 (CET) Received: from mail-vs1-f100.google.com (mail-vs1-f100.google.com [209.85.217.100]) by mails.dpdk.org (Postfix) with ESMTP id 8216440A80 for ; Sat, 15 Nov 2025 11:38:33 +0100 (CET) Received: by mail-vs1-f100.google.com with SMTP id ada2fe7eead31-5dfc6be7df3so603067137.0 for ; Sat, 15 Nov 2025 02:38:33 -0800 (PST) DKIM-Signature: v=1; a=rsa-sha256; c=relaxed/relaxed; d=iol.unh.edu; s=unh-iol; t=1763203113; x=1763807913; darn=dpdk.org; h=references:in-reply-to:cc:to:from:subject:message-id:date:from:to :cc:subject:date:message-id:reply-to; bh=/+rgqv33pxxOfVdxXtTFaHqEkFPs9kz+xYDfrl7Og8E=; b=chMskhPkaJMOoH0djpMQDzoAwv/nCZHdphTRfe/pRMX95f4YEcFpulm+BPwyHFY+xv uSDuejHUhMs9/2N6xpLJq20KFs6BBZDmj+Gq11bJl1/s+4PU3cxG+ePhEVCJg3iW2dge AfmRZGzmdzwL18H8B9dzeCS5y6dI/JfZmtetw= X-Google-DKIM-Signature: v=1; a=rsa-sha256; c=relaxed/relaxed; d=1e100.net; s=20230601; t=1763203113; x=1763807913; h=references:in-reply-to:cc:to:from:subject:message-id:date:x-gm-gg :x-gm-message-state:from:to:cc:subject:date:message-id:reply-to; bh=/+rgqv33pxxOfVdxXtTFaHqEkFPs9kz+xYDfrl7Og8E=; b=YkTgtj/CjQ+Ki+lhyZbt3Up6VB55VeA5D4mHLK0FxVoPKW2s00RM1ENC//IdPrrmiY 1dPU/sQpiWdnMzxx/f8pdUNQ35ys4b6VL94yJGrpZC8kFVqfR7LN6sQmkiQHGynujxXd 8WdUP6zZNH4dt1r83CPqG6bHQMO4kTJbXOBKmfSl3vUi5wEduoIWc2co59JqtxvPp11n egLjD2aXnajf8TxRmNSuU2fd9OHcvg+zJtcjn/RoXV1kL/3LME3HYkDpgWj6wbUNToT9 2xuNvNV0t/luoZ+U1pCa66c29cKldHGdBPHypFNlQ9lmXHfXecPIL0LgOh0Vth9ql7Oi VULw== X-Gm-Message-State: AOJu0Yx4sNIjVEtzrcxGDJggkEBlG1pcQGb7YyIsazMlCSh0SwnRBT84 QdtI8RfW5kvrxy4500f0y2YP+rfgxtKfI2wctImAbvi6GQYBnHSN+JO6qTnjO9xsTFCUact2jud 73m+RB8qUTK2DOkwZ2vbTjxcCcezBTE52aVPrwrVT66ilSmyDNM1kt9b1bAlk X-Gm-Gg: ASbGnctTQVaqnXKVfoQR0Or7XUulgs2+23+Cav2J5qMAzT5ueVn11YH1gKkFDNt+zrS 9FlNLq5XjQivHt4vM+9glFWCf1AF2b821wqzp2czFstvGjqQKy0E9g3HhsB1a2O7ovIc5A4Hd1x Rh4fu0H1lYFqJwwEw3uBaXVqQNdmOQGfwPyo/UiL2QMBTfLSLI+6PoTKrhIG6AzvahIco8D5jiU z8WE7BDmQT6YEWeCvbhywscF8fPTwNQacp3mglYr0Rnxxi0haFDfiQ5xz39+qb1Dnr12gpPyDL6 zE6m8vULUNm4Uy8GOxbss9zl/9HoltoPnjV7i9DEHfoJ8kqzuggGRA6hgHZyWZgQn7aJys+/ZPe fjtKBV28f X-Google-Smtp-Source: AGHT+IGmDE5n0q60wHrTLqV04DSXZ+9HjvFww+TBfvy0HF1XnK3OQH5zAyO4+GYtQRGMs0UgiHQKgZKJnteL X-Received: by 2002:a05:6102:50a4:b0:5d5:dbbb:5b86 with SMTP id ada2fe7eead31-5dfc5b6fedfmr2031257137.25.1763203112796; Sat, 15 Nov 2025 02:38:32 -0800 (PST) Received: from postal.iol.unh.edu (postal.iol.unh.edu. [2606:4100:3880:1234::84]) by smtp-relay.gmail.com with ESMTPS id ada2fe7eead31-5dfb6c7a0d0sm788685137.0.2025.11.15.02.38.32 (version=TLS1_2 cipher=ECDHE-ECDSA-AES128-GCM-SHA256 bits=128/128); Sat, 15 Nov 2025 02:38:32 -0800 (PST) X-Relaying-Domain: iol.unh.edu Date: Sat, 15 Nov 2025 02:38:32 -0800 (PST) Message-ID: <69185828.050a0220.19b74f.83d6SMTPIN_ADDED_MISSING@mx.google.com> Received: from [172.21.0.3] (unknown [172.18.0.240]) by postal.iol.unh.edu (Postfix) with ESMTP id 57E8C6051830; Sat, 15 Nov 2025 05:38:32 -0500 (EST) Subject: |SUCCESS| pw158770 [PATCH] net/idpf: fix missing offload from conver From: dpdklab@iol.unh.edu To: Test Report Cc: dpdk-test-reports@iol.unh.edu, Bruce Richardson In-Reply-To: <20251113145021.3793930-1-ciara.loftus@intel.com> References: <20251113145021.3793930-1-ciara.loftus@intel.com> Content-Type: text/plain X-BeenThere: test-report@dpdk.org X-Mailman-Version: 2.1.29 Precedence: list List-Id: automatic DPDK test reports List-Unsubscribe: , List-Archive: List-Post: List-Help: List-Subscribe: , Errors-To: test-report-bounces@dpdk.org Test-Label: iol-compile-amd64-testing Test-Status: SUCCESS http://dpdk.org/patch/158770 _Testing PASS_ Submitter: Ciara Loftus Date: Thursday, November 13 2025 14:50:21 DPDK git baseline: Repo:dpdk-next-net-intel Branch: master CommitID:e5357d609907d504f4705e4899f3dad43cb4b70f 158770 --> testing pass Upstream job id: Windows-Compile-DPDK-Native#32380 Test environment and result as below: +-------------------------------+--------------------+------------------+-------------------+-------------------------+----------------------+ | Environment | dpdk_meson_compile | dpdk_compile_ovs | dpdk_msvc_compile | dpdk_llvm_clang_compile | dpdk_mingw64_compile | +===============================+====================+==================+===================+=========================+======================+ | FreeBSD 14.2 | PASS | SKIPPED | SKIPPED | SKIPPED | SKIPPED | +-------------------------------+--------------------+------------------+-------------------+-------------------------+----------------------+ | Ubuntu 20.04 | PASS | SKIPPED | SKIPPED | SKIPPED | SKIPPED | +-------------------------------+--------------------+------------------+-------------------+-------------------------+----------------------+ | CentOS Stream 9 | PASS | SKIPPED | SKIPPED | SKIPPED | SKIPPED | +-------------------------------+--------------------+------------------+-------------------+-------------------------+----------------------+ | CentOS Stream 10 | PASS | SKIPPED | SKIPPED | SKIPPED | SKIPPED | +-------------------------------+--------------------+------------------+-------------------+-------------------------+----------------------+ | Debian GNU/Linux 12 | PASS | SKIPPED | SKIPPED | SKIPPED | SKIPPED | +-------------------------------+--------------------+------------------+-------------------+-------------------------+----------------------+ | Fedora Linux 42 | PASS | PASS | SKIPPED | SKIPPED | SKIPPED | +-------------------------------+--------------------+------------------+-------------------+-------------------------+----------------------+ | openSUSE Leap 15.6 | PASS | SKIPPED | SKIPPED | SKIPPED | SKIPPED | +-------------------------------+--------------------+------------------+-------------------+-------------------------+----------------------+ | Red Hat Enterprise Linux 8.10 | PASS | SKIPPED | SKIPPED | SKIPPED | SKIPPED | +-------------------------------+--------------------+------------------+-------------------+-------------------------+----------------------+ | Red Hat Enterprise Linux 9.5 | PASS | SKIPPED | SKIPPED | SKIPPED | SKIPPED | +-------------------------------+--------------------+------------------+-------------------+-------------------------+----------------------+ | Ubuntu 22.04 | PASS | SKIPPED | SKIPPED | SKIPPED | SKIPPED | +-------------------------------+--------------------+------------------+-------------------+-------------------------+----------------------+ | Ubuntu 24.04 | PASS | PASS | SKIPPED | SKIPPED | SKIPPED | +-------------------------------+--------------------+------------------+-------------------+-------------------------+----------------------+ | Alpine Linux 3.22.0 | PASS | SKIPPED | SKIPPED | SKIPPED | SKIPPED | +-------------------------------+--------------------+------------------+-------------------+-------------------------+----------------------+ | Windows Server 2022 | SKIPPED | SKIPPED | PASS | PASS | PASS | +-------------------------------+--------------------+------------------+-------------------+-------------------------+----------------------+ FreeBSD 14.2 Kernel: 14.2-RELEASE Compiler: clang 18.1.6 Ubuntu 20.04 Kernel: 4.19 Compiler: gcc gcc (Ubuntu 9.4.0-1ubuntu1~20.04.2) 9.4.0 CentOS Stream 9 Kernel: 5.15 Compiler: gcc gcc (GCC) 11.5.0 20240719 (Red Hat 11.5.0-11) CentOS Stream 10 Kernel: 5.15 Compiler: gcc gcc (GCC) 14.2.1 20250110 (Red Hat 14.2.1-8) Debian GNU/Linux 12 Kernel: 5.15 Compiler: gcc gcc (Debian 12.2.0-14+deb12u1) 12.2.0 Fedora Linux 42 Kernel: 5.15 Compiler: clang gcc (GCC) 15.2.1 20250808 (Red Hat 15.2.1-1) openSUSE Leap 15.6 Kernel: 5.15 Compiler: gcc gcc (SUSE Linux) 7.5.0 Red Hat Enterprise Linux 8.10 Kernel: 5.15 Compiler: gcc gcc (GCC) 8.5.0 20210514 (Red Hat 8.5.0-22) Red Hat Enterprise Linux 9.5 Kernel: 5.15 Compiler: gcc gcc (GCC) 11.5.0 20240719 (Red Hat 11.5.0-2) Ubuntu 22.04 Kernel: 5.15 Compiler: gcc gcc (Ubuntu 11.4.0-1ubuntu1~22.04) 11.4.0 Ubuntu 24.04 Kernel: 5.15 Compiler: gcc gcc (Ubuntu 13.3.0-6ubuntu2~24.04) 13.3.0 Alpine Linux 3.22.0 Kernel: 5.15 Compiler: gcc gcc (Alpine 14.2.0) 14.2.0 Windows Server 2022 Kernel: 10.0.20348.2031 Compiler: clang 15.0.7, gcc 14.1.0 (MinGW), and MSVC VS 19.39.33521 To view detailed results, visit: https://lab.dpdk.org/results/dashboard/patchsets/34578/ UNH-IOL DPDK Community Lab To manage your email subscriptions, visit: https://lab.dpdk.org/results/dashboard/preferences/subscriptions/