From mboxrd@z Thu Jan 1 00:00:00 1970 Return-Path: Received: from mails.dpdk.org (mails.dpdk.org [217.70.189.124]) by inbox.dpdk.org (Postfix) with ESMTP id 72BBC48B17 for ; Sat, 15 Nov 2025 11:40:54 +0100 (CET) Received: from mails.dpdk.org (localhost [127.0.0.1]) by mails.dpdk.org (Postfix) with ESMTP id 50BE040A80; Sat, 15 Nov 2025 11:40:54 +0100 (CET) Received: from mail-io1-f97.google.com (mail-io1-f97.google.com [209.85.166.97]) by mails.dpdk.org (Postfix) with ESMTP id 31F9D40A80 for ; Sat, 15 Nov 2025 11:40:53 +0100 (CET) Received: by mail-io1-f97.google.com with SMTP id ca18e2360f4ac-948a7964a41so86065739f.2 for ; Sat, 15 Nov 2025 02:40:53 -0800 (PST) DKIM-Signature: v=1; a=rsa-sha256; c=relaxed/relaxed; d=iol.unh.edu; s=unh-iol; t=1763203252; x=1763808052; darn=dpdk.org; h=references:in-reply-to:cc:to:from:subject:message-id:date:from:to :cc:subject:date:message-id:reply-to; bh=FmvxlJXE8r2GD7GtOd5rW4hoEUH+/VMuO/t2TXV3aPs=; b=IPypr4ro9LRxoRHIxPaaQkjeN7EG+KhIO7s4oLukM0HfV6pyOYOvh8IW34ItsURruv oOa6GYRevL6W2NS/60Z4wmvJ+XFzqAJKmjBgcrP0IVQfWL88AkM8rHg4WNUbqtTk1hFx OpVBvSwoLOn4jx7ILNwEDH3Or36rsrybuAKT0= X-Google-DKIM-Signature: v=1; a=rsa-sha256; c=relaxed/relaxed; d=1e100.net; s=20230601; t=1763203252; x=1763808052; h=references:in-reply-to:cc:to:from:subject:message-id:date:x-gm-gg :x-gm-message-state:from:to:cc:subject:date:message-id:reply-to; bh=FmvxlJXE8r2GD7GtOd5rW4hoEUH+/VMuO/t2TXV3aPs=; b=U6fs9oK/no5BhK7xX5erDXukdYvdQiL8tASBV+XIHqb6Qvy4T6p2CxF8cUI6PK+Kxp STav+FqhsWhUIR3Nvy9+e13eehVUtto/aarDnqxG3WeHu1cVwkvHNGdcSt9tQ0JmVMnF 0AusJ+lVZp2kKo4XbaoJVXELu+Skc34LmINK2B+wkMbKvgphisWn0IG+KGx89aRecfMG g7uQ7oZwRo+9/1lsncOvRhs1OtB5BWBdqRpAdsI/Zqno+8P4lyAclbdc1rsJVTPjwwua kf2BmEs/zbflOV9QR+y6FCtLrXyVoNzMtta00LzOHNW3ZIHfCbwmqT15tp4a61QF2ggO w3GQ== X-Gm-Message-State: AOJu0YxLGbN/4D568vYK2oTi96KDodmrMtg6voPnyerb7/UmgGoiS2tu wvIg34VQtpO0SA+aDlL73rPfr2Rkz3oCBX2O/LQFMudJFl25Iuacet8DIRrxzFTy8L/rX54mX6h XZb21cf/BHGqthFumjDOrMVvG9Qy3sTBp/G2v2wI1G6cM X-Gm-Gg: ASbGnctr9WAARH2Q0AAFxEZEPFRVb2e3pSGNorlJtnvOupTazyP3TuS0IkmXM922Oq3 /A9sM76qmy/XljtA4mt1y0bi/bgRyYtcagJnzu9u8nUbvP5ELu4QNK8mpr+0d90YR0oPyfBaIOd LIEnCE0FLKRFFBsc76S+ziXp8mwI9PJ0VgqvWMJ30StnC0F/u8b5vqsOZ76cScGzxGiH57Y6dE6 PpRjiLl5KE6kSCA4RmXKzvZqMVkz2EmOGmPznAxI2MeBmw1xAsPp05cRbd66EvHPrl9P8RW+Ol9 9KectNocEA38AISnilLu5N0a0MylY8KwLjVB4dR/T7L60/OPahTu3/FscpKb2CFb4Ic5t6RhZfv 0CoE/Wmvkp7YHJb85LARafbRkA8J2MI8= X-Google-Smtp-Source: AGHT+IEeF35TTmftrcVqUCzMf0z3ujcTDD6dRxy4wWKw3KXjRqWDk6pXZdYzaCdQ9PO7w0EuHvJ0PDbjjwMF X-Received: by 2002:a05:6602:491:b0:948:a6b9:3d08 with SMTP id ca18e2360f4ac-948e0ce20ffmr797079939f.3.1763203252442; Sat, 15 Nov 2025 02:40:52 -0800 (PST) Received: from postal.iol.unh.edu (postal.iol.unh.edu. [132.177.123.84]) by smtp-relay.gmail.com with ESMTPS id 8926c6da1cb9f-5b7bd319dcbsm405213173.20.2025.11.15.02.40.52 (version=TLS1_2 cipher=ECDHE-ECDSA-AES128-GCM-SHA256 bits=128/128); Sat, 15 Nov 2025 02:40:52 -0800 (PST) X-Relaying-Domain: iol.unh.edu Date: Sat, 15 Nov 2025 02:40:52 -0800 (PST) Message-ID: <691858b4.050a0220.7580c.3388SMTPIN_ADDED_MISSING@mx.google.com> Received: from [172.21.0.2] (unknown [172.18.0.240]) by postal.iol.unh.edu (Postfix) with ESMTP id 11A4760003F4; Sat, 15 Nov 2025 05:40:52 -0500 (EST) Subject: |SUCCESS| pw158771 [PATCH] net/mlx5: fix uninitialized warning From: dpdklab@iol.unh.edu To: Test Report Cc: dpdk-test-reports@iol.unh.edu In-Reply-To: <20251113163301.285550-1-stephen@networkplumber.org> References: <20251113163301.285550-1-stephen@networkplumber.org> Content-Type: text/plain X-BeenThere: test-report@dpdk.org X-Mailman-Version: 2.1.29 Precedence: list List-Id: automatic DPDK test reports List-Unsubscribe: , List-Archive: List-Post: List-Help: List-Subscribe: , Errors-To: test-report-bounces@dpdk.org Test-Label: iol-compile-amd64-testing Test-Status: SUCCESS http://dpdk.org/patch/158771 _Testing PASS_ Submitter: Stephen Hemminger Date: Thursday, November 13 2025 16:33:01 DPDK git baseline: Repo:dpdk-next-net-mlx Branch: master CommitID:ae657d56b1f0ea979b3f611edf28d773efc2ddcf 158771 --> testing pass Upstream job id: Windows-Compile-DPDK-Native#32381 Test environment and result as below: +-------------------------------+--------------------+-------------------------+------------------+-------------------+----------------------+ | Environment | dpdk_meson_compile | dpdk_llvm_clang_compile | dpdk_compile_ovs | dpdk_msvc_compile | dpdk_mingw64_compile | +===============================+====================+=========================+==================+===================+======================+ | Ubuntu 20.04 | PASS | SKIPPED | SKIPPED | SKIPPED | SKIPPED | +-------------------------------+--------------------+-------------------------+------------------+-------------------+----------------------+ | FreeBSD 14.2 | PASS | SKIPPED | SKIPPED | SKIPPED | SKIPPED | +-------------------------------+--------------------+-------------------------+------------------+-------------------+----------------------+ | CentOS Stream 9 | PASS | SKIPPED | SKIPPED | SKIPPED | SKIPPED | +-------------------------------+--------------------+-------------------------+------------------+-------------------+----------------------+ | CentOS Stream 10 | PASS | SKIPPED | SKIPPED | SKIPPED | SKIPPED | +-------------------------------+--------------------+-------------------------+------------------+-------------------+----------------------+ | Debian GNU/Linux 12 | PASS | SKIPPED | SKIPPED | SKIPPED | SKIPPED | +-------------------------------+--------------------+-------------------------+------------------+-------------------+----------------------+ | Fedora Linux 42 | PASS | SKIPPED | PASS | SKIPPED | SKIPPED | +-------------------------------+--------------------+-------------------------+------------------+-------------------+----------------------+ | openSUSE Leap 15.6 | PASS | SKIPPED | SKIPPED | SKIPPED | SKIPPED | +-------------------------------+--------------------+-------------------------+------------------+-------------------+----------------------+ | Red Hat Enterprise Linux 8.10 | PASS | SKIPPED | SKIPPED | SKIPPED | SKIPPED | +-------------------------------+--------------------+-------------------------+------------------+-------------------+----------------------+ | Red Hat Enterprise Linux 9.5 | PASS | SKIPPED | SKIPPED | SKIPPED | SKIPPED | +-------------------------------+--------------------+-------------------------+------------------+-------------------+----------------------+ | Ubuntu 22.04 | PASS | SKIPPED | SKIPPED | SKIPPED | SKIPPED | +-------------------------------+--------------------+-------------------------+------------------+-------------------+----------------------+ | Ubuntu 24.04 | PASS | SKIPPED | PASS | SKIPPED | SKIPPED | +-------------------------------+--------------------+-------------------------+------------------+-------------------+----------------------+ | Alpine Linux 3.22.0 | PASS | SKIPPED | SKIPPED | SKIPPED | SKIPPED | +-------------------------------+--------------------+-------------------------+------------------+-------------------+----------------------+ | Windows Server 2022 | SKIPPED | PASS | SKIPPED | PASS | PASS | +-------------------------------+--------------------+-------------------------+------------------+-------------------+----------------------+ Ubuntu 20.04 Kernel: 4.19 Compiler: gcc gcc (Ubuntu 9.4.0-1ubuntu1~20.04.2) 9.4.0 FreeBSD 14.2 Kernel: 14.2-RELEASE Compiler: clang 18.1.6 CentOS Stream 9 Kernel: 5.15 Compiler: gcc gcc (GCC) 11.5.0 20240719 (Red Hat 11.5.0-11) CentOS Stream 10 Kernel: 5.15 Compiler: gcc gcc (GCC) 14.2.1 20250110 (Red Hat 14.2.1-8) Debian GNU/Linux 12 Kernel: 5.15 Compiler: gcc gcc (Debian 12.2.0-14+deb12u1) 12.2.0 Fedora Linux 42 Kernel: 5.15 Compiler: clang gcc (GCC) 15.2.1 20250808 (Red Hat 15.2.1-1) openSUSE Leap 15.6 Kernel: 5.15 Compiler: gcc gcc (SUSE Linux) 7.5.0 Red Hat Enterprise Linux 8.10 Kernel: 5.15 Compiler: gcc gcc (GCC) 8.5.0 20210514 (Red Hat 8.5.0-22) Red Hat Enterprise Linux 9.5 Kernel: 5.15 Compiler: gcc gcc (GCC) 11.5.0 20240719 (Red Hat 11.5.0-2) Ubuntu 22.04 Kernel: 5.15 Compiler: gcc gcc (Ubuntu 11.4.0-1ubuntu1~22.04) 11.4.0 Ubuntu 24.04 Kernel: 5.15 Compiler: gcc gcc (Ubuntu 13.3.0-6ubuntu2~24.04) 13.3.0 Alpine Linux 3.22.0 Kernel: 5.15 Compiler: gcc gcc (Alpine 14.2.0) 14.2.0 Windows Server 2022 Kernel: 10.0.20348.2031 Compiler: clang 15.0.7, gcc 14.1.0 (MinGW), and MSVC VS 19.39.33521 To view detailed results, visit: https://lab.dpdk.org/results/dashboard/patchsets/34579/ UNH-IOL DPDK Community Lab To manage your email subscriptions, visit: https://lab.dpdk.org/results/dashboard/preferences/subscriptions/