From mboxrd@z Thu Jan 1 00:00:00 1970 Return-Path: Received: from mails.dpdk.org (mails.dpdk.org [217.70.189.124]) by inbox.dpdk.org (Postfix) with ESMTP id 7987C48B17 for ; Sat, 15 Nov 2025 11:41:55 +0100 (CET) Received: from mails.dpdk.org (localhost [127.0.0.1]) by mails.dpdk.org (Postfix) with ESMTP id 73EA440A80; Sat, 15 Nov 2025 11:41:55 +0100 (CET) Received: from mail-io1-f98.google.com (mail-io1-f98.google.com [209.85.166.98]) by mails.dpdk.org (Postfix) with ESMTP id 9676340A80 for ; Sat, 15 Nov 2025 11:41:54 +0100 (CET) Received: by mail-io1-f98.google.com with SMTP id ca18e2360f4ac-94822ad1baeso220144939f.2 for ; Sat, 15 Nov 2025 02:41:54 -0800 (PST) DKIM-Signature: v=1; a=rsa-sha256; c=relaxed/relaxed; d=iol.unh.edu; s=unh-iol; t=1763203314; x=1763808114; darn=dpdk.org; h=references:in-reply-to:cc:to:from:subject:message-id:date:from:to :cc:subject:date:message-id:reply-to; bh=RX/U0/xDcPbGLRBoLMoA+0VZZ7Gd/sCl6aOkhzaKv1E=; b=b/ewZCx9TjNO6YYOsSAvlWnEJPYYAoBjRt8ZQNgoQwQQCdblszKgUszIVoQhbLTu/V rxd6SbOYwGUyMSQ/Va2Z83ET0Hf/MpEV57kdHCIBAGSNLq1zBU+p0quomLPtXMjwB+FD VwoqOxV/+7EUky93bz3fTt+IyVkHVN/FHYmyU= X-Google-DKIM-Signature: v=1; a=rsa-sha256; c=relaxed/relaxed; d=1e100.net; s=20230601; t=1763203314; x=1763808114; h=references:in-reply-to:cc:to:from:subject:message-id:date:x-gm-gg :x-gm-message-state:from:to:cc:subject:date:message-id:reply-to; bh=RX/U0/xDcPbGLRBoLMoA+0VZZ7Gd/sCl6aOkhzaKv1E=; b=CRXX2aqVKcZG1ofPtR3cWfB9jgtTHfUTXSDBYVXdyt2g8rxKMDToi8xlWRFBTDVxVh uyf7cuI4/Tloj56oEXcUPYytC9hes80EoMjPCubydJ5Yc+fjYPbUONXECBSvRkdKUVNf PWGaXbNt01xZvbObGjhCY2lxg1KKgxTZ/jF9O5MkZ2hEZtt2Y1Yx7zm8TLzuE3bpL0RT 5NOgr0dgtdVY/2sDy78wKCpolFYf7wzppULI9SOITNKJ8o9Fea/Qqejj9QBxEZTKUkWc jA1NrsUnFvgWz2Qyil9nzU0rJehPgzyBYT3DaQfcP+3HKA9bZj3l2V6BuCnIXyxjd/nj lPNA== X-Gm-Message-State: AOJu0Yx1Zg+/HIemlpbM4/0TJGmrknGkVlW3S51815dtFIKtw65vDLJR paru19/y5n5aM2grxIhCTslAUD9uaXqZ9wnKh74letP2CNvQc8XNes3w8RDnoJt2Tu3VE+fiHmu qTF0zRXnqPDL5kTfKgb5TEcqu3Jjgbx5j/63sHVdEZn63BqmGOHlIpWJWqTJF X-Gm-Gg: ASbGncsi5GfXtZGfqWNu/fxgpzjH2xtx1JkOqoF+J7Ppn6DD8cpQoSe1KrInBiHG50J archMiy11nDkEdbXx0QDp7+UgSJpkgYfkVueskY+O7DHboEOSbbJrO2HMwSwA62DWZAn4Bl84r0 /0XChlYvOxuWdih2UFDo3DXPgC+QUfnRK/uXPbRhJlVVEWzk4REkyc6n0ODU8PhoPAVYlZttJli nOfSLVV6flfwRMwBluOOtUfTfDatTC2qKyAH4r0Vf5P7xNPFVsZN9z+O00e+4i+tBjx9ymBFeqw yDOMrdlh5mJjxI3Y23hBsUPvgslE9hCUwxEKurbiiO0ujbcLWhgWqCpqTPLjB2PN1gWqAzJk98+ 04+B6Fid4 X-Google-Smtp-Source: AGHT+IFfshFeDG5TYd1mRKfw7LSeB2/PiYlvfiKwyzgmGXl9vBhT7UV9toeCVl2HDwaM4OZRqU03eLx+wheG X-Received: by 2002:a05:6638:450c:b0:57b:5f8c:3f03 with SMTP id 8926c6da1cb9f-5b7c9df5704mr1848098173.15.1763203313866; Sat, 15 Nov 2025 02:41:53 -0800 (PST) Received: from postal.iol.unh.edu (postal.iol.unh.edu. [2606:4100:3880:1234::84]) by smtp-relay.gmail.com with ESMTPS id 8926c6da1cb9f-5b7bd2468dbsm383776173.2.2025.11.15.02.41.53 (version=TLS1_2 cipher=ECDHE-ECDSA-AES128-GCM-SHA256 bits=128/128); Sat, 15 Nov 2025 02:41:53 -0800 (PST) X-Relaying-Domain: iol.unh.edu Date: Sat, 15 Nov 2025 02:41:53 -0800 (PST) Message-ID: <691858f1.050a0220.1fbefb.22f5SMTPIN_ADDED_MISSING@mx.google.com> Received: from [172.21.0.2] (unknown [172.18.0.240]) by postal.iol.unh.edu (Postfix) with ESMTP id 670336051830; Sat, 15 Nov 2025 05:41:53 -0500 (EST) Subject: |SUCCESS| pw158819 [PATCH] net/mlx5: improve error on completing tab From: dpdklab@iol.unh.edu To: Test Report Cc: dpdk-test-reports@iol.unh.edu In-Reply-To: <20251114192712.1637369-1-dsosnowski@nvidia.com> References: <20251114192712.1637369-1-dsosnowski@nvidia.com> Content-Type: text/plain X-BeenThere: test-report@dpdk.org X-Mailman-Version: 2.1.29 Precedence: list List-Id: automatic DPDK test reports List-Unsubscribe: , List-Archive: List-Post: List-Help: List-Subscribe: , Errors-To: test-report-bounces@dpdk.org Test-Label: iol-unit-amd64-testing Test-Status: SUCCESS http://dpdk.org/patch/158819 _Testing PASS_ Submitter: Dariusz Sosnowski Date: Friday, November 14 2025 19:27:12 DPDK git baseline: Repo:dpdk-next-net-mlx Branch: master CommitID:ae657d56b1f0ea979b3f611edf28d773efc2ddcf 158819 --> testing pass Upstream job id: Generic-VM-Unit-Test-DPDK#32590 Test environment and result as below: +-------------------------------+----------------+ | Environment | dpdk_unit_test | +===============================+================+ | CentOS Stream 10 | PASS | +-------------------------------+----------------+ | CentOS Stream 9 | PASS | +-------------------------------+----------------+ | Debian GNU/Linux 12 | PASS | +-------------------------------+----------------+ | Fedora Linux 41 | PASS | +-------------------------------+----------------+ | Fedora Linux 40 | PASS | +-------------------------------+----------------+ | Fedora Linux 42 | PASS | +-------------------------------+----------------+ | Ubuntu 22.04 | PASS | +-------------------------------+----------------+ | Ubuntu 20.04 | PASS | +-------------------------------+----------------+ | Red Hat Enterprise Linux 9.5 | PASS | +-------------------------------+----------------+ | Red Hat Enterprise Linux 8.10 | PASS | +-------------------------------+----------------+ | Ubuntu 24.04 | PASS | +-------------------------------+----------------+ | Windows Server 2022 | PASS | +-------------------------------+----------------+ CentOS Stream 10 Kernel: 5.15 Compiler: gcc gcc (GCC) 14.2.1 20250110 (Red Hat 14.2.1-8) CentOS Stream 9 Kernel: 5.15 Compiler: gcc gcc (GCC) 11.5.0 20240719 (Red Hat 11.5.0-11) Debian GNU/Linux 12 Kernel: 5.15 Compiler: gcc gcc (Debian 12.2.0-14+deb12u1) 12.2.0 Fedora Linux 41 Kernel: 5.15 Compiler: clang gcc (GCC) 14.3.1 20250523 (Red Hat 14.3.1-1) Fedora Linux 40 Kernel: 5.15 Compiler: gcc gcc (GCC) 14.2.1 20240912 (Red Hat 14.2.1-3) Fedora Linux 42 Kernel: 5.15 Compiler: clang gcc (GCC) 15.2.1 20250808 (Red Hat 15.2.1-1) Ubuntu 22.04 Kernel: 5.15 Compiler: gcc gcc (Ubuntu 11.4.0-1ubuntu1~22.04) 11.4.0 Ubuntu 20.04 Kernel: 5.15 Compiler: gcc gcc (Ubuntu 9.4.0-1ubuntu1~20.04.2) 9.4.0 Red Hat Enterprise Linux 9.5 Kernel: 5.15 Compiler: gcc gcc (GCC) 11.5.0 20240719 (Red Hat 11.5.0-2) Red Hat Enterprise Linux 8.10 Kernel: 5.15 Compiler: gcc gcc (GCC) 8.5.0 20210514 (Red Hat 8.5.0-22) Ubuntu 24.04 Kernel: 5.15 Compiler: gcc gcc (Ubuntu 13.3.0-6ubuntu2~24.04) 13.3.0 Windows Server 2022 Kernel: 10.0.20348.2031 Compiler: clang 15.0.7, gcc 14.1.0 (MinGW), and MSVC VS 19.39.33521 To view detailed results, visit: https://lab.dpdk.org/results/dashboard/patchsets/34601/ UNH-IOL DPDK Community Lab To manage your email subscriptions, visit: https://lab.dpdk.org/results/dashboard/preferences/subscriptions/