From mboxrd@z Thu Jan 1 00:00:00 1970 Return-Path: Received: from mails.dpdk.org (mails.dpdk.org [217.70.189.124]) by inbox.dpdk.org (Postfix) with ESMTP id 1F1C948B17 for ; Sat, 15 Nov 2025 11:47:14 +0100 (CET) Received: from mails.dpdk.org (localhost [127.0.0.1]) by mails.dpdk.org (Postfix) with ESMTP id 0313F40A80; Sat, 15 Nov 2025 11:47:14 +0100 (CET) Received: from mail-il1-f226.google.com (mail-il1-f226.google.com [209.85.166.226]) by mails.dpdk.org (Postfix) with ESMTP id 42A5840A80 for ; Sat, 15 Nov 2025 11:47:12 +0100 (CET) Received: by mail-il1-f226.google.com with SMTP id e9e14a558f8ab-43346da8817so15257685ab.0 for ; Sat, 15 Nov 2025 02:47:12 -0800 (PST) DKIM-Signature: v=1; a=rsa-sha256; c=relaxed/relaxed; d=iol.unh.edu; s=unh-iol; t=1763203631; x=1763808431; darn=dpdk.org; h=references:in-reply-to:cc:to:from:subject:message-id:date:from:to :cc:subject:date:message-id:reply-to; bh=177P9W77zcSB3rBaiAcTrb85t8JYl7lpFvnLIR/+4Yc=; b=GpJQODfTG07cMntDrd5z6ZRUW9p990ulAgqngR/KiPfHCbfw2t9AacRNYs8UNN+FRO ILZRdS2Qmv6AsEnZAfHufFCjXarK7NQvaF8h3l7RVYnPAOHVV57nrSE4wGznaEilC8FB gmQWelrqy0FQPm/FoG7t/hWDF8ieDFKgoeWQA= X-Google-DKIM-Signature: v=1; a=rsa-sha256; c=relaxed/relaxed; d=1e100.net; s=20230601; t=1763203631; x=1763808431; h=references:in-reply-to:cc:to:from:subject:message-id:date:x-gm-gg :x-gm-message-state:from:to:cc:subject:date:message-id:reply-to; bh=177P9W77zcSB3rBaiAcTrb85t8JYl7lpFvnLIR/+4Yc=; b=nMy7kFMAaZMhKVzHzmmr9rtSXSSb1lJ3IMxzyTiStPA4nunFd97uvM2FW2FFTpksAO F7MBDkuHFL+pBlvxf5m+tQQfwdyIbmtxDFccqp4Aoi0GVWynNMYMz59UTTg2geSvlNxd izWpowanW7QJExBHZlLk+/tGmQKkPtw1SvUQzhqXieaMOHUcUvXBkzO09XRyJTz9mCtQ Jwr4SKI3sdFIeJrfR7cxAYdRpeHWSfrNxd52kaUPEPXIjoCol8PJIf79ob9Se3tzaKLH rGiR+tHh0qCs5nhKfWEswK6pnRKxujQjIl4JKm4NNlaGUcSDMyaJBBXzPFm9oVhtO+0f 7pCw== X-Gm-Message-State: AOJu0YxrogTUXh2W97salpTJSADv3wXW3NfVwimRQ94pKDyEC4QigYbJ GQzTeUPWRjzYg4JdyB1MWqeYT0MdrNE34AvZ7Mt0gDCMgD6RaoAcYi8IvCX4/yPZJ1vfM8WVScm g3tIfh7K12nt+q6/ssib8ofHIYkywz3Qhs7aq4KWeWuPItx6HmcqpRYk+TWoX X-Gm-Gg: ASbGncv4r8+RTOGrSOcx413bBkKTP1IO/6RC37HO7A78QclEp7T9LnXPGdsuYxx0OQu uhwmon89v6QhjaW8RgGyI8N/OoiN8Qg6a2IkC8v6e47OpdrHppvI5T9qI2O9XK5au2r6oEulyHJ V2F/sE/ODNUiTbelbmLUkrSTD2yObMU+NJdfrZBnUX54ngEOr3S1iJi/GPhDlwKWEQQcJlDElDM nOAotsKl3if0IVxu8Y4LvF2EVTlgWVYFnT9Y7z66LV9NcUVXRUf6T0AE9v/r/CbcSgDLIvTQ+No NnsLktG0jnX9Yc6+pniQwWNM5Jh8gnDIphG6gWn3c0kWZH3MpoKydRwokr/3U0uJQNp/IvufBCY h34TilH/w X-Google-Smtp-Source: AGHT+IEVMTDrErtpkysp8/rXnL6sSiuEtex78sSAevm+Y8CUKkjCO56h+Ov4aHR8DZX1SGv8CnPniBrspxeS X-Received: by 2002:a92:d9c9:0:b0:433:7822:471 with SMTP id e9e14a558f8ab-4347c31d046mr114538625ab.1.1763203631527; Sat, 15 Nov 2025 02:47:11 -0800 (PST) Received: from postal.iol.unh.edu (postal.iol.unh.edu. [2606:4100:3880:1234::84]) by smtp-relay.gmail.com with ESMTPS id e9e14a558f8ab-434833c5ff7sm6923655ab.4.2025.11.15.02.47.11 (version=TLS1_2 cipher=ECDHE-ECDSA-AES128-GCM-SHA256 bits=128/128); Sat, 15 Nov 2025 02:47:11 -0800 (PST) X-Relaying-Domain: iol.unh.edu Date: Sat, 15 Nov 2025 02:47:11 -0800 (PST) Message-ID: <69185a2f.050a0220.6b576.1d5fSMTPIN_ADDED_MISSING@mx.google.com> Received: from [172.21.0.2] (unknown [172.18.0.240]) by postal.iol.unh.edu (Postfix) with ESMTP id 049666051830; Sat, 15 Nov 2025 05:47:11 -0500 (EST) Subject: |SUCCESS| pw158772 [PATCH] [v2] net/axgbe: fix the build warning for From: dpdklab@iol.unh.edu To: Test Report Cc: dpdk-test-reports@iol.unh.edu, Stephen Hemminger In-Reply-To: <20251113164109.522-1-VenkatKumar.Ande@amd.com> References: <20251113164109.522-1-VenkatKumar.Ande@amd.com> Content-Type: text/plain X-BeenThere: test-report@dpdk.org X-Mailman-Version: 2.1.29 Precedence: list List-Id: automatic DPDK test reports List-Unsubscribe: , List-Archive: List-Post: List-Help: List-Subscribe: , Errors-To: test-report-bounces@dpdk.org Test-Label: iol-compile-amd64-testing Test-Status: SUCCESS http://dpdk.org/patch/158772 _Testing PASS_ Submitter: Venkat Kumar Ande Date: Thursday, November 13 2025 16:41:09 DPDK git baseline: Repo:dpdk-next-net Branch: master CommitID:fca6f2910345c25a5050a0b586e0d324ca616cbb 158772 --> testing pass Upstream job id: Windows-Compile-DPDK-Native#32382 Test environment and result as below: +-------------------------------+--------------------+------------------+-------------------+-------------------------+ | Environment | dpdk_meson_compile | dpdk_compile_ovs | dpdk_msvc_compile | dpdk_llvm_clang_compile | +===============================+====================+==================+===================+=========================+ | Ubuntu 20.04 | PASS | SKIPPED | SKIPPED | SKIPPED | +-------------------------------+--------------------+------------------+-------------------+-------------------------+ | FreeBSD 14.2 | PASS | SKIPPED | SKIPPED | SKIPPED | +-------------------------------+--------------------+------------------+-------------------+-------------------------+ | CentOS Stream 9 | PASS | SKIPPED | SKIPPED | SKIPPED | +-------------------------------+--------------------+------------------+-------------------+-------------------------+ | Fedora Linux 42 | PASS | PASS | SKIPPED | SKIPPED | +-------------------------------+--------------------+------------------+-------------------+-------------------------+ | Debian GNU/Linux 12 | PASS | SKIPPED | SKIPPED | SKIPPED | +-------------------------------+--------------------+------------------+-------------------+-------------------------+ | CentOS Stream 10 | PASS | SKIPPED | SKIPPED | SKIPPED | +-------------------------------+--------------------+------------------+-------------------+-------------------------+ | openSUSE Leap 15.6 | PASS | SKIPPED | SKIPPED | SKIPPED | +-------------------------------+--------------------+------------------+-------------------+-------------------------+ | Red Hat Enterprise Linux 8.10 | PASS | SKIPPED | SKIPPED | SKIPPED | +-------------------------------+--------------------+------------------+-------------------+-------------------------+ | Red Hat Enterprise Linux 9.5 | PASS | SKIPPED | SKIPPED | SKIPPED | +-------------------------------+--------------------+------------------+-------------------+-------------------------+ | Ubuntu 22.04 | PASS | SKIPPED | SKIPPED | SKIPPED | +-------------------------------+--------------------+------------------+-------------------+-------------------------+ | Ubuntu 24.04 | PASS | PASS | SKIPPED | SKIPPED | +-------------------------------+--------------------+------------------+-------------------+-------------------------+ | Alpine Linux 3.22.0 | PASS | SKIPPED | SKIPPED | SKIPPED | +-------------------------------+--------------------+------------------+-------------------+-------------------------+ | Windows Server 2022 | SKIPPED | SKIPPED | PASS | PASS | +-------------------------------+--------------------+------------------+-------------------+-------------------------+ Ubuntu 20.04 Kernel: 4.19 Compiler: gcc gcc (Ubuntu 9.4.0-1ubuntu1~20.04.2) 9.4.0 FreeBSD 14.2 Kernel: 14.2-RELEASE Compiler: clang 18.1.6 CentOS Stream 9 Kernel: 5.15 Compiler: gcc gcc (GCC) 11.5.0 20240719 (Red Hat 11.5.0-11) Fedora Linux 42 Kernel: 5.15 Compiler: clang gcc (GCC) 15.2.1 20250808 (Red Hat 15.2.1-1) Debian GNU/Linux 12 Kernel: 5.15 Compiler: gcc gcc (Debian 12.2.0-14+deb12u1) 12.2.0 CentOS Stream 10 Kernel: 5.15 Compiler: gcc gcc (GCC) 14.2.1 20250110 (Red Hat 14.2.1-8) openSUSE Leap 15.6 Kernel: 5.15 Compiler: gcc gcc (SUSE Linux) 7.5.0 Red Hat Enterprise Linux 8.10 Kernel: 5.15 Compiler: gcc gcc (GCC) 8.5.0 20210514 (Red Hat 8.5.0-22) Red Hat Enterprise Linux 9.5 Kernel: 5.15 Compiler: gcc gcc (GCC) 11.5.0 20240719 (Red Hat 11.5.0-2) Ubuntu 22.04 Kernel: 5.15 Compiler: gcc gcc (Ubuntu 11.4.0-1ubuntu1~22.04) 11.4.0 Ubuntu 24.04 Kernel: 5.15 Compiler: gcc gcc (Ubuntu 13.3.0-6ubuntu2~24.04) 13.3.0 Alpine Linux 3.22.0 Kernel: 5.15 Compiler: gcc gcc (Alpine 14.2.0) 14.2.0 Windows Server 2022 Kernel: 10.0.20348.2031 Compiler: clang 15.0.7, gcc 14.1.0 (MinGW), and MSVC VS 19.39.33521 To view detailed results, visit: https://lab.dpdk.org/results/dashboard/patchsets/34580/ UNH-IOL DPDK Community Lab To manage your email subscriptions, visit: https://lab.dpdk.org/results/dashboard/preferences/subscriptions/