From mboxrd@z Thu Jan 1 00:00:00 1970 Return-Path: Received: from mails.dpdk.org (mails.dpdk.org [217.70.189.124]) by inbox.dpdk.org (Postfix) with ESMTP id 0935D48B17 for ; Sat, 15 Nov 2025 11:56:12 +0100 (CET) Received: from mails.dpdk.org (localhost [127.0.0.1]) by mails.dpdk.org (Postfix) with ESMTP id DB16940A80; Sat, 15 Nov 2025 11:56:11 +0100 (CET) Received: from mail-qt1-f227.google.com (mail-qt1-f227.google.com [209.85.160.227]) by mails.dpdk.org (Postfix) with ESMTP id 3B1CE40A80 for ; Sat, 15 Nov 2025 11:56:10 +0100 (CET) Received: by mail-qt1-f227.google.com with SMTP id d75a77b69052e-4ee14ba3d9cso712271cf.1 for ; Sat, 15 Nov 2025 02:56:10 -0800 (PST) DKIM-Signature: v=1; a=rsa-sha256; c=relaxed/relaxed; d=iol.unh.edu; s=unh-iol; t=1763204169; x=1763808969; darn=dpdk.org; h=references:in-reply-to:cc:to:from:subject:message-id:date:from:to :cc:subject:date:message-id:reply-to; bh=X2RStgvk8hQX4ThSoKgM5zsQ1dR5pJfWzll7O2Nx/PY=; b=hzexFXzrikddnNXXSDCBTzXBTWXU0QQplsSsz7/nwevbgZLx9uB4poQ5ePkVq8BuDz 8pa+OAOiXpp9VyhRUZl5LsNZLpSU4FTHWXH8QtnFtlU/qDB83EkIgAlI2rmL9+l/jsdX doMVfNjdyLawTzeimifQVLZSEWWZkrG/D+4iY= X-Google-DKIM-Signature: v=1; a=rsa-sha256; c=relaxed/relaxed; d=1e100.net; s=20230601; t=1763204169; x=1763808969; h=references:in-reply-to:cc:to:from:subject:message-id:date:x-gm-gg :x-gm-message-state:from:to:cc:subject:date:message-id:reply-to; bh=X2RStgvk8hQX4ThSoKgM5zsQ1dR5pJfWzll7O2Nx/PY=; b=I9CPAKTO5BeoHMScYvGvuUfSOL8tMgCwpdNlAkZl3VTJzzHWNnfswxDvOXjSrzRn7v iRYoWJODkgcN2M/VbhbSULdj1GAMRWZ2yhk1k8xuRLC7tMoYF+gdL/p8Jx4my/pioEwm u5cm39FyS2zm3jdyYm9M8hsl4V64HxWjeimXLIbkekhIR5C/aysBpe0q4TsLC2AY3zH3 hsnrhDf/1OtWQngqL8sV3qLp6IS7xFB04nH4rZ5U8giOihYdsP7wB/8VpVaUzwL6HaLI uziWYwALdxUv1rwvYeiHXvAgeAkQ1UznyaRW1vSAUZqhOhOSmjHo1QxvIUyYOK9OnXCO atCA== X-Gm-Message-State: AOJu0Yxy/axIrXXLN9ipyjUHVJEbgiG1exariZQrlD0T5kioB80l+OP+ ZsLOip0gdVpXmKw4bNp+MoXmVBtj0fCtsf6a6yJlm/+EwrvrNjJTcSTe5uiJ+2ujv3ttzaAN3F5 r/3FiVbdfzAJ8rlfDg30bKyycqQU7BcfNFL0wW+JLKWaC X-Gm-Gg: ASbGncsRxwdjz2+F9ptzja187AylbiEskExDa9fq8mCfn6sFD/u8RhJiHolvfmAVIuN DKDn5Gyw6CgpqpGHIRUfewJ+PGMRwS2mvXnOoiWphi7E+7SAbvq+Jj+Exs1i18iyoTm/cOdAW8y aT3LX/yFSmvTu8tIKpm7Yz7dH+TpfCAnZ6pCVtkziIXtWebROMjJP71bWv8oDP7h3xTaXJImZZR 7D5zNupkXgg1lSQQMAabrhyhPTF6yEilS5ecsATEtDbPH+cY51CRTbNPwl45CdDH4E08fR7FgK8 g5lMsBEYeANLTsM0EbhSatnq6czdiEHFX+28suefEg8/QEov0W3f0Qm/+w+9INc7YhiwuY0BqiZ Wqoh1PpGg+1HrXgUpdoee9K1IkQb2fBY= X-Google-Smtp-Source: AGHT+IFaPCDSQvAp7ao9dyGiKV44CQ8PwjxgBwAgFWVnatfKKFpD8/D6vBiT/mFkbPY/cjC653nndFor/VMh X-Received: by 2002:a05:622a:1104:b0:4e8:9704:7c83 with SMTP id d75a77b69052e-4edf204846emr82807861cf.14.1763204169432; Sat, 15 Nov 2025 02:56:09 -0800 (PST) Received: from postal.iol.unh.edu (postal.iol.unh.edu. [132.177.123.84]) by smtp-relay.gmail.com with ESMTPS id 6a1803df08f44-88286342d97sm8903666d6.13.2025.11.15.02.56.09 (version=TLS1_2 cipher=ECDHE-ECDSA-AES128-GCM-SHA256 bits=128/128); Sat, 15 Nov 2025 02:56:09 -0800 (PST) X-Relaying-Domain: iol.unh.edu Date: Sat, 15 Nov 2025 02:56:09 -0800 (PST) Message-ID: <69185c49.d40a0220.1fd167.b538SMTPIN_ADDED_MISSING@mx.google.com> Received: from [172.21.0.3] (unknown [172.18.0.240]) by postal.iol.unh.edu (Postfix) with ESMTP id 1AE186051830; Sat, 15 Nov 2025 05:56:09 -0500 (EST) Subject: |SUCCESS| pw158772 [PATCH] [v2] net/axgbe: fix the build warning for From: dpdklab@iol.unh.edu To: Test Report Cc: dpdk-test-reports@iol.unh.edu, Stephen Hemminger In-Reply-To: <20251113164109.522-1-VenkatKumar.Ande@amd.com> References: <20251113164109.522-1-VenkatKumar.Ande@amd.com> Content-Type: text/plain X-BeenThere: test-report@dpdk.org X-Mailman-Version: 2.1.29 Precedence: list List-Id: automatic DPDK test reports List-Unsubscribe: , List-Archive: List-Post: List-Help: List-Subscribe: , Errors-To: test-report-bounces@dpdk.org Test-Label: iol-compile-amd64-testing Test-Status: SUCCESS http://dpdk.org/patch/158772 _Testing PASS_ Submitter: Venkat Kumar Ande Date: Thursday, November 13 2025 16:41:09 DPDK git baseline: Repo:dpdk-next-net Branch: master CommitID:fca6f2910345c25a5050a0b586e0d324ca616cbb 158772 --> testing pass Upstream job id: Windows-Compile-DPDK-Native#32383 Test environment and result as below: +-------------------------------+--------------------+------------------+-------------------+-------------------------+----------------------+ | Environment | dpdk_meson_compile | dpdk_compile_ovs | dpdk_msvc_compile | dpdk_llvm_clang_compile | dpdk_mingw64_compile | +===============================+====================+==================+===================+=========================+======================+ | Ubuntu 20.04 | PASS | SKIPPED | SKIPPED | SKIPPED | SKIPPED | +-------------------------------+--------------------+------------------+-------------------+-------------------------+----------------------+ | FreeBSD 14.2 | PASS | SKIPPED | SKIPPED | SKIPPED | SKIPPED | +-------------------------------+--------------------+------------------+-------------------+-------------------------+----------------------+ | CentOS Stream 9 | PASS | SKIPPED | SKIPPED | SKIPPED | SKIPPED | +-------------------------------+--------------------+------------------+-------------------+-------------------------+----------------------+ | Fedora Linux 42 | PASS | PASS | SKIPPED | SKIPPED | SKIPPED | +-------------------------------+--------------------+------------------+-------------------+-------------------------+----------------------+ | Debian GNU/Linux 12 | PASS | SKIPPED | SKIPPED | SKIPPED | SKIPPED | +-------------------------------+--------------------+------------------+-------------------+-------------------------+----------------------+ | CentOS Stream 10 | PASS | SKIPPED | SKIPPED | SKIPPED | SKIPPED | +-------------------------------+--------------------+------------------+-------------------+-------------------------+----------------------+ | openSUSE Leap 15.6 | PASS | SKIPPED | SKIPPED | SKIPPED | SKIPPED | +-------------------------------+--------------------+------------------+-------------------+-------------------------+----------------------+ | Red Hat Enterprise Linux 8.10 | PASS | SKIPPED | SKIPPED | SKIPPED | SKIPPED | +-------------------------------+--------------------+------------------+-------------------+-------------------------+----------------------+ | Red Hat Enterprise Linux 9.5 | PASS | SKIPPED | SKIPPED | SKIPPED | SKIPPED | +-------------------------------+--------------------+------------------+-------------------+-------------------------+----------------------+ | Ubuntu 22.04 | PASS | SKIPPED | SKIPPED | SKIPPED | SKIPPED | +-------------------------------+--------------------+------------------+-------------------+-------------------------+----------------------+ | Ubuntu 24.04 | PASS | PASS | SKIPPED | SKIPPED | SKIPPED | +-------------------------------+--------------------+------------------+-------------------+-------------------------+----------------------+ | Alpine Linux 3.22.0 | PASS | SKIPPED | SKIPPED | SKIPPED | SKIPPED | +-------------------------------+--------------------+------------------+-------------------+-------------------------+----------------------+ | Windows Server 2022 | SKIPPED | SKIPPED | PASS | PASS | PASS | +-------------------------------+--------------------+------------------+-------------------+-------------------------+----------------------+ Ubuntu 20.04 Kernel: 4.19 Compiler: gcc gcc (Ubuntu 9.4.0-1ubuntu1~20.04.2) 9.4.0 FreeBSD 14.2 Kernel: 14.2-RELEASE Compiler: clang 18.1.6 CentOS Stream 9 Kernel: 5.15 Compiler: gcc gcc (GCC) 11.5.0 20240719 (Red Hat 11.5.0-11) Fedora Linux 42 Kernel: 5.15 Compiler: clang gcc (GCC) 15.2.1 20250808 (Red Hat 15.2.1-1) Debian GNU/Linux 12 Kernel: 5.15 Compiler: gcc gcc (Debian 12.2.0-14+deb12u1) 12.2.0 CentOS Stream 10 Kernel: 5.15 Compiler: gcc gcc (GCC) 14.2.1 20250110 (Red Hat 14.2.1-8) openSUSE Leap 15.6 Kernel: 5.15 Compiler: gcc gcc (SUSE Linux) 7.5.0 Red Hat Enterprise Linux 8.10 Kernel: 5.15 Compiler: gcc gcc (GCC) 8.5.0 20210514 (Red Hat 8.5.0-22) Red Hat Enterprise Linux 9.5 Kernel: 5.15 Compiler: gcc gcc (GCC) 11.5.0 20240719 (Red Hat 11.5.0-2) Ubuntu 22.04 Kernel: 5.15 Compiler: gcc gcc (Ubuntu 11.4.0-1ubuntu1~22.04) 11.4.0 Ubuntu 24.04 Kernel: 5.15 Compiler: gcc gcc (Ubuntu 13.3.0-6ubuntu2~24.04) 13.3.0 Alpine Linux 3.22.0 Kernel: 5.15 Compiler: gcc gcc (Alpine 14.2.0) 14.2.0 Windows Server 2022 Kernel: 10.0.20348.2031 Compiler: clang 15.0.7, gcc 14.1.0 (MinGW), and MSVC VS 19.39.33521 To view detailed results, visit: https://lab.dpdk.org/results/dashboard/patchsets/34580/ UNH-IOL DPDK Community Lab To manage your email subscriptions, visit: https://lab.dpdk.org/results/dashboard/preferences/subscriptions/