From mboxrd@z Thu Jan 1 00:00:00 1970 Return-Path: Received: from mails.dpdk.org (mails.dpdk.org [217.70.189.124]) by inbox.dpdk.org (Postfix) with ESMTP id 2AED648B19 for ; Sat, 15 Nov 2025 12:05:50 +0100 (CET) Received: from mails.dpdk.org (localhost [127.0.0.1]) by mails.dpdk.org (Postfix) with ESMTP id 25D7D40A80; Sat, 15 Nov 2025 12:05:50 +0100 (CET) Received: from mail-pg1-f226.google.com (mail-pg1-f226.google.com [209.85.215.226]) by mails.dpdk.org (Postfix) with ESMTP id 19C4240A80 for ; Sat, 15 Nov 2025 12:05:49 +0100 (CET) Received: by mail-pg1-f226.google.com with SMTP id 41be03b00d2f7-ba2450aba80so1628924a12.1 for ; Sat, 15 Nov 2025 03:05:49 -0800 (PST) DKIM-Signature: v=1; a=rsa-sha256; c=relaxed/relaxed; d=iol.unh.edu; s=unh-iol; t=1763204748; x=1763809548; darn=dpdk.org; h=references:in-reply-to:cc:to:from:subject:message-id:date:from:to :cc:subject:date:message-id:reply-to; bh=lc9J6V7b1UnmiG/wqf10VzsDgvJ7XpxaXREry6yEuVM=; b=LsKeMHaAYFEQTEVc70o58k7UHEdUD560hFTWC1OKj5WZ2BAhRoTXjH0Pvn/BRZdXul bjNKf2avQU9xO+DYhbJMs3jjmLNzaNVRAvyig37B59KbFQhBkBKNPWKufWUN1VWcKch4 dPhV5j5i/+wnPVAvE7Vrlybu3r9+akC4Jk+Y8= X-Google-DKIM-Signature: v=1; a=rsa-sha256; c=relaxed/relaxed; d=1e100.net; s=20230601; t=1763204748; x=1763809548; h=references:in-reply-to:cc:to:from:subject:message-id:date:x-gm-gg :x-gm-message-state:from:to:cc:subject:date:message-id:reply-to; bh=lc9J6V7b1UnmiG/wqf10VzsDgvJ7XpxaXREry6yEuVM=; b=iNvFumKHjur347f6LlDzaWFNiH8iIa2EaescQXcU5BG/XD9pIoDEQ+AvGrrQFadSzi nF5EHkFaNasbRVebJs900sPoaJN+uzoioB+dSRr1XDR+neGTwH133F7VJXLCasOjoTWl K4RxIjTdfbcmTikG6Ders+yj5YqGBYSUI9aRYbL9KRIcVmxVX0jqGKFwrHXHOFZEfAi8 VtmaZoFIXZu3gOUmt2jwzbiC0gzVbsJsUZ8X0Qjg3SRH940F1L1CXKhiyHlVG2V6v+Gd U0aHXpM451IMCaOX2wAd5BT0kTfnZ6Hf8wEI1Mr348LuEkjLF5tfusbyo/5C7DO/oYfn DKNw== X-Gm-Message-State: AOJu0YyH5AwifOowVSR2o02fp//FBtDs7lWR318BIclvKOX/GDPYlvq2 xVmSCSd7L9YxOpTa+wgTOK6yvC9zy4vyUmAXvi+v0O6/SX2aoXWNsH3zxAOQxDXHxNgvWXyybj0 buw9nViiAJJWrk8bUSVhVwNLvDSU9FH+hIDm+F1UuOq8BJh1Okdj2PtsiSfXj X-Gm-Gg: ASbGncuUk8uMdXrjnxxDowgY1NHk9M+m2OMdQzCAHSZlfv7aK3D65Ig3/xwEXkF4S/C 5fNWyJjw/FLO8OT5YslYPYJl7n5zQ/5RZia8mGtW+utVEPY0Ra1HGph1nGTGtPn8HlYx25vnd2u oNBazU5w5gyXO6aPXvKNaXNwz7qAI+dzVPSAnl/LNIr/xpLenPyzOr7A/BySnaiANi7Tqpfv5O+ /O+h/XBcZbnZtAkYtsEm6Nfz4N6oCRHQ9bjufKD7/i/AejSwt20DkcYgAwFzmmRxaIOocK/ixgK KbLlpMGVFYqLRIqYx6Cx9sP+o9ku/ghO5eKHVLNe1FrAi19kitrvOKPHUqfKIAIGeRDZKzowNG+ 6mVpia1Kt X-Google-Smtp-Source: AGHT+IGl1poWQ+d7ckEOEBlekiEtwWf5wbysjO0DK6ZRwtS0WKjHY4CXv+lqjxfJgMljGQxDSFs1MXnHmDAI X-Received: by 2002:a05:7301:903:b0:2a4:3592:c604 with SMTP id 5a478bee46e88-2a4abb25f30mr2398642eec.21.1763204747983; Sat, 15 Nov 2025 03:05:47 -0800 (PST) Received: from postal.iol.unh.edu (postal.iol.unh.edu. [2606:4100:3880:1234::84]) by smtp-relay.gmail.com with ESMTPS id 5a478bee46e88-2a49dad2627sm634136eec.2.2025.11.15.03.05.47 (version=TLS1_2 cipher=ECDHE-ECDSA-AES128-GCM-SHA256 bits=128/128); Sat, 15 Nov 2025 03:05:47 -0800 (PST) X-Relaying-Domain: iol.unh.edu Date: Sat, 15 Nov 2025 03:05:47 -0800 (PST) Message-ID: <69185e8b.050a0220.259e27.f13dSMTPIN_ADDED_MISSING@mx.google.com> Received: from [172.21.0.2] (unknown [172.18.0.240]) by postal.iol.unh.edu (Postfix) with ESMTP id 0D58D6051830; Sat, 15 Nov 2025 06:05:47 -0500 (EST) Subject: |SUCCESS| pw158820 [PATCH] [v2] devtools: ignore new warnings on rep From: dpdklab@iol.unh.edu To: Test Report Cc: dpdk-test-reports@iol.unh.edu In-Reply-To: <20251114200640.1639056-1-dsosnowski@nvidia.com> References: <20251114200640.1639056-1-dsosnowski@nvidia.com> Content-Type: text/plain X-BeenThere: test-report@dpdk.org X-Mailman-Version: 2.1.29 Precedence: list List-Id: automatic DPDK test reports List-Unsubscribe: , List-Archive: List-Post: List-Help: List-Subscribe: , Errors-To: test-report-bounces@dpdk.org Test-Label: iol-unit-amd64-testing Test-Status: SUCCESS http://dpdk.org/patch/158820 _Testing PASS_ Submitter: Dariusz Sosnowski Date: Friday, November 14 2025 20:06:40 DPDK git baseline: Repo:dpdk Branch: master CommitID:be0112878b4fc3a1b918370ed2fe615c52039d77 158820 --> testing pass Upstream job id: Generic-VM-Unit-Test-DPDK#32591 Test environment and result as below: +-------------------------------+----------------+ | Environment | dpdk_unit_test | +===============================+================+ | CentOS Stream 9 | PASS | +-------------------------------+----------------+ | CentOS Stream 10 | PASS | +-------------------------------+----------------+ | Fedora Linux 42 | PASS | +-------------------------------+----------------+ | Fedora Linux 41 | PASS | +-------------------------------+----------------+ | Debian GNU/Linux 12 | PASS | +-------------------------------+----------------+ | Fedora Linux 40 | PASS | +-------------------------------+----------------+ | Red Hat Enterprise Linux 9.5 | PASS | +-------------------------------+----------------+ | Red Hat Enterprise Linux 8.10 | PASS | +-------------------------------+----------------+ | Ubuntu 20.04 | PASS | +-------------------------------+----------------+ | Ubuntu 22.04 | PASS | +-------------------------------+----------------+ | Ubuntu 24.04 | PASS | +-------------------------------+----------------+ | Windows Server 2022 | PASS | +-------------------------------+----------------+ CentOS Stream 9 Kernel: 5.15 Compiler: gcc gcc (GCC) 11.5.0 20240719 (Red Hat 11.5.0-11) CentOS Stream 10 Kernel: 5.15 Compiler: gcc gcc (GCC) 14.2.1 20250110 (Red Hat 14.2.1-8) Fedora Linux 42 Kernel: 5.15 Compiler: clang gcc (GCC) 15.2.1 20250808 (Red Hat 15.2.1-1) Fedora Linux 41 Kernel: 5.15 Compiler: gcc gcc (GCC) 14.3.1 20250523 (Red Hat 14.3.1-1) Debian GNU/Linux 12 Kernel: 5.15 Compiler: gcc gcc (Debian 12.2.0-14+deb12u1) 12.2.0 Fedora Linux 40 Kernel: 5.15 Compiler: gcc gcc (GCC) 14.2.1 20240912 (Red Hat 14.2.1-3) Red Hat Enterprise Linux 9.5 Kernel: 5.15 Compiler: gcc gcc (GCC) 11.5.0 20240719 (Red Hat 11.5.0-2) Red Hat Enterprise Linux 8.10 Kernel: 5.15 Compiler: gcc gcc (GCC) 8.5.0 20210514 (Red Hat 8.5.0-22) Ubuntu 20.04 Kernel: 5.15 Compiler: gcc gcc (Ubuntu 9.4.0-1ubuntu1~20.04.2) 9.4.0 Ubuntu 22.04 Kernel: 5.15 Compiler: gcc gcc (Ubuntu 11.4.0-1ubuntu1~22.04) 11.4.0 Ubuntu 24.04 Kernel: 5.15 Compiler: gcc gcc (Ubuntu 13.3.0-6ubuntu2~24.04) 13.3.0 Windows Server 2022 Kernel: 10.0.20348.2031 Compiler: clang 15.0.7, gcc 14.1.0 (MinGW), and MSVC VS 19.39.33521 To view detailed results, visit: https://lab.dpdk.org/results/dashboard/patchsets/34602/ UNH-IOL DPDK Community Lab To manage your email subscriptions, visit: https://lab.dpdk.org/results/dashboard/preferences/subscriptions/